{"text_format":"1","workbook":"xlsx","n_sheets":6,"sheets":["Sheet1","Sheet5","Sheet4","Sheet3","Sheet2","Sheet3 (2)"],"not_rendered":{"charts":0,"images":2,"macros":1,"external_links":1,"defined_names":1,"comments":0,"pivot_tables":0},"unopened":[],"bounds":{"document_bytes":16777216,"sheet_cells":100000,"rows_first":2000,"rows_last":500,"rows_between":2000,"halvings":0,"cell_chars":16384,"cell_head_chars":4096},"cells_cut":0,"cells_raw":0,"read":"whole","date_system":"1900"}

{"sheet":"Sheet1","index":0,"n_rows":48,"n_cols":40,"rows_kept":48,"cut":false,"hidden":false,"merged":[]}
[null,null,null,null,null,null,null,null,null,null,null,null,null,"会議室予約状況",null,null,null,null,null,null,null,"この表は"]
[null,null,null,8,null,9,null,10,null,11,null,12,null,13,null,14,null,15,null,16,null,17,null,18,null,19,null,20]
[{"$f":"WEEKDAY(C3,2)","v":1},{"$f":"MONTH(C3)","v":4},{"$f":"Sheet3!E14","v":"2025-04-28"},{"$f":"IF(Sheet5!B3=2,Sheet5!B3,Sheet5!B3)","v":0},{"$f":"IF(Sheet5!C3=2,Sheet5!C3,IF(D3=1,1,Sheet5!C3))","v":0},{"$f":"IF(Sheet5!D3=2,Sheet5!D3,IF(E3=1,1,Sheet5!D3))","v":0},{"$f":"IF(Sheet5!E3=2,Sheet5!E3,IF(F3=1,1,Sheet5!E3))","v":0},{"$f":"IF(Sheet5!F3=2,Sheet5!F3,IF(G3=1,1,Sheet5!F3))","v":0},{"$f":"IF(Sheet5!G3=2,Sheet5!G3,IF(H3=1,1,Sheet5!G3))","v":0},{"$f":"IF(Sheet5!H3=2,Sheet5!H3,IF(I3=1,1,Sheet5!H3))","v":0},{"$f":"IF(Sheet5!I3=2,Sheet5!I3,IF(J3=1,1,Sheet5!I3))","v":0},{"$f":"IF(Sheet5!J3=2,Sheet5!J3,IF(K3=1,1,Sheet5!J3))","v":0},{"$f":"IF(Sheet5!K3=2,Sheet5!K3,IF(L3=1,1,Sheet5!K3))","v":0},{"$f":"IF(Sheet5!L3=2,Sheet5!L3,IF(M3=1,1,Sheet5!L3))","v":0},{"$f":"IF(Sheet5!M3=2,Sheet5!M3,IF(N3=1,1,Sheet5!M3))","v":0},{"$f":"IF(Sheet5!N3=2,Sheet5!N3,IF(O3=1,1,Sheet5!N3))","v":0},{"$f":"IF(Sheet5!O3=2,Sheet5!O3,IF(P3=1,1,Sheet5!O3))","v":0},{"$f":"IF(Sheet5!P3=2,Sheet5!P3,IF(Q3=1,1,Sheet5!P3))","v":0},{"$f":"IF(Sheet5!Q3=2,Sheet5!Q3,IF(R3=1,1,Sheet5!Q3))","v":0},{"$f":"IF(Sheet5!R3=2,Sheet5!R3,IF(S3=1,1,Sheet5!R3))","v":0},{"$f":"IF(Sheet5!S3=2,Sheet5!S3,IF(T3=1,1,Sheet5!S3))","v":0},{"$f":"IF(Sheet5!T3=2,Sheet5!T3,IF(U3=1,1,Sheet5!T3))","v":0},{"$f":"IF(Sheet5!U3=2,Sheet5!U3,IF(V3=1,1,Sheet5!U3))","v":0},{"$f":"IF(Sheet5!V3=2,Sheet5!V3,IF(W3=1,1,Sheet5!V3))","v":0},{"$f":"IF(Sheet5!W3=2,Sheet5!W3,IF(X3=1,1,Sheet5!W3))","v":0},{"$f":"IF(Sheet5!X3=2,Sheet5!X3,IF(Y3=1,1,Sheet5!X3))","v":0},{"$f":"IF(Sheet5!Y3=2,Sheet5!Y3,IF(Z3=1,1,Sheet5!Y3))","v":0},{"$f":"IF(Sheet5!Z3=2,Sheet5!Z3,IF(AA3=1,1,Sheet5!Z3))","v":0},{"$f":"IF(Sheet5!AA3=2,Sheet5!AA3,IF(AB3=1,1,Sheet5!AA3))","v":0},null,null,null,null,null,null,null,null,{"$f":"COUNTIF('Sheet3 (2)'!$H$2:$H$37,C3)","v":0},{"$f":"IF(A3>5,1,0)","v":0},{"$f":"AL3+AM3","v":0}]
[{"$f":"WEEKDAY(C4,2)","v":2},{"$f":"MONTH(C4)","v":4},{"$f":"C3+1","v":"2025-04-29"},{"$f":"IF(Sheet5!B4=2,Sheet5!B4,Sheet5!B4)","v":0},{"$f":"IF(Sheet5!C4=2,Sheet5!C4,IF(D4=1,1,Sheet5!C4))","v":0},{"$f":"IF(Sheet5!D4=2,Sheet5!D4,IF(E4=1,1,Sheet5!D4))","v":0},{"$f":"IF(Sheet5!E4=2,Sheet5!E4,IF(F4=1,1,Sheet5!E4))","v":0},{"$f":"IF(Sheet5!F4=2,Sheet5!F4,IF(G4=1,1,Sheet5!F4))","v":0},{"$f":"IF(Sheet5!G4=2,Sheet5!G4,IF(H4=1,1,Sheet5!G4))","v":0},{"$f":"IF(Sheet5!H4=2,Sheet5!H4,IF(I4=1,1,Sheet5!H4))","v":0},{"$f":"IF(Sheet5!I4=2,Sheet5!I4,IF(J4=1,1,Sheet5!I4))","v":0},{"$f":"IF(Sheet5!J4=2,Sheet5!J4,IF(K4=1,1,Sheet5!J4))","v":0},{"$f":"IF(Sheet5!K4=2,Sheet5!K4,IF(L4=1,1,Sheet5!K4))","v":0},{"$f":"IF(Sheet5!L4=2,Sheet5!L4,IF(M4=1,1,Sheet5!L4))","v":0},{"$f":"IF(Sheet5!M4=2,Sheet5!M4,IF(N4=1,1,Sheet5!M4))","v":0},{"$f":"IF(Sheet5!N4=2,Sheet5!N4,IF(O4=1,1,Sheet5!N4))","v":0},{"$f":"IF(Sheet5!O4=2,Sheet5!O4,IF(P4=1,1,Sheet5!O4))","v":0},{"$f":"IF(Sheet5!P4=2,Sheet5!P4,IF(Q4=1,1,Sheet5!P4))","v":0},{"$f":"IF(Sheet5!Q4=2,Sheet5!Q4,IF(R4=1,1,Sheet5!Q4))","v":0},{"$f":"IF(Sheet5!R4=2,Sheet5!R4,IF(S4=1,1,Sheet5!R4))","v":0},{"$f":"IF(Sheet5!S4=2,Sheet5!S4,IF(T4=1,1,Sheet5!S4))","v":0},{"$f":"IF(Sheet5!T4=2,Sheet5!T4,IF(U4=1,1,Sheet5!T4))","v":0},{"$f":"IF(Sheet5!U4=2,Sheet5!U4,IF(V4=1,1,Sheet5!U4))","v":0},{"$f":"IF(Sheet5!V4=2,Sheet5!V4,IF(W4=1,1,Sheet5!V4))","v":0},{"$f":"IF(Sheet5!W4=2,Sheet5!W4,IF(X4=1,1,Sheet5!W4))","v":0},{"$f":"IF(Sheet5!X4=2,Sheet5!X4,IF(Y4=1,1,Sheet5!X4))","v":0},{"$f":"IF(Sheet5!Y4=2,Sheet5!Y4,IF(Z4=1,1,Sheet5!Y4))","v":0},{"$f":"IF(Sheet5!Z4=2,Sheet5!Z4,IF(AA4=1,1,Sheet5!Z4))","v":0},{"$f":"IF(Sheet5!AA4=2,Sheet5!AA4,IF(AB4=1,1,Sheet5!AA4))","v":0},null,null,null,null,null,null,null,null,{"$f":"COUNTIF('Sheet3 (2)'!$H$2:$H$37,C4)","v":1},{"$f":"IF(A4>5,1,0)","v":0},{"$f":"AL4+AM4","v":1}]
[3,{"$f":"MONTH(C5)","v":4},{"$f":"C4+1","v":"2025-04-30"},{"$f":"IF(Sheet5!B5=2,Sheet5!B5,Sheet5!B5)","v":0},{"$f":"IF(Sheet5!C5=2,Sheet5!C5,IF(D5=1,1,Sheet5!C5))","v":0},{"$f":"IF(Sheet5!D5=2,Sheet5!D5,IF(E5=1,1,Sheet5!D5))","v":0},{"$f":"IF(Sheet5!E5=2,Sheet5!E5,IF(F5=1,1,Sheet5!E5))","v":0},{"$f":"IF(Sheet5!F5=2,Sheet5!F5,IF(G5=1,1,Sheet5!F5))","v":0},{"$f":"IF(Sheet5!G5=2,Sheet5!G5,IF(H5=1,1,Sheet5!G5))","v":0},{"$f":"IF(Sheet5!H5=2,Sheet5!H5,IF(I5=1,1,Sheet5!H5))","v":0},{"$f":"IF(Sheet5!I5=2,Sheet5!I5,IF(J5=1,1,Sheet5!I5))","v":0},{"$f":"IF(Sheet5!J5=2,Sheet5!J5,IF(K5=1,1,Sheet5!J5))","v":0},{"$f":"IF(Sheet5!K5=2,Sheet5!K5,IF(L5=1,1,Sheet5!K5))","v":0},{"$f":"IF(Sheet5!L5=2,Sheet5!L5,IF(M5=1,1,Sheet5!L5))","v":0},{"$f":"IF(Sheet5!M5=2,Sheet5!M5,IF(N5=1,1,Sheet5!M5))","v":0},{"$f":"IF(Sheet5!N5=2,Sheet5!N5,IF(O5=1,1,Sheet5!N5))","v":0},{"$f":"IF(Sheet5!O5=2,Sheet5!O5,IF(P5=1,1,Sheet5!O5))","v":0},{"$f":"IF(Sheet5!P5=2,Sheet5!P5,IF(Q5=1,1,Sheet5!P5))","v":0},{"$f":"IF(Sheet5!Q5=2,Sheet5!Q5,IF(R5=1,1,Sheet5!Q5))","v":0},{"$f":"IF(Sheet5!R5=2,Sheet5!R5,IF(S5=1,1,Sheet5!R5))","v":0},{"$f":"IF(Sheet5!S5=2,Sheet5!S5,IF(T5=1,1,Sheet5!S5))","v":0},{"$f":"IF(Sheet5!T5=2,Sheet5!T5,IF(U5=1,1,Sheet5!T5))","v":0},{"$f":"IF(Sheet5!U5=2,Sheet5!U5,IF(V5=1,1,Sheet5!U5))","v":0},{"$f":"IF(Sheet5!V5=2,Sheet5!V5,IF(W5=1,1,Sheet5!V5))","v":0},{"$f":"IF(Sheet5!W5=2,Sheet5!W5,IF(X5=1,1,Sheet5!W5))","v":0},{"$f":"IF(Sheet5!X5=2,Sheet5!X5,IF(Y5=1,1,Sheet5!X5))","v":0},{"$f":"IF(Sheet5!Y5=2,Sheet5!Y5,IF(Z5=1,1,Sheet5!Y5))","v":0},{"$f":"IF(Sheet5!Z5=2,Sheet5!Z5,IF(AA5=1,1,Sheet5!Z5))","v":0},{"$f":"IF(Sheet5!AA5=2,Sheet5!AA5,IF(AB5=1,1,Sheet5!AA5))","v":0},null,null,null,null,null,null,null,null,{"$f":"COUNTIF('Sheet3 (2)'!$H$2:$H$37,C5)","v":0},0,0]
[4,5,"2025-05-01",{"$f":"IF(Sheet5!B6=2,Sheet5!B6,Sheet5!B6)","v":0},{"$f":"IF(Sheet5!C6=2,Sheet5!C6,IF(D6=1,1,Sheet5!C6))","v":0},{"$f":"IF(Sheet5!D6=2,Sheet5!D6,IF(E6=1,1,Sheet5!D6))","v":0},{"$f":"IF(Sheet5!E6=2,Sheet5!E6,IF(F6=1,1,Sheet5!E6))","v":0},{"$f":"IF(Sheet5!F6=2,Sheet5!F6,IF(G6=1,1,Sheet5!F6))","v":0},{"$f":"IF(Sheet5!G6=2,Sheet5!G6,IF(H6=1,1,Sheet5!G6))","v":0},{"$f":"IF(Sheet5!H6=2,Sheet5!H6,IF(I6=1,1,Sheet5!H6))","v":0},{"$f":"IF(Sheet5!I6=2,Sheet5!I6,IF(J6=1,1,Sheet5!I6))","v":0},{"$f":"IF(Sheet5!J6=2,Sheet5!J6,IF(K6=1,1,Sheet5!J6))","v":0},{"$f":"IF(Sheet5!K6=2,Sheet5!K6,IF(L6=1,1,Sheet5!K6))","v":0},{"$f":"IF(Sheet5!L6=2,Sheet5!L6,IF(M6=1,1,Sheet5!L6))","v":0},{"$f":"IF(Sheet5!M6=2,Sheet5!M6,IF(N6=1,1,Sheet5!M6))","v":0},{"$f":"IF(Sheet5!N6=2,Sheet5!N6,IF(O6=1,1,Sheet5!N6))","v":0},{"$f":"IF(Sheet5!O6=2,Sheet5!O6,IF(P6=1,1,Sheet5!O6))","v":0},{"$f":"IF(Sheet5!P6=2,Sheet5!P6,IF(Q6=1,1,Sheet5!P6))","v":0},{"$f":"IF(Sheet5!Q6=2,Sheet5!Q6,IF(R6=1,1,Sheet5!Q6))","v":0},{"$f":"IF(Sheet5!R6=2,Sheet5!R6,IF(S6=1,1,Sheet5!R6))","v":0},{"$f":"IF(Sheet5!S6=2,Sheet5!S6,IF(T6=1,1,Sheet5!S6))","v":0},{"$f":"IF(Sheet5!T6=2,Sheet5!T6,IF(U6=1,1,Sheet5!T6))","v":0},{"$f":"IF(Sheet5!U6=2,Sheet5!U6,IF(V6=1,1,Sheet5!U6))","v":0},{"$f":"IF(Sheet5!V6=2,Sheet5!V6,IF(W6=1,1,Sheet5!V6))","v":0},{"$f":"IF(Sheet5!W6=2,Sheet5!W6,IF(X6=1,1,Sheet5!W6))","v":0},{"$f":"IF(Sheet5!X6=2,Sheet5!X6,IF(Y6=1,1,Sheet5!X6))","v":0},{"$f":"IF(Sheet5!Y6=2,Sheet5!Y6,IF(Z6=1,1,Sheet5!Y6))","v":0},{"$f":"IF(Sheet5!Z6=2,Sheet5!Z6,IF(AA6=1,1,Sheet5!Z6))","v":0},{"$f":"IF(Sheet5!AA6=2,Sheet5!AA6,IF(AB6=1,1,Sheet5!AA6))","v":0},null,null,null,null,null,null,null,null,{"$f":"COUNTIF('Sheet3 (2)'!$H$2:$H$37,C6)","v":0},0,0]
[5,{"$f":"MONTH(C7)","v":5},"2025-05-02",{"$f":"IF(Sheet5!B7=2,Sheet5!B7,Sheet5!B7)","v":0},{"$f":"IF(Sheet5!C7=2,Sheet5!C7,IF(D7=1,1,Sheet5!C7))","v":0},{"$f":"IF(Sheet5!D7=2,Sheet5!D7,IF(E7=1,1,Sheet5!D7))","v":0},{"$f":"IF(Sheet5!E7=2,Sheet5!E7,IF(F7=1,1,Sheet5!E7))","v":0},{"$f":"IF(Sheet5!F7=2,Sheet5!F7,IF(G7=1,1,Sheet5!F7))","v":0},{"$f":"IF(Sheet5!G7=2,Sheet5!G7,IF(H7=1,1,Sheet5!G7))","v":0},{"$f":"IF(Sheet5!H7=2,Sheet5!H7,IF(I7=1,1,Sheet5!H7))","v":0},{"$f":"IF(Sheet5!I7=2,Sheet5!I7,IF(J7=1,1,Sheet5!I7))","v":0},{"$f":"IF(Sheet5!J7=2,Sheet5!J7,IF(K7=1,1,Sheet5!J7))","v":0},{"$f":"IF(Sheet5!K7=2,Sheet5!K7,IF(L7=1,1,Sheet5!K7))","v":0},{"$f":"IF(Sheet5!L7=2,Sheet5!L7,IF(M7=1,1,Sheet5!L7))","v":0},{"$f":"IF(Sheet5!M7=2,Sheet5!M7,IF(N7=1,1,Sheet5!M7))","v":0},{"$f":"IF(Sheet5!N7=2,Sheet5!N7,IF(O7=1,1,Sheet5!N7))","v":0},{"$f":"IF(Sheet5!O7=2,Sheet5!O7,IF(P7=1,1,Sheet5!O7))","v":0},{"$f":"IF(Sheet5!P7=2,Sheet5!P7,IF(Q7=1,1,Sheet5!P7))","v":0},{"$f":"IF(Sheet5!Q7=2,Sheet5!Q7,IF(R7=1,1,Sheet5!Q7))","v":0},{"$f":"IF(Sheet5!R7=2,Sheet5!R7,IF(S7=1,1,Sheet5!R7))","v":0},{"$f":"IF(Sheet5!S7=2,Sheet5!S7,IF(T7=1,1,Sheet5!S7))","v":0},{"$f":"IF(Sheet5!T7=2,Sheet5!T7,IF(U7=1,1,Sheet5!T7))","v":0},{"$f":"IF(Sheet5!U7=2,Sheet5!U7,IF(V7=1,1,Sheet5!U7))","v":0},{"$f":"IF(Sheet5!V7=2,Sheet5!V7,IF(W7=1,1,Sheet5!V7))","v":0},{"$f":"IF(Sheet5!W7=2,Sheet5!W7,IF(X7=1,1,Sheet5!W7))","v":0},{"$f":"IF(Sheet5!X7=2,Sheet5!X7,IF(Y7=1,1,Sheet5!X7))","v":0},{"$f":"IF(Sheet5!Y7=2,Sheet5!Y7,IF(Z7=1,1,Sheet5!Y7))","v":0},{"$f":"IF(Sheet5!Z7=2,Sheet5!Z7,IF(AA7=1,1,Sheet5!Z7))","v":0},{"$f":"IF(Sheet5!AA7=2,Sheet5!AA7,IF(AB7=1,1,Sheet5!AA7))","v":0},null,null,null,null,null,null,null,null,{"$f":"COUNTIF('Sheet3 (2)'!$H$2:$H$37,C7)","v":0},0,0]
[6,5,"2025-05-03",{"$f":"IF(Sheet5!B8=2,Sheet5!B8,Sheet5!B8)","v":0},{"$f":"IF(Sheet5!C8=2,Sheet5!C8,IF(D8=1,1,Sheet5!C8))","v":0},{"$f":"IF(Sheet5!D8=2,Sheet5!D8,IF(E8=1,1,Sheet5!D8))","v":0},{"$f":"IF(Sheet5!E8=2,Sheet5!E8,IF(F8=1,1,Sheet5!E8))","v":0},{"$f":"IF(Sheet5!F8=2,Sheet5!F8,IF(G8=1,1,Sheet5!F8))","v":0},{"$f":"IF(Sheet5!G8=2,Sheet5!G8,IF(H8=1,1,Sheet5!G8))","v":0},{"$f":"IF(Sheet5!H8=2,Sheet5!H8,IF(I8=1,1,Sheet5!H8))","v":0},{"$f":"IF(Sheet5!I8=2,Sheet5!I8,IF(J8=1,1,Sheet5!I8))","v":0},{"$f":"IF(Sheet5!J8=2,Sheet5!J8,IF(K8=1,1,Sheet5!J8))","v":0},{"$f":"IF(Sheet5!K8=2,Sheet5!K8,IF(L8=1,1,Sheet5!K8))","v":0},{"$f":"IF(Sheet5!L8=2,Sheet5!L8,IF(M8=1,1,Sheet5!L8))","v":0},{"$f":"IF(Sheet5!M8=2,Sheet5!M8,IF(N8=1,1,Sheet5!M8))","v":0},{"$f":"IF(Sheet5!N8=2,Sheet5!N8,IF(O8=1,1,Sheet5!N8))","v":0},{"$f":"IF(Sheet5!O8=2,Sheet5!O8,IF(P8=1,1,Sheet5!O8))","v":0},{"$f":"IF(Sheet5!P8=2,Sheet5!P8,IF(Q8=1,1,Sheet5!P8))","v":0},{"$f":"IF(Sheet5!Q8=2,Sheet5!Q8,IF(R8=1,1,Sheet5!Q8))","v":0},{"$f":"IF(Sheet5!R8=2,Sheet5!R8,IF(S8=1,1,Sheet5!R8))","v":0},{"$f":"IF(Sheet5!S8=2,Sheet5!S8,IF(T8=1,1,Sheet5!S8))","v":0},{"$f":"IF(Sheet5!T8=2,Sheet5!T8,IF(U8=1,1,Sheet5!T8))","v":0},{"$f":"IF(Sheet5!U8=2,Sheet5!U8,IF(V8=1,1,Sheet5!U8))","v":0},{"$f":"IF(Sheet5!V8=2,Sheet5!V8,IF(W8=1,1,Sheet5!V8))","v":0},{"$f":"IF(Sheet5!W8=2,Sheet5!W8,IF(X8=1,1,Sheet5!W8))","v":0},{"$f":"IF(Sheet5!X8=2,Sheet5!X8,IF(Y8=1,1,Sheet5!X8))","v":0},{"$f":"IF(Sheet5!Y8=2,Sheet5!Y8,IF(Z8=1,1,Sheet5!Y8))","v":0},{"$f":"IF(Sheet5!Z8=2,Sheet5!Z8,IF(AA8=1,1,Sheet5!Z8))","v":0},{"$f":"IF(Sheet5!AA8=2,Sheet5!AA8,IF(AB8=1,1,Sheet5!AA8))","v":0},null,null,null,null,null,null,null,null,{"$f":"COUNTIF('Sheet3 (2)'!$H$2:$H$37,C8)","v":1},1,2]
[7,5,"2025-05-04",{"$f":"IF(Sheet5!B9=2,Sheet5!B9,Sheet5!B9)","v":0},{"$f":"IF(Sheet5!C9=2,Sheet5!C9,IF(D9=1,1,Sheet5!C9))","v":0},{"$f":"IF(Sheet5!D9=2,Sheet5!D9,IF(E9=1,1,Sheet5!D9))","v":0},{"$f":"IF(Sheet5!E9=2,Sheet5!E9,IF(F9=1,1,Sheet5!E9))","v":0},{"$f":"IF(Sheet5!F9=2,Sheet5!F9,IF(G9=1,1,Sheet5!F9))","v":0},{"$f":"IF(Sheet5!G9=2,Sheet5!G9,IF(H9=1,1,Sheet5!G9))","v":0},{"$f":"IF(Sheet5!H9=2,Sheet5!H9,IF(I9=1,1,Sheet5!H9))","v":0},{"$f":"IF(Sheet5!I9=2,Sheet5!I9,IF(J9=1,1,Sheet5!I9))","v":0},{"$f":"IF(Sheet5!J9=2,Sheet5!J9,IF(K9=1,1,Sheet5!J9))","v":0},{"$f":"IF(Sheet5!K9=2,Sheet5!K9,IF(L9=1,1,Sheet5!K9))","v":0},{"$f":"IF(Sheet5!L9=2,Sheet5!L9,IF(M9=1,1,Sheet5!L9))","v":0},{"$f":"IF(Sheet5!M9=2,Sheet5!M9,IF(N9=1,1,Sheet5!M9))","v":0},{"$f":"IF(Sheet5!N9=2,Sheet5!N9,IF(O9=1,1,Sheet5!N9))","v":0},{"$f":"IF(Sheet5!O9=2,Sheet5!O9,IF(P9=1,1,Sheet5!O9))","v":0},{"$f":"IF(Sheet5!P9=2,Sheet5!P9,IF(Q9=1,1,Sheet5!P9))","v":0},{"$f":"IF(Sheet5!Q9=2,Sheet5!Q9,IF(R9=1,1,Sheet5!Q9))","v":0},{"$f":"IF(Sheet5!R9=2,Sheet5!R9,IF(S9=1,1,Sheet5!R9))","v":0},{"$f":"IF(Sheet5!S9=2,Sheet5!S9,IF(T9=1,1,Sheet5!S9))","v":0},{"$f":"IF(Sheet5!T9=2,Sheet5!T9,IF(U9=1,1,Sheet5!T9))","v":0},{"$f":"IF(Sheet5!U9=2,Sheet5!U9,IF(V9=1,1,Sheet5!U9))","v":0},{"$f":"IF(Sheet5!V9=2,Sheet5!V9,IF(W9=1,1,Sheet5!V9))","v":0},{"$f":"IF(Sheet5!W9=2,Sheet5!W9,IF(X9=1,1,Sheet5!W9))","v":0},{"$f":"IF(Sheet5!X9=2,Sheet5!X9,IF(Y9=1,1,Sheet5!X9))","v":0},{"$f":"IF(Sheet5!Y9=2,Sheet5!Y9,IF(Z9=1,1,Sheet5!Y9))","v":0},{"$f":"IF(Sheet5!Z9=2,Sheet5!Z9,IF(AA9=1,1,Sheet5!Z9))","v":0},{"$f":"IF(Sheet5!AA9=2,Sheet5!AA9,IF(AB9=1,1,Sheet5!AA9))","v":0},null,null,null,null,null,null,null,null,{"$f":"COUNTIF('Sheet3 (2)'!$H$2:$H$37,C9)","v":1},1,2]
[1,5,"2025-05-05",{"$f":"IF(Sheet5!B10=2,Sheet5!B10,Sheet5!B10)","v":0},{"$f":"IF(Sheet5!C10=2,Sheet5!C10,IF(D10=1,1,Sheet5!C10))","v":0},{"$f":"IF(Sheet5!D10=2,Sheet5!D10,IF(E10=1,1,Sheet5!D10))","v":0},{"$f":"IF(Sheet5!E10=2,Sheet5!E10,IF(F10=1,1,Sheet5!E10))","v":0},{"$f":"IF(Sheet5!F10=2,Sheet5!F10,IF(G10=1,1,Sheet5!F10))","v":0},{"$f":"IF(Sheet5!G10=2,Sheet5!G10,IF(H10=1,1,Sheet5!G10))","v":0},{"$f":"IF(Sheet5!H10=2,Sheet5!H10,IF(I10=1,1,Sheet5!H10))","v":0},{"$f":"IF(Sheet5!I10=2,Sheet5!I10,IF(J10=1,1,Sheet5!I10))","v":0},{"$f":"IF(Sheet5!J10=2,Sheet5!J10,IF(K10=1,1,Sheet5!J10))","v":0},{"$f":"IF(Sheet5!K10=2,Sheet5!K10,IF(L10=1,1,Sheet5!K10))","v":0},{"$f":"IF(Sheet5!L10=2,Sheet5!L10,IF(M10=1,1,Sheet5!L10))","v":0},{"$f":"IF(Sheet5!M10=2,Sheet5!M10,IF(N10=1,1,Sheet5!M10))","v":0},{"$f":"IF(Sheet5!N10=2,Sheet5!N10,IF(O10=1,1,Sheet5!N10))","v":0},{"$f":"IF(Sheet5!O10=2,Sheet5!O10,IF(P10=1,1,Sheet5!O10))","v":0},{"$f":"IF(Sheet5!P10=2,Sheet5!P10,IF(Q10=1,1,Sheet5!P10))","v":0},{"$f":"IF(Sheet5!Q10=2,Sheet5!Q10,IF(R10=1,1,Sheet5!Q10))","v":0},{"$f":"IF(Sheet5!R10=2,Sheet5!R10,IF(S10=1,1,Sheet5!R10))","v":0},{"$f":"IF(Sheet5!S10=2,Sheet5!S10,IF(T10=1,1,Sheet5!S10))","v":0},{"$f":"IF(Sheet5!T10=2,Sheet5!T10,IF(U10=1,1,Sheet5!T10))","v":0},{"$f":"IF(Sheet5!U10=2,Sheet5!U10,IF(V10=1,1,Sheet5!U10))","v":0},{"$f":"IF(Sheet5!V10=2,Sheet5!V10,IF(W10=1,1,Sheet5!V10))","v":0},{"$f":"IF(Sheet5!W10=2,Sheet5!W10,IF(X10=1,1,Sheet5!W10))","v":0},{"$f":"IF(Sheet5!X10=2,Sheet5!X10,IF(Y10=1,1,Sheet5!X10))","v":0},{"$f":"IF(Sheet5!Y10=2,Sheet5!Y10,IF(Z10=1,1,Sheet5!Y10))","v":0},{"$f":"IF(Sheet5!Z10=2,Sheet5!Z10,IF(AA10=1,1,Sheet5!Z10))","v":0},{"$f":"IF(Sheet5!AA10=2,Sheet5!AA10,IF(AB10=1,1,Sheet5!AA10))","v":0},null,null,null,null,null,null,null,null,{"$f":"COUNTIF('Sheet3 (2)'!$H$2:$H$37,C10)","v":1},0,1]
[2,5,"2025-05-06",{"$f":"IF(Sheet5!B11=2,Sheet5!B11,Sheet5!B11)","v":0},{"$f":"IF(Sheet5!C11=2,Sheet5!C11,IF(D11=1,1,Sheet5!C11))","v":0},{"$f":"IF(Sheet5!D11=2,Sheet5!D11,IF(E11=1,1,Sheet5!D11))","v":0},{"$f":"IF(Sheet5!E11=2,Sheet5!E11,IF(F11=1,1,Sheet5!E11))","v":0},{"$f":"IF(Sheet5!F11=2,Sheet5!F11,IF(G11=1,1,Sheet5!F11))","v":0},{"$f":"IF(Sheet5!G11=2,Sheet5!G11,IF(H11=1,1,Sheet5!G11))","v":0},{"$f":"IF(Sheet5!H11=2,Sheet5!H11,IF(I11=1,1,Sheet5!H11))","v":0},{"$f":"IF(Sheet5!I11=2,Sheet5!I11,IF(J11=1,1,Sheet5!I11))","v":0},{"$f":"IF(Sheet5!J11=2,Sheet5!J11,IF(K11=1,1,Sheet5!J11))","v":0},{"$f":"IF(Sheet5!K11=2,Sheet5!K11,IF(L11=1,1,Sheet5!K11))","v":0},{"$f":"IF(Sheet5!L11=2,Sheet5!L11,IF(M11=1,1,Sheet5!L11))","v":0},{"$f":"IF(Sheet5!M11=2,Sheet5!M11,IF(N11=1,1,Sheet5!M11))","v":0},{"$f":"IF(Sheet5!N11=2,Sheet5!N11,IF(O11=1,1,Sheet5!N11))","v":0},{"$f":"IF(Sheet5!O11=2,Sheet5!O11,IF(P11=1,1,Sheet5!O11))","v":0},{"$f":"IF(Sheet5!P11=2,Sheet5!P11,IF(Q11=1,1,Sheet5!P11))","v":0},{"$f":"IF(Sheet5!Q11=2,Sheet5!Q11,IF(R11=1,1,Sheet5!Q11))","v":0},{"$f":"IF(Sheet5!R11=2,Sheet5!R11,IF(S11=1,1,Sheet5!R11))","v":0},{"$f":"IF(Sheet5!S11=2,Sheet5!S11,IF(T11=1,1,Sheet5!S11))","v":0},{"$f":"IF(Sheet5!T11=2,Sheet5!T11,IF(U11=1,1,Sheet5!T11))","v":0},{"$f":"IF(Sheet5!U11=2,Sheet5!U11,IF(V11=1,1,Sheet5!U11))","v":0},{"$f":"IF(Sheet5!V11=2,Sheet5!V11,IF(W11=1,1,Sheet5!V11))","v":0},{"$f":"IF(Sheet5!W11=2,Sheet5!W11,IF(X11=1,1,Sheet5!W11))","v":0},{"$f":"IF(Sheet5!X11=2,Sheet5!X11,IF(Y11=1,1,Sheet5!X11))","v":0},{"$f":"IF(Sheet5!Y11=2,Sheet5!Y11,IF(Z11=1,1,Sheet5!Y11))","v":0},{"$f":"IF(Sheet5!Z11=2,Sheet5!Z11,IF(AA11=1,1,Sheet5!Z11))","v":0},{"$f":"IF(Sheet5!AA11=2,Sheet5!AA11,IF(AB11=1,1,Sheet5!AA11))","v":0},null,null,null,null,null,null,null,null,{"$f":"COUNTIF('Sheet3 (2)'!$H$2:$H$37,C11)","v":1},0,1]
[3,5,"2025-05-07",{"$f":"IF(Sheet5!B12=2,Sheet5!B12,Sheet5!B12)","v":0},{"$f":"IF(Sheet5!C12=2,Sheet5!C12,IF(D12=1,1,Sheet5!C12))","v":0},{"$f":"IF(Sheet5!D12=2,Sheet5!D12,IF(E12=1,1,Sheet5!D12))","v":0},{"$f":"IF(Sheet5!E12=2,Sheet5!E12,IF(F12=1,1,Sheet5!E12))","v":0},{"$f":"IF(Sheet5!F12=2,Sheet5!F12,IF(G12=1,1,Sheet5!F12))","v":0},{"$f":"IF(Sheet5!G12=2,Sheet5!G12,IF(H12=1,1,Sheet5!G12))","v":0},{"$f":"IF(Sheet5!H12=2,Sheet5!H12,IF(I12=1,1,Sheet5!H12))","v":0},{"$f":"IF(Sheet5!I12=2,Sheet5!I12,IF(J12=1,1,Sheet5!I12))","v":0},{"$f":"IF(Sheet5!J12=2,Sheet5!J12,IF(K12=1,1,Sheet5!J12))","v":0},{"$f":"IF(Sheet5!K12=2,Sheet5!K12,IF(L12=1,1,Sheet5!K12))","v":0},{"$f":"IF(Sheet5!L12=2,Sheet5!L12,IF(M12=1,1,Sheet5!L12))","v":0},{"$f":"IF(Sheet5!M12=2,Sheet5!M12,IF(N12=1,1,Sheet5!M12))","v":0},{"$f":"IF(Sheet5!N12=2,Sheet5!N12,IF(O12=1,1,Sheet5!N12))","v":0},{"$f":"IF(Sheet5!O12=2,Sheet5!O12,IF(P12=1,1,Sheet5!O12))","v":0},{"$f":"IF(Sheet5!P12=2,Sheet5!P12,IF(Q12=1,1,Sheet5!P12))","v":1},{"$f":"IF(Sheet5!Q12=2,Sheet5!Q12,IF(R12=1,1,Sheet5!Q12))","v":1},{"$f":"IF(Sheet5!R12=2,Sheet5!R12,IF(S12=1,1,Sheet5!R12))","v":1},{"$f":"IF(Sheet5!S12=2,Sheet5!S12,IF(T12=1,1,Sheet5!S12))","v":2},{"$f":"IF(Sheet5!T12=2,Sheet5!T12,IF(U12=1,1,Sheet5!T12))","v":0},{"$f":"IF(Sheet5!U12=2,Sheet5!U12,IF(V12=1,1,Sheet5!U12))","v":0},{"$f":"IF(Sheet5!V12=2,Sheet5!V12,IF(W12=1,1,Sheet5!V12))","v":0},{"$f":"IF(Sheet5!W12=2,Sheet5!W12,IF(X12=1,1,Sheet5!W12))","v":0},{"$f":"IF(Sheet5!X12=2,Sheet5!X12,IF(Y12=1,1,Sheet5!X12))","v":0},{"$f":"IF(Sheet5!Y12=2,Sheet5!Y12,IF(Z12=1,1,Sheet5!Y12))","v":0},{"$f":"IF(Sheet5!Z12=2,Sheet5!Z12,IF(AA12=1,1,Sheet5!Z12))","v":0},{"$f":"IF(Sheet5!AA12=2,Sheet5!AA12,IF(AB12=1,1,Sheet5!AA12))","v":0},null,null,null,null,null,null,null,null,{"$f":"COUNTIF('Sheet3 (2)'!$H$2:$H$37,C12)","v":0},0,0]
[4,5,"2025-05-08",{"$f":"IF(Sheet5!B13=2,Sheet5!B13,Sheet5!B13)","v":0},{"$f":"IF(Sheet5!C13=2,Sheet5!C13,IF(D13=1,1,Sheet5!C13))","v":0},{"$f":"IF(Sheet5!D13=2,Sheet5!D13,IF(E13=1,1,Sheet5!D13))","v":0},{"$f":"IF(Sheet5!E13=2,Sheet5!E13,IF(F13=1,1,Sheet5!E13))","v":0},{"$f":"IF(Sheet5!F13=2,Sheet5!F13,IF(G13=1,1,Sheet5!F13))","v":0},{"$f":"IF(Sheet5!G13=2,Sheet5!G13,IF(H13=1,1,Sheet5!G13))","v":0},{"$f":"IF(Sheet5!H13=2,Sheet5!H13,IF(I13=1,1,Sheet5!H13))","v":0},{"$f":"IF(Sheet5!I13=2,Sheet5!I13,IF(J13=1,1,Sheet5!I13))","v":0},{"$f":"IF(Sheet5!J13=2,Sheet5!J13,IF(K13=1,1,Sheet5!J13))","v":0},{"$f":"IF(Sheet5!K13=2,Sheet5!K13,IF(L13=1,1,Sheet5!K13))","v":0},{"$f":"IF(Sheet5!L13=2,Sheet5!L13,IF(M13=1,1,Sheet5!L13))","v":0},{"$f":"IF(Sheet5!M13=2,Sheet5!M13,IF(N13=1,1,Sheet5!M13))","v":0},{"$f":"IF(Sheet5!N13=2,Sheet5!N13,IF(O13=1,1,Sheet5!N13))","v":0},{"$f":"IF(Sheet5!O13=2,Sheet5!O13,IF(P13=1,1,Sheet5!O13))","v":0},{"$f":"IF(Sheet5!P13=2,Sheet5!P13,IF(Q13=1,1,Sheet5!P13))","v":0},{"$f":"IF(Sheet5!Q13=2,Sheet5!Q13,IF(R13=1,1,Sheet5!Q13))","v":0},{"$f":"IF(Sheet5!R13=2,Sheet5!R13,IF(S13=1,1,Sheet5!R13))","v":0},{"$f":"IF(Sheet5!S13=2,Sheet5!S13,IF(T13=1,1,Sheet5!S13))","v":0},{"$f":"IF(Sheet5!T13=2,Sheet5!T13,IF(U13=1,1,Sheet5!T13))","v":0},{"$f":"IF(Sheet5!U13=2,Sheet5!U13,IF(V13=1,1,Sheet5!U13))","v":0},{"$f":"IF(Sheet5!V13=2,Sheet5!V13,IF(W13=1,1,Sheet5!V13))","v":0},{"$f":"IF(Sheet5!W13=2,Sheet5!W13,IF(X13=1,1,Sheet5!W13))","v":0},{"$f":"IF(Sheet5!X13=2,Sheet5!X13,IF(Y13=1,1,Sheet5!X13))","v":0},{"$f":"IF(Sheet5!Y13=2,Sheet5!Y13,IF(Z13=1,1,Sheet5!Y13))","v":0},{"$f":"IF(Sheet5!Z13=2,Sheet5!Z13,IF(AA13=1,1,Sheet5!Z13))","v":0},{"$f":"IF(Sheet5!AA13=2,Sheet5!AA13,IF(AB13=1,1,Sheet5!AA13))","v":0},null,null,null,null,null,null,null,null,{"$f":"COUNTIF('Sheet3 (2)'!$H$2:$H$37,C13)","v":0},0,0]
[5,{"$f":"MONTH(C14)","v":5},"2025-05-09",{"$f":"IF(Sheet5!B14=2,Sheet5!B14,Sheet5!B14)","v":0},{"$f":"IF(Sheet5!C14=2,Sheet5!C14,IF(D14=1,1,Sheet5!C14))","v":0},{"$f":"IF(Sheet5!D14=2,Sheet5!D14,IF(E14=1,1,Sheet5!D14))","v":0},{"$f":"IF(Sheet5!E14=2,Sheet5!E14,IF(F14=1,1,Sheet5!E14))","v":0},{"$f":"IF(Sheet5!F14=2,Sheet5!F14,IF(G14=1,1,Sheet5!F14))","v":0},{"$f":"IF(Sheet5!G14=2,Sheet5!G14,IF(H14=1,1,Sheet5!G14))","v":0},{"$f":"IF(Sheet5!H14=2,Sheet5!H14,IF(I14=1,1,Sheet5!H14))","v":0},{"$f":"IF(Sheet5!I14=2,Sheet5!I14,IF(J14=1,1,Sheet5!I14))","v":0},{"$f":"IF(Sheet5!J14=2,Sheet5!J14,IF(K14=1,1,Sheet5!J14))","v":0},{"$f":"IF(Sheet5!K14=2,Sheet5!K14,IF(L14=1,1,Sheet5!K14))","v":0},{"$f":"IF(Sheet5!L14=2,Sheet5!L14,IF(M14=1,1,Sheet5!L14))","v":0},{"$f":"IF(Sheet5!M14=2,Sheet5!M14,IF(N14=1,1,Sheet5!M14))","v":0},{"$f":"IF(Sheet5!N14=2,Sheet5!N14,IF(O14=1,1,Sheet5!N14))","v":1},{"$f":"IF(Sheet5!O14=2,Sheet5!O14,IF(P14=1,1,Sheet5!O14))","v":1},{"$f":"IF(Sheet5!P14=2,Sheet5!P14,IF(Q14=1,1,Sheet5!P14))","v":1},{"$f":"IF(Sheet5!Q14=2,Sheet5!Q14,IF(R14=1,1,Sheet5!Q14))","v":1},{"$f":"IF(Sheet5!R14=2,Sheet5!R14,IF(S14=1,1,Sheet5!R14))","v":1},{"$f":"IF(Sheet5!S14=2,Sheet5!S14,IF(T14=1,1,Sheet5!S14))","v":2},{"$f":"IF(Sheet5!T14=2,Sheet5!T14,IF(U14=1,1,Sheet5!T14))","v":0},{"$f":"IF(Sheet5!U14=2,Sheet5!U14,IF(V14=1,1,Sheet5!U14))","v":0},{"$f":"IF(Sheet5!V14=2,Sheet5!V14,IF(W14=1,1,Sheet5!V14))","v":0},{"$f":"IF(Sheet5!W14=2,Sheet5!W14,IF(X14=1,1,Sheet5!W14))","v":0},{"$f":"IF(Sheet5!X14=2,Sheet5!X14,IF(Y14=1,1,Sheet5!X14))","v":0},{"$f":"IF(Sheet5!Y14=2,Sheet5!Y14,IF(Z14=1,1,Sheet5!Y14))","v":0},{"$f":"IF(Sheet5!Z14=2,Sheet5!Z14,IF(AA14=1,1,Sheet5!Z14))","v":0},{"$f":"IF(Sheet5!AA14=2,Sheet5!AA14,IF(AB14=1,1,Sheet5!AA14))","v":0},null,null,null,null,null,null,null,null,{"$f":"COUNTIF('Sheet3 (2)'!$H$2:$H$37,C14)","v":0},0,0]
[6,5,"2025-05-10",{"$f":"IF(Sheet5!B15=2,Sheet5!B15,Sheet5!B15)","v":0},{"$f":"IF(Sheet5!C15=2,Sheet5!C15,IF(D15=1,1,Sheet5!C15))","v":0},{"$f":"IF(Sheet5!D15=2,Sheet5!D15,IF(E15=1,1,Sheet5!D15))","v":0},{"$f":"IF(Sheet5!E15=2,Sheet5!E15,IF(F15=1,1,Sheet5!E15))","v":0},{"$f":"IF(Sheet5!F15=2,Sheet5!F15,IF(G15=1,1,Sheet5!F15))","v":0},{"$f":"IF(Sheet5!G15=2,Sheet5!G15,IF(H15=1,1,Sheet5!G15))","v":0},{"$f":"IF(Sheet5!H15=2,Sheet5!H15,IF(I15=1,1,Sheet5!H15))","v":0},{"$f":"IF(Sheet5!I15=2,Sheet5!I15,IF(J15=1,1,Sheet5!I15))","v":0},{"$f":"IF(Sheet5!J15=2,Sheet5!J15,IF(K15=1,1,Sheet5!J15))","v":0},{"$f":"IF(Sheet5!K15=2,Sheet5!K15,IF(L15=1,1,Sheet5!K15))","v":0},{"$f":"IF(Sheet5!L15=2,Sheet5!L15,IF(M15=1,1,Sheet5!L15))","v":0},{"$f":"IF(Sheet5!M15=2,Sheet5!M15,IF(N15=1,1,Sheet5!M15))","v":0},{"$f":"IF(Sheet5!N15=2,Sheet5!N15,IF(O15=1,1,Sheet5!N15))","v":0},{"$f":"IF(Sheet5!O15=2,Sheet5!O15,IF(P15=1,1,Sheet5!O15))","v":0},{"$f":"IF(Sheet5!P15=2,Sheet5!P15,IF(Q15=1,1,Sheet5!P15))","v":0},{"$f":"IF(Sheet5!Q15=2,Sheet5!Q15,IF(R15=1,1,Sheet5!Q15))","v":0},{"$f":"IF(Sheet5!R15=2,Sheet5!R15,IF(S15=1,1,Sheet5!R15))","v":0},{"$f":"IF(Sheet5!S15=2,Sheet5!S15,IF(T15=1,1,Sheet5!S15))","v":0},{"$f":"IF(Sheet5!T15=2,Sheet5!T15,IF(U15=1,1,Sheet5!T15))","v":0},{"$f":"IF(Sheet5!U15=2,Sheet5!U15,IF(V15=1,1,Sheet5!U15))","v":0},{"$f":"IF(Sheet5!V15=2,Sheet5!V15,IF(W15=1,1,Sheet5!V15))","v":0},{"$f":"IF(Sheet5!W15=2,Sheet5!W15,IF(X15=1,1,Sheet5!W15))","v":0},{"$f":"IF(Sheet5!X15=2,Sheet5!X15,IF(Y15=1,1,Sheet5!X15))","v":0},{"$f":"IF(Sheet5!Y15=2,Sheet5!Y15,IF(Z15=1,1,Sheet5!Y15))","v":0},{"$f":"IF(Sheet5!Z15=2,Sheet5!Z15,IF(AA15=1,1,Sheet5!Z15))","v":0},{"$f":"IF(Sheet5!AA15=2,Sheet5!AA15,IF(AB15=1,1,Sheet5!AA15))","v":0},null,null,null,null,null,null,null,null,{"$f":"COUNTIF('Sheet3 (2)'!$H$2:$H$37,C15)","v":0},1,1]
[7,5,"2025-05-11",{"$f":"IF(Sheet5!B16=2,Sheet5!B16,Sheet5!B16)","v":0},{"$f":"IF(Sheet5!C16=2,Sheet5!C16,IF(D16=1,1,Sheet5!C16))","v":0},{"$f":"IF(Sheet5!D16=2,Sheet5!D16,IF(E16=1,1,Sheet5!D16))","v":0},{"$f":"IF(Sheet5!E16=2,Sheet5!E16,IF(F16=1,1,Sheet5!E16))","v":0},{"$f":"IF(Sheet5!F16=2,Sheet5!F16,IF(G16=1,1,Sheet5!F16))","v":0},{"$f":"IF(Sheet5!G16=2,Sheet5!G16,IF(H16=1,1,Sheet5!G16))","v":0},{"$f":"IF(Sheet5!H16=2,Sheet5!H16,IF(I16=1,1,Sheet5!H16))","v":0},{"$f":"IF(Sheet5!I16=2,Sheet5!I16,IF(J16=1,1,Sheet5!I16))","v":0},{"$f":"IF(Sheet5!J16=2,Sheet5!J16,IF(K16=1,1,Sheet5!J16))","v":0},{"$f":"IF(Sheet5!K16=2,Sheet5!K16,IF(L16=1,1,Sheet5!K16))","v":0},{"$f":"IF(Sheet5!L16=2,Sheet5!L16,IF(M16=1,1,Sheet5!L16))","v":0},{"$f":"IF(Sheet5!M16=2,Sheet5!M16,IF(N16=1,1,Sheet5!M16))","v":0},{"$f":"IF(Sheet5!N16=2,Sheet5!N16,IF(O16=1,1,Sheet5!N16))","v":0},{"$f":"IF(Sheet5!O16=2,Sheet5!O16,IF(P16=1,1,Sheet5!O16))","v":0},{"$f":"IF(Sheet5!P16=2,Sheet5!P16,IF(Q16=1,1,Sheet5!P16))","v":0},{"$f":"IF(Sheet5!Q16=2,Sheet5!Q16,IF(R16=1,1,Sheet5!Q16))","v":0},{"$f":"IF(Sheet5!R16=2,Sheet5!R16,IF(S16=1,1,Sheet5!R16))","v":0},{"$f":"IF(Sheet5!S16=2,Sheet5!S16,IF(T16=1,1,Sheet5!S16))","v":0},{"$f":"IF(Sheet5!T16=2,Sheet5!T16,IF(U16=1,1,Sheet5!T16))","v":0},{"$f":"IF(Sheet5!U16=2,Sheet5!U16,IF(V16=1,1,Sheet5!U16))","v":0},{"$f":"IF(Sheet5!V16=2,Sheet5!V16,IF(W16=1,1,Sheet5!V16))","v":0},{"$f":"IF(Sheet5!W16=2,Sheet5!W16,IF(X16=1,1,Sheet5!W16))","v":0},{"$f":"IF(Sheet5!X16=2,Sheet5!X16,IF(Y16=1,1,Sheet5!X16))","v":0},{"$f":"IF(Sheet5!Y16=2,Sheet5!Y16,IF(Z16=1,1,Sheet5!Y16))","v":0},{"$f":"IF(Sheet5!Z16=2,Sheet5!Z16,IF(AA16=1,1,Sheet5!Z16))","v":0},{"$f":"IF(Sheet5!AA16=2,Sheet5!AA16,IF(AB16=1,1,Sheet5!AA16))","v":0},null,null,null,null,null,null,null,null,{"$f":"COUNTIF('Sheet3 (2)'!$H$2:$H$37,C16)","v":0},1,1]
[1,5,"2025-05-12",{"$f":"IF(Sheet5!B17=2,Sheet5!B17,Sheet5!B17)","v":0},{"$f":"IF(Sheet5!C17=2,Sheet5!C17,IF(D17=1,1,Sheet5!C17))","v":0},{"$f":"IF(Sheet5!D17=2,Sheet5!D17,IF(E17=1,1,Sheet5!D17))","v":0},{"$f":"IF(Sheet5!E17=2,Sheet5!E17,IF(F17=1,1,Sheet5!E17))","v":0},{"$f":"IF(Sheet5!F17=2,Sheet5!F17,IF(G17=1,1,Sheet5!F17))","v":0},{"$f":"IF(Sheet5!G17=2,Sheet5!G17,IF(H17=1,1,Sheet5!G17))","v":0},{"$f":"IF(Sheet5!H17=2,Sheet5!H17,IF(I17=1,1,Sheet5!H17))","v":0},{"$f":"IF(Sheet5!I17=2,Sheet5!I17,IF(J17=1,1,Sheet5!I17))","v":0},{"$f":"IF(Sheet5!J17=2,Sheet5!J17,IF(K17=1,1,Sheet5!J17))","v":1},{"$f":"IF(Sheet5!K17=2,Sheet5!K17,IF(L17=1,1,Sheet5!K17))","v":1},{"$f":"IF(Sheet5!L17=2,Sheet5!L17,IF(M17=1,1,Sheet5!L17))","v":1},{"$f":"IF(Sheet5!M17=2,Sheet5!M17,IF(N17=1,1,Sheet5!M17))","v":1},{"$f":"IF(Sheet5!N17=2,Sheet5!N17,IF(O17=1,1,Sheet5!N17))","v":1},{"$f":"IF(Sheet5!O17=2,Sheet5!O17,IF(P17=1,1,Sheet5!O17))","v":1},{"$f":"IF(Sheet5!P17=2,Sheet5!P17,IF(Q17=1,1,Sheet5!P17))","v":1},{"$f":"IF(Sheet5!Q17=2,Sheet5!Q17,IF(R17=1,1,Sheet5!Q17))","v":2},{"$f":"IF(Sheet5!R17=2,Sheet5!R17,IF(S17=1,1,Sheet5!R17))","v":0},{"$f":"IF(Sheet5!S17=2,Sheet5!S17,IF(T17=1,1,Sheet5!S17))","v":0},{"$f":"IF(Sheet5!T17=2,Sheet5!T17,IF(U17=1,1,Sheet5!T17))","v":0},{"$f":"IF(Sheet5!U17=2,Sheet5!U17,IF(V17=1,1,Sheet5!U17))","v":0},{"$f":"IF(Sheet5!V17=2,Sheet5!V17,IF(W17=1,1,Sheet5!V17))","v":0},{"$f":"IF(Sheet5!W17=2,Sheet5!W17,IF(X17=1,1,Sheet5!W17))","v":0},{"$f":"IF(Sheet5!X17=2,Sheet5!X17,IF(Y17=1,1,Sheet5!X17))","v":0},{"$f":"IF(Sheet5!Y17=2,Sheet5!Y17,IF(Z17=1,1,Sheet5!Y17))","v":0},{"$f":"IF(Sheet5!Z17=2,Sheet5!Z17,IF(AA17=1,1,Sheet5!Z17))","v":0},{"$f":"IF(Sheet5!AA17=2,Sheet5!AA17,IF(AB17=1,1,Sheet5!AA17))","v":0},null,null,null,null,null,null,null,null,{"$f":"COUNTIF('Sheet3 (2)'!$H$2:$H$37,C17)","v":0},0,0]
[2,5,"2025-05-13",{"$f":"IF(Sheet5!B18=2,Sheet5!B18,Sheet5!B18)","v":0},{"$f":"IF(Sheet5!C18=2,Sheet5!C18,IF(D18=1,1,Sheet5!C18))","v":0},{"$f":"IF(Sheet5!D18=2,Sheet5!D18,IF(E18=1,1,Sheet5!D18))","v":0},{"$f":"IF(Sheet5!E18=2,Sheet5!E18,IF(F18=1,1,Sheet5!E18))","v":0},{"$f":"IF(Sheet5!F18=2,Sheet5!F18,IF(G18=1,1,Sheet5!F18))","v":0},{"$f":"IF(Sheet5!G18=2,Sheet5!G18,IF(H18=1,1,Sheet5!G18))","v":0},{"$f":"IF(Sheet5!H18=2,Sheet5!H18,IF(I18=1,1,Sheet5!H18))","v":0},{"$f":"IF(Sheet5!I18=2,Sheet5!I18,IF(J18=1,1,Sheet5!I18))","v":0},{"$f":"IF(Sheet5!J18=2,Sheet5!J18,IF(K18=1,1,Sheet5!J18))","v":0},{"$f":"IF(Sheet5!K18=2,Sheet5!K18,IF(L18=1,1,Sheet5!K18))","v":0},{"$f":"IF(Sheet5!L18=2,Sheet5!L18,IF(M18=1,1,Sheet5!L18))","v":0},{"$f":"IF(Sheet5!M18=2,Sheet5!M18,IF(N18=1,1,Sheet5!M18))","v":0},{"$f":"IF(Sheet5!N18=2,Sheet5!N18,IF(O18=1,1,Sheet5!N18))","v":0},{"$f":"IF(Sheet5!O18=2,Sheet5!O18,IF(P18=1,1,Sheet5!O18))","v":0},{"$f":"IF(Sheet5!P18=2,Sheet5!P18,IF(Q18=1,1,Sheet5!P18))","v":0},{"$f":"IF(Sheet5!Q18=2,Sheet5!Q18,IF(R18=1,1,Sheet5!Q18))","v":0},{"$f":"IF(Sheet5!R18=2,Sheet5!R18,IF(S18=1,1,Sheet5!R18))","v":0},{"$f":"IF(Sheet5!S18=2,Sheet5!S18,IF(T18=1,1,Sheet5!S18))","v":0},{"$f":"IF(Sheet5!T18=2,Sheet5!T18,IF(U18=1,1,Sheet5!T18))","v":0},{"$f":"IF(Sheet5!U18=2,Sheet5!U18,IF(V18=1,1,Sheet5!U18))","v":0},{"$f":"IF(Sheet5!V18=2,Sheet5!V18,IF(W18=1,1,Sheet5!V18))","v":0},{"$f":"IF(Sheet5!W18=2,Sheet5!W18,IF(X18=1,1,Sheet5!W18))","v":0},{"$f":"IF(Sheet5!X18=2,Sheet5!X18,IF(Y18=1,1,Sheet5!X18))","v":0},{"$f":"IF(Sheet5!Y18=2,Sheet5!Y18,IF(Z18=1,1,Sheet5!Y18))","v":0},{"$f":"IF(Sheet5!Z18=2,Sheet5!Z18,IF(AA18=1,1,Sheet5!Z18))","v":0},{"$f":"IF(Sheet5!AA18=2,Sheet5!AA18,IF(AB18=1,1,Sheet5!AA18))","v":0},null,null,null,null,null,null,null,null,{"$f":"COUNTIF('Sheet3 (2)'!$H$2:$H$37,C18)","v":0},0,0]
[3,5,"2025-05-14",{"$f":"IF(Sheet5!B19=2,Sheet5!B19,Sheet5!B19)","v":0},{"$f":"IF(Sheet5!C19=2,Sheet5!C19,IF(D19=1,1,Sheet5!C19))","v":0},{"$f":"IF(Sheet5!D19=2,Sheet5!D19,IF(E19=1,1,Sheet5!D19))","v":0},{"$f":"IF(Sheet5!E19=2,Sheet5!E19,IF(F19=1,1,Sheet5!E19))","v":0},{"$f":"IF(Sheet5!F19=2,Sheet5!F19,IF(G19=1,1,Sheet5!F19))","v":0},{"$f":"IF(Sheet5!G19=2,Sheet5!G19,IF(H19=1,1,Sheet5!G19))","v":0},{"$f":"IF(Sheet5!H19=2,Sheet5!H19,IF(I19=1,1,Sheet5!H19))","v":0},{"$f":"IF(Sheet5!I19=2,Sheet5!I19,IF(J19=1,1,Sheet5!I19))","v":0},{"$f":"IF(Sheet5!J19=2,Sheet5!J19,IF(K19=1,1,Sheet5!J19))","v":0},{"$f":"IF(Sheet5!K19=2,Sheet5!K19,IF(L19=1,1,Sheet5!K19))","v":0},{"$f":"IF(Sheet5!L19=2,Sheet5!L19,IF(M19=1,1,Sheet5!L19))","v":0},{"$f":"IF(Sheet5!M19=2,Sheet5!M19,IF(N19=1,1,Sheet5!M19))","v":0},{"$f":"IF(Sheet5!N19=2,Sheet5!N19,IF(O19=1,1,Sheet5!N19))","v":0},{"$f":"IF(Sheet5!O19=2,Sheet5!O19,IF(P19=1,1,Sheet5!O19))","v":0},{"$f":"IF(Sheet5!P19=2,Sheet5!P19,IF(Q19=1,1,Sheet5!P19))","v":0},{"$f":"IF(Sheet5!Q19=2,Sheet5!Q19,IF(R19=1,1,Sheet5!Q19))","v":0},{"$f":"IF(Sheet5!R19=2,Sheet5!R19,IF(S19=1,1,Sheet5!R19))","v":0},{"$f":"IF(Sheet5!S19=2,Sheet5!S19,IF(T19=1,1,Sheet5!S19))","v":0},{"$f":"IF(Sheet5!T19=2,Sheet5!T19,IF(U19=1,1,Sheet5!T19))","v":0},{"$f":"IF(Sheet5!U19=2,Sheet5!U19,IF(V19=1,1,Sheet5!U19))","v":0},{"$f":"IF(Sheet5!V19=2,Sheet5!V19,IF(W19=1,1,Sheet5!V19))","v":0},{"$f":"IF(Sheet5!W19=2,Sheet5!W19,IF(X19=1,1,Sheet5!W19))","v":0},{"$f":"IF(Sheet5!X19=2,Sheet5!X19,IF(Y19=1,1,Sheet5!X19))","v":0},{"$f":"IF(Sheet5!Y19=2,Sheet5!Y19,IF(Z19=1,1,Sheet5!Y19))","v":0},{"$f":"IF(Sheet5!Z19=2,Sheet5!Z19,IF(AA19=1,1,Sheet5!Z19))","v":0},{"$f":"IF(Sheet5!AA19=2,Sheet5!AA19,IF(AB19=1,1,Sheet5!AA19))","v":0},null,null,null,null,null,null,null,null,{"$f":"COUNTIF('Sheet3 (2)'!$H$2:$H$37,C19)","v":0},0,0]
[4,5,"2025-05-15",{"$f":"IF(Sheet5!B20=2,Sheet5!B20,Sheet5!B20)","v":0},{"$f":"IF(Sheet5!C20=2,Sheet5!C20,IF(D20=1,1,Sheet5!C20))","v":0},{"$f":"IF(Sheet5!D20=2,Sheet5!D20,IF(E20=1,1,Sheet5!D20))","v":0},{"$f":"IF(Sheet5!E20=2,Sheet5!E20,IF(F20=1,1,Sheet5!E20))","v":0},{"$f":"IF(Sheet5!F20=2,Sheet5!F20,IF(G20=1,1,Sheet5!F20))","v":0},{"$f":"IF(Sheet5!G20=2,Sheet5!G20,IF(H20=1,1,Sheet5!G20))","v":0},{"$f":"IF(Sheet5!H20=2,Sheet5!H20,IF(I20=1,1,Sheet5!H20))","v":0},{"$f":"IF(Sheet5!I20=2,Sheet5!I20,IF(J20=1,1,Sheet5!I20))","v":0},{"$f":"IF(Sheet5!J20=2,Sheet5!J20,IF(K20=1,1,Sheet5!J20))","v":0},{"$f":"IF(Sheet5!K20=2,Sheet5!K20,IF(L20=1,1,Sheet5!K20))","v":0},{"$f":"IF(Sheet5!L20=2,Sheet5!L20,IF(M20=1,1,Sheet5!L20))","v":0},{"$f":"IF(Sheet5!M20=2,Sheet5!M20,IF(N20=1,1,Sheet5!M20))","v":0},{"$f":"IF(Sheet5!N20=2,Sheet5!N20,IF(O20=1,1,Sheet5!N20))","v":0},{"$f":"IF(Sheet5!O20=2,Sheet5!O20,IF(P20=1,1,Sheet5!O20))","v":0},{"$f":"IF(Sheet5!P20=2,Sheet5!P20,IF(Q20=1,1,Sheet5!P20))","v":0},{"$f":"IF(Sheet5!Q20=2,Sheet5!Q20,IF(R20=1,1,Sheet5!Q20))","v":0},{"$f":"IF(Sheet5!R20=2,Sheet5!R20,IF(S20=1,1,Sheet5!R20))","v":0},{"$f":"IF(Sheet5!S20=2,Sheet5!S20,IF(T20=1,1,Sheet5!S20))","v":0},{"$f":"IF(Sheet5!T20=2,Sheet5!T20,IF(U20=1,1,Sheet5!T20))","v":0},{"$f":"IF(Sheet5!U20=2,Sheet5!U20,IF(V20=1,1,Sheet5!U20))","v":0},{"$f":"IF(Sheet5!V20=2,Sheet5!V20,IF(W20=1,1,Sheet5!V20))","v":0},{"$f":"IF(Sheet5!W20=2,Sheet5!W20,IF(X20=1,1,Sheet5!W20))","v":0},{"$f":"IF(Sheet5!X20=2,Sheet5!X20,IF(Y20=1,1,Sheet5!X20))","v":0},{"$f":"IF(Sheet5!Y20=2,Sheet5!Y20,IF(Z20=1,1,Sheet5!Y20))","v":0},{"$f":"IF(Sheet5!Z20=2,Sheet5!Z20,IF(AA20=1,1,Sheet5!Z20))","v":0},{"$f":"IF(Sheet5!AA20=2,Sheet5!AA20,IF(AB20=1,1,Sheet5!AA20))","v":0},null,null,null,null,null,null,null,null,{"$f":"COUNTIF('Sheet3 (2)'!$H$2:$H$37,C20)","v":0},0,0]
[5,5,"2025-05-16",{"$f":"IF(Sheet5!B21=2,Sheet5!B21,Sheet5!B21)","v":0},{"$f":"IF(Sheet5!C21=2,Sheet5!C21,IF(D21=1,1,Sheet5!C21))","v":0},{"$f":"IF(Sheet5!D21=2,Sheet5!D21,IF(E21=1,1,Sheet5!D21))","v":1},{"$f":"IF(Sheet5!E21=2,Sheet5!E21,IF(F21=1,1,Sheet5!E21))","v":1},{"$f":"IF(Sheet5!F21=2,Sheet5!F21,IF(G21=1,1,Sheet5!F21))","v":1},{"$f":"IF(Sheet5!G21=2,Sheet5!G21,IF(H21=1,1,Sheet5!G21))","v":1},{"$f":"IF(Sheet5!H21=2,Sheet5!H21,IF(I21=1,1,Sheet5!H21))","v":1},{"$f":"IF(Sheet5!I21=2,Sheet5!I21,IF(J21=1,1,Sheet5!I21))","v":1},{"$f":"IF(Sheet5!J21=2,Sheet5!J21,IF(K21=1,1,Sheet5!J21))","v":1},{"$f":"IF(Sheet5!K21=2,Sheet5!K21,IF(L21=1,1,Sheet5!K21))","v":1},{"$f":"IF(Sheet5!L21=2,Sheet5!L21,IF(M21=1,1,Sheet5!L21))","v":1},{"$f":"IF(Sheet5!M21=2,Sheet5!M21,IF(N21=1,1,Sheet5!M21))","v":1},{"$f":"IF(Sheet5!N21=2,Sheet5!N21,IF(O21=1,1,Sheet5!N21))","v":1},{"$f":"IF(Sheet5!O21=2,Sheet5!O21,IF(P21=1,1,Sheet5!O21))","v":1},{"$f":"IF(Sheet5!P21=2,Sheet5!P21,IF(Q21=1,1,Sheet5!P21))","v":1},{"$f":"IF(Sheet5!Q21=2,Sheet5!Q21,IF(R21=1,1,Sheet5!Q21))","v":1},{"$f":"IF(Sheet5!R21=2,Sheet5!R21,IF(S21=1,1,Sheet5!R21))","v":1},{"$f":"IF(Sheet5!S21=2,Sheet5!S21,IF(T21=1,1,Sheet5!S21))","v":1},{"$f":"IF(Sheet5!T21=2,Sheet5!T21,IF(U21=1,1,Sheet5!T21))","v":1},{"$f":"IF(Sheet5!U21=2,Sheet5!U21,IF(V21=1,1,Sheet5!U21))","v":2},{"$f":"IF(Sheet5!V21=2,Sheet5!V21,IF(W21=1,1,Sheet5!V21))","v":0},{"$f":"IF(Sheet5!W21=2,Sheet5!W21,IF(X21=1,1,Sheet5!W21))","v":0},{"$f":"IF(Sheet5!X21=2,Sheet5!X21,IF(Y21=1,1,Sheet5!X21))","v":0},{"$f":"IF(Sheet5!Y21=2,Sheet5!Y21,IF(Z21=1,1,Sheet5!Y21))","v":0},{"$f":"IF(Sheet5!Z21=2,Sheet5!Z21,IF(AA21=1,1,Sheet5!Z21))","v":0},{"$f":"IF(Sheet5!AA21=2,Sheet5!AA21,IF(AB21=1,1,Sheet5!AA21))","v":0},null,null,null,null,null,null,null,null,{"$f":"COUNTIF('Sheet3 (2)'!$H$2:$H$37,C21)","v":0},0,0]
[6,5,"2025-05-17",{"$f":"IF(Sheet5!B22=2,Sheet5!B22,Sheet5!B22)","v":0},{"$f":"IF(Sheet5!C22=2,Sheet5!C22,IF(D22=1,1,Sheet5!C22))","v":0},{"$f":"IF(Sheet5!D22=2,Sheet5!D22,IF(E22=1,1,Sheet5!D22))","v":0},{"$f":"IF(Sheet5!E22=2,Sheet5!E22,IF(F22=1,1,Sheet5!E22))","v":0},{"$f":"IF(Sheet5!F22=2,Sheet5!F22,IF(G22=1,1,Sheet5!F22))","v":0},{"$f":"IF(Sheet5!G22=2,Sheet5!G22,IF(H22=1,1,Sheet5!G22))","v":0},{"$f":"IF(Sheet5!H22=2,Sheet5!H22,IF(I22=1,1,Sheet5!H22))","v":0},{"$f":"IF(Sheet5!I22=2,Sheet5!I22,IF(J22=1,1,Sheet5!I22))","v":0},{"$f":"IF(Sheet5!J22=2,Sheet5!J22,IF(K22=1,1,Sheet5!J22))","v":0},{"$f":"IF(Sheet5!K22=2,Sheet5!K22,IF(L22=1,1,Sheet5!K22))","v":0},{"$f":"IF(Sheet5!L22=2,Sheet5!L22,IF(M22=1,1,Sheet5!L22))","v":0},{"$f":"IF(Sheet5!M22=2,Sheet5!M22,IF(N22=1,1,Sheet5!M22))","v":0},{"$f":"IF(Sheet5!N22=2,Sheet5!N22,IF(O22=1,1,Sheet5!N22))","v":0},{"$f":"IF(Sheet5!O22=2,Sheet5!O22,IF(P22=1,1,Sheet5!O22))","v":0},{"$f":"IF(Sheet5!P22=2,Sheet5!P22,IF(Q22=1,1,Sheet5!P22))","v":0},{"$f":"IF(Sheet5!Q22=2,Sheet5!Q22,IF(R22=1,1,Sheet5!Q22))","v":0},{"$f":"IF(Sheet5!R22=2,Sheet5!R22,IF(S22=1,1,Sheet5!R22))","v":0},{"$f":"IF(Sheet5!S22=2,Sheet5!S22,IF(T22=1,1,Sheet5!S22))","v":0},{"$f":"IF(Sheet5!T22=2,Sheet5!T22,IF(U22=1,1,Sheet5!T22))","v":0},{"$f":"IF(Sheet5!U22=2,Sheet5!U22,IF(V22=1,1,Sheet5!U22))","v":0},{"$f":"IF(Sheet5!V22=2,Sheet5!V22,IF(W22=1,1,Sheet5!V22))","v":0},{"$f":"IF(Sheet5!W22=2,Sheet5!W22,IF(X22=1,1,Sheet5!W22))","v":0},{"$f":"IF(Sheet5!X22=2,Sheet5!X22,IF(Y22=1,1,Sheet5!X22))","v":0},{"$f":"IF(Sheet5!Y22=2,Sheet5!Y22,IF(Z22=1,1,Sheet5!Y22))","v":0},{"$f":"IF(Sheet5!Z22=2,Sheet5!Z22,IF(AA22=1,1,Sheet5!Z22))","v":0},{"$f":"IF(Sheet5!AA22=2,Sheet5!AA22,IF(AB22=1,1,Sheet5!AA22))","v":0},null,null,null,null,null,null,null,null,{"$f":"COUNTIF('Sheet3 (2)'!$H$2:$H$37,C22)","v":0},1,1]
[7,5,"2025-05-18",{"$f":"IF(Sheet5!B23=2,Sheet5!B23,Sheet5!B23)","v":0},{"$f":"IF(Sheet5!C23=2,Sheet5!C23,IF(D23=1,1,Sheet5!C23))","v":0},{"$f":"IF(Sheet5!D23=2,Sheet5!D23,IF(E23=1,1,Sheet5!D23))","v":0},{"$f":"IF(Sheet5!E23=2,Sheet5!E23,IF(F23=1,1,Sheet5!E23))","v":0},{"$f":"IF(Sheet5!F23=2,Sheet5!F23,IF(G23=1,1,Sheet5!F23))","v":0},{"$f":"IF(Sheet5!G23=2,Sheet5!G23,IF(H23=1,1,Sheet5!G23))","v":0},{"$f":"IF(Sheet5!H23=2,Sheet5!H23,IF(I23=1,1,Sheet5!H23))","v":0},{"$f":"IF(Sheet5!I23=2,Sheet5!I23,IF(J23=1,1,Sheet5!I23))","v":0},{"$f":"IF(Sheet5!J23=2,Sheet5!J23,IF(K23=1,1,Sheet5!J23))","v":0},{"$f":"IF(Sheet5!K23=2,Sheet5!K23,IF(L23=1,1,Sheet5!K23))","v":0},{"$f":"IF(Sheet5!L23=2,Sheet5!L23,IF(M23=1,1,Sheet5!L23))","v":0},{"$f":"IF(Sheet5!M23=2,Sheet5!M23,IF(N23=1,1,Sheet5!M23))","v":0},{"$f":"IF(Sheet5!N23=2,Sheet5!N23,IF(O23=1,1,Sheet5!N23))","v":0},{"$f":"IF(Sheet5!O23=2,Sheet5!O23,IF(P23=1,1,Sheet5!O23))","v":0},{"$f":"IF(Sheet5!P23=2,Sheet5!P23,IF(Q23=1,1,Sheet5!P23))","v":0},{"$f":"IF(Sheet5!Q23=2,Sheet5!Q23,IF(R23=1,1,Sheet5!Q23))","v":0},{"$f":"IF(Sheet5!R23=2,Sheet5!R23,IF(S23=1,1,Sheet5!R23))","v":0},{"$f":"IF(Sheet5!S23=2,Sheet5!S23,IF(T23=1,1,Sheet5!S23))","v":0},{"$f":"IF(Sheet5!T23=2,Sheet5!T23,IF(U23=1,1,Sheet5!T23))","v":0},{"$f":"IF(Sheet5!U23=2,Sheet5!U23,IF(V23=1,1,Sheet5!U23))","v":0},{"$f":"IF(Sheet5!V23=2,Sheet5!V23,IF(W23=1,1,Sheet5!V23))","v":0},{"$f":"IF(Sheet5!W23=2,Sheet5!W23,IF(X23=1,1,Sheet5!W23))","v":0},{"$f":"IF(Sheet5!X23=2,Sheet5!X23,IF(Y23=1,1,Sheet5!X23))","v":0},{"$f":"IF(Sheet5!Y23=2,Sheet5!Y23,IF(Z23=1,1,Sheet5!Y23))","v":0},{"$f":"IF(Sheet5!Z23=2,Sheet5!Z23,IF(AA23=1,1,Sheet5!Z23))","v":0},{"$f":"IF(Sheet5!AA23=2,Sheet5!AA23,IF(AB23=1,1,Sheet5!AA23))","v":0},null,null,null,null,null,null,null,null,{"$f":"COUNTIF('Sheet3 (2)'!$H$2:$H$37,C23)","v":0},1,1]
[1,5,"2025-05-19",{"$f":"IF(Sheet5!B24=2,Sheet5!B24,Sheet5!B24)","v":0},{"$f":"IF(Sheet5!C24=2,Sheet5!C24,IF(D24=1,1,Sheet5!C24))","v":0},{"$f":"IF(Sheet5!D24=2,Sheet5!D24,IF(E24=1,1,Sheet5!D24))","v":1},{"$f":"IF(Sheet5!E24=2,Sheet5!E24,IF(F24=1,1,Sheet5!E24))","v":1},{"$f":"IF(Sheet5!F24=2,Sheet5!F24,IF(G24=1,1,Sheet5!F24))","v":1},{"$f":"IF(Sheet5!G24=2,Sheet5!G24,IF(H24=1,1,Sheet5!G24))","v":1},{"$f":"IF(Sheet5!H24=2,Sheet5!H24,IF(I24=1,1,Sheet5!H24))","v":1},{"$f":"IF(Sheet5!I24=2,Sheet5!I24,IF(J24=1,1,Sheet5!I24))","v":1},{"$f":"IF(Sheet5!J24=2,Sheet5!J24,IF(K24=1,1,Sheet5!J24))","v":1},{"$f":"IF(Sheet5!K24=2,Sheet5!K24,IF(L24=1,1,Sheet5!K24))","v":1},{"$f":"IF(Sheet5!L24=2,Sheet5!L24,IF(M24=1,1,Sheet5!L24))","v":1},{"$f":"IF(Sheet5!M24=2,Sheet5!M24,IF(N24=1,1,Sheet5!M24))","v":1},{"$f":"IF(Sheet5!N24=2,Sheet5!N24,IF(O24=1,1,Sheet5!N24))","v":1},{"$f":"IF(Sheet5!O24=2,Sheet5!O24,IF(P24=1,1,Sheet5!O24))","v":1},{"$f":"IF(Sheet5!P24=2,Sheet5!P24,IF(Q24=1,1,Sheet5!P24))","v":1},{"$f":"IF(Sheet5!Q24=2,Sheet5!Q24,IF(R24=1,1,Sheet5!Q24))","v":1},{"$f":"IF(Sheet5!R24=2,Sheet5!R24,IF(S24=1,1,Sheet5!R24))","v":1},{"$f":"IF(Sheet5!S24=2,Sheet5!S24,IF(T24=1,1,Sheet5!S24))","v":1},{"$f":"IF(Sheet5!T24=2,Sheet5!T24,IF(U24=1,1,Sheet5!T24))","v":1},{"$f":"IF(Sheet5!U24=2,Sheet5!U24,IF(V24=1,1,Sheet5!U24))","v":2},{"$f":"IF(Sheet5!V24=2,Sheet5!V24,IF(W24=1,1,Sheet5!V24))","v":0},{"$f":"IF(Sheet5!W24=2,Sheet5!W24,IF(X24=1,1,Sheet5!W24))","v":0},{"$f":"IF(Sheet5!X24=2,Sheet5!X24,IF(Y24=1,1,Sheet5!X24))","v":0},{"$f":"IF(Sheet5!Y24=2,Sheet5!Y24,IF(Z24=1,1,Sheet5!Y24))","v":0},{"$f":"IF(Sheet5!Z24=2,Sheet5!Z24,IF(AA24=1,1,Sheet5!Z24))","v":0},{"$f":"IF(Sheet5!AA24=2,Sheet5!AA24,IF(AB24=1,1,Sheet5!AA24))","v":0},null,null,null,null,null,null,null,null,{"$f":"COUNTIF('Sheet3 (2)'!$H$2:$H$37,C24)","v":0},0,0]
[2,5,"2025-05-20",{"$f":"IF(Sheet5!B25=2,Sheet5!B25,Sheet5!B25)","v":0},{"$f":"IF(Sheet5!C25=2,Sheet5!C25,IF(D25=1,1,Sheet5!C25))","v":0},{"$f":"IF(Sheet5!D25=2,Sheet5!D25,IF(E25=1,1,Sheet5!D25))","v":1},{"$f":"IF(Sheet5!E25=2,Sheet5!E25,IF(F25=1,1,Sheet5!E25))","v":1},{"$f":"IF(Sheet5!F25=2,Sheet5!F25,IF(G25=1,1,Sheet5!F25))","v":1},{"$f":"IF(Sheet5!G25=2,Sheet5!G25,IF(H25=1,1,Sheet5!G25))","v":1},{"$f":"IF(Sheet5!H25=2,Sheet5!H25,IF(I25=1,1,Sheet5!H25))","v":1},{"$f":"IF(Sheet5!I25=2,Sheet5!I25,IF(J25=1,1,Sheet5!I25))","v":1},{"$f":"IF(Sheet5!J25=2,Sheet5!J25,IF(K25=1,1,Sheet5!J25))","v":1},{"$f":"IF(Sheet5!K25=2,Sheet5!K25,IF(L25=1,1,Sheet5!K25))","v":1},{"$f":"IF(Sheet5!L25=2,Sheet5!L25,IF(M25=1,1,Sheet5!L25))","v":1},{"$f":"IF(Sheet5!M25=2,Sheet5!M25,IF(N25=1,1,Sheet5!M25))","v":1},{"$f":"IF(Sheet5!N25=2,Sheet5!N25,IF(O25=1,1,Sheet5!N25))","v":1},{"$f":"IF(Sheet5!O25=2,Sheet5!O25,IF(P25=1,1,Sheet5!O25))","v":1},{"$f":"IF(Sheet5!P25=2,Sheet5!P25,IF(Q25=1,1,Sheet5!P25))","v":1},{"$f":"IF(Sheet5!Q25=2,Sheet5!Q25,IF(R25=1,1,Sheet5!Q25))","v":1},{"$f":"IF(Sheet5!R25=2,Sheet5!R25,IF(S25=1,1,Sheet5!R25))","v":1},{"$f":"IF(Sheet5!S25=2,Sheet5!S25,IF(T25=1,1,Sheet5!S25))","v":1},{"$f":"IF(Sheet5!T25=2,Sheet5!T25,IF(U25=1,1,Sheet5!T25))","v":1},{"$f":"IF(Sheet5!U25=2,Sheet5!U25,IF(V25=1,1,Sheet5!U25))","v":2},{"$f":"IF(Sheet5!V25=2,Sheet5!V25,IF(W25=1,1,Sheet5!V25))","v":0},{"$f":"IF(Sheet5!W25=2,Sheet5!W25,IF(X25=1,1,Sheet5!W25))","v":0},{"$f":"IF(Sheet5!X25=2,Sheet5!X25,IF(Y25=1,1,Sheet5!X25))","v":0},{"$f":"IF(Sheet5!Y25=2,Sheet5!Y25,IF(Z25=1,1,Sheet5!Y25))","v":0},{"$f":"IF(Sheet5!Z25=2,Sheet5!Z25,IF(AA25=1,1,Sheet5!Z25))","v":0},{"$f":"IF(Sheet5!AA25=2,Sheet5!AA25,IF(AB25=1,1,Sheet5!AA25))","v":0},null,null,null,null,null,null,null,null,{"$f":"COUNTIF('Sheet3 (2)'!$H$2:$H$37,C25)","v":0},0,0]
[3,5,"2025-05-21",{"$f":"IF(Sheet5!B26=2,Sheet5!B26,Sheet5!B26)","v":0},{"$f":"IF(Sheet5!C26=2,Sheet5!C26,IF(D26=1,1,Sheet5!C26))","v":0},{"$f":"IF(Sheet5!D26=2,Sheet5!D26,IF(E26=1,1,Sheet5!D26))","v":0},{"$f":"IF(Sheet5!E26=2,Sheet5!E26,IF(F26=1,1,Sheet5!E26))","v":0},{"$f":"IF(Sheet5!F26=2,Sheet5!F26,IF(G26=1,1,Sheet5!F26))","v":0},{"$f":"IF(Sheet5!G26=2,Sheet5!G26,IF(H26=1,1,Sheet5!G26))","v":0},{"$f":"IF(Sheet5!H26=2,Sheet5!H26,IF(I26=1,1,Sheet5!H26))","v":1},{"$f":"IF(Sheet5!I26=2,Sheet5!I26,IF(J26=1,1,Sheet5!I26))","v":1},{"$f":"IF(Sheet5!J26=2,Sheet5!J26,IF(K26=1,1,Sheet5!J26))","v":1},{"$f":"IF(Sheet5!K26=2,Sheet5!K26,IF(L26=1,1,Sheet5!K26))","v":1},{"$f":"IF(Sheet5!L26=2,Sheet5!L26,IF(M26=1,1,Sheet5!L26))","v":1},{"$f":"IF(Sheet5!M26=2,Sheet5!M26,IF(N26=1,1,Sheet5!M26))","v":1},{"$f":"IF(Sheet5!N26=2,Sheet5!N26,IF(O26=1,1,Sheet5!N26))","v":1},{"$f":"IF(Sheet5!O26=2,Sheet5!O26,IF(P26=1,1,Sheet5!O26))","v":2},{"$f":"IF(Sheet5!P26=2,Sheet5!P26,IF(Q26=1,1,Sheet5!P26))","v":0},{"$f":"IF(Sheet5!Q26=2,Sheet5!Q26,IF(R26=1,1,Sheet5!Q26))","v":0},{"$f":"IF(Sheet5!R26=2,Sheet5!R26,IF(S26=1,1,Sheet5!R26))","v":0},{"$f":"IF(Sheet5!S26=2,Sheet5!S26,IF(T26=1,1,Sheet5!S26))","v":0},{"$f":"IF(Sheet5!T26=2,Sheet5!T26,IF(U26=1,1,Sheet5!T26))","v":0},{"$f":"IF(Sheet5!U26=2,Sheet5!U26,IF(V26=1,1,Sheet5!U26))","v":0},{"$f":"IF(Sheet5!V26=2,Sheet5!V26,IF(W26=1,1,Sheet5!V26))","v":0},{"$f":"IF(Sheet5!W26=2,Sheet5!W26,IF(X26=1,1,Sheet5!W26))","v":0},{"$f":"IF(Sheet5!X26=2,Sheet5!X26,IF(Y26=1,1,Sheet5!X26))","v":0},{"$f":"IF(Sheet5!Y26=2,Sheet5!Y26,IF(Z26=1,1,Sheet5!Y26))","v":0},{"$f":"IF(Sheet5!Z26=2,Sheet5!Z26,IF(AA26=1,1,Sheet5!Z26))","v":0},{"$f":"IF(Sheet5!AA26=2,Sheet5!AA26,IF(AB26=1,1,Sheet5!AA26))","v":0},null,null,null,null,null,null,null,null,{"$f":"COUNTIF('Sheet3 (2)'!$H$2:$H$37,C26)","v":0},0,0]
[4,5,"2025-05-22",{"$f":"IF(Sheet5!B27=2,Sheet5!B27,Sheet5!B27)","v":0},{"$f":"IF(Sheet5!C27=2,Sheet5!C27,IF(D27=1,1,Sheet5!C27))","v":0},{"$f":"IF(Sheet5!D27=2,Sheet5!D27,IF(E27=1,1,Sheet5!D27))","v":0},{"$f":"IF(Sheet5!E27=2,Sheet5!E27,IF(F27=1,1,Sheet5!E27))","v":0},{"$f":"IF(Sheet5!F27=2,Sheet5!F27,IF(G27=1,1,Sheet5!F27))","v":0},{"$f":"IF(Sheet5!G27=2,Sheet5!G27,IF(H27=1,1,Sheet5!G27))","v":0},{"$f":"IF(Sheet5!H27=2,Sheet5!H27,IF(I27=1,1,Sheet5!H27))","v":0},{"$f":"IF(Sheet5!I27=2,Sheet5!I27,IF(J27=1,1,Sheet5!I27))","v":0},{"$f":"IF(Sheet5!J27=2,Sheet5!J27,IF(K27=1,1,Sheet5!J27))","v":0},{"$f":"IF(Sheet5!K27=2,Sheet5!K27,IF(L27=1,1,Sheet5!K27))","v":0},{"$f":"IF(Sheet5!L27=2,Sheet5!L27,IF(M27=1,1,Sheet5!L27))","v":0},{"$f":"IF(Sheet5!M27=2,Sheet5!M27,IF(N27=1,1,Sheet5!M27))","v":0},{"$f":"IF(Sheet5!N27=2,Sheet5!N27,IF(O27=1,1,Sheet5!N27))","v":0},{"$f":"IF(Sheet5!O27=2,Sheet5!O27,IF(P27=1,1,Sheet5!O27))","v":0},{"$f":"IF(Sheet5!P27=2,Sheet5!P27,IF(Q27=1,1,Sheet5!P27))","v":0},{"$f":"IF(Sheet5!Q27=2,Sheet5!Q27,IF(R27=1,1,Sheet5!Q27))","v":0},{"$f":"IF(Sheet5!R27=2,Sheet5!R27,IF(S27=1,1,Sheet5!R27))","v":0},{"$f":"IF(Sheet5!S27=2,Sheet5!S27,IF(T27=1,1,Sheet5!S27))","v":0},{"$f":"IF(Sheet5!T27=2,Sheet5!T27,IF(U27=1,1,Sheet5!T27))","v":0},{"$f":"IF(Sheet5!U27=2,Sheet5!U27,IF(V27=1,1,Sheet5!U27))","v":0},{"$f":"IF(Sheet5!V27=2,Sheet5!V27,IF(W27=1,1,Sheet5!V27))","v":0},{"$f":"IF(Sheet5!W27=2,Sheet5!W27,IF(X27=1,1,Sheet5!W27))","v":0},{"$f":"IF(Sheet5!X27=2,Sheet5!X27,IF(Y27=1,1,Sheet5!X27))","v":0},{"$f":"IF(Sheet5!Y27=2,Sheet5!Y27,IF(Z27=1,1,Sheet5!Y27))","v":0},{"$f":"IF(Sheet5!Z27=2,Sheet5!Z27,IF(AA27=1,1,Sheet5!Z27))","v":0},{"$f":"IF(Sheet5!AA27=2,Sheet5!AA27,IF(AB27=1,1,Sheet5!AA27))","v":0},null,null,null,null,null,null,null,null,{"$f":"COUNTIF('Sheet3 (2)'!$H$2:$H$37,C27)","v":0},0,0]
[5,5,"2025-05-23",{"$f":"IF(Sheet5!B28=2,Sheet5!B28,Sheet5!B28)","v":0},{"$f":"IF(Sheet5!C28=2,Sheet5!C28,IF(D28=1,1,Sheet5!C28))","v":0},{"$f":"IF(Sheet5!D28=2,Sheet5!D28,IF(E28=1,1,Sheet5!D28))","v":0},{"$f":"IF(Sheet5!E28=2,Sheet5!E28,IF(F28=1,1,Sheet5!E28))","v":0},{"$f":"IF(Sheet5!F28=2,Sheet5!F28,IF(G28=1,1,Sheet5!F28))","v":0},{"$f":"IF(Sheet5!G28=2,Sheet5!G28,IF(H28=1,1,Sheet5!G28))","v":0},{"$f":"IF(Sheet5!H28=2,Sheet5!H28,IF(I28=1,1,Sheet5!H28))","v":0},{"$f":"IF(Sheet5!I28=2,Sheet5!I28,IF(J28=1,1,Sheet5!I28))","v":0},{"$f":"IF(Sheet5!J28=2,Sheet5!J28,IF(K28=1,1,Sheet5!J28))","v":0},{"$f":"IF(Sheet5!K28=2,Sheet5!K28,IF(L28=1,1,Sheet5!K28))","v":0},{"$f":"IF(Sheet5!L28=2,Sheet5!L28,IF(M28=1,1,Sheet5!L28))","v":0},{"$f":"IF(Sheet5!M28=2,Sheet5!M28,IF(N28=1,1,Sheet5!M28))","v":0},{"$f":"IF(Sheet5!N28=2,Sheet5!N28,IF(O28=1,1,Sheet5!N28))","v":0},{"$f":"IF(Sheet5!O28=2,Sheet5!O28,IF(P28=1,1,Sheet5!O28))","v":0},{"$f":"IF(Sheet5!P28=2,Sheet5!P28,IF(Q28=1,1,Sheet5!P28))","v":1},{"$f":"IF(Sheet5!Q28=2,Sheet5!Q28,IF(R28=1,1,Sheet5!Q28))","v":1},{"$f":"IF(Sheet5!R28=2,Sheet5!R28,IF(S28=1,1,Sheet5!R28))","v":1},{"$f":"IF(Sheet5!S28=2,Sheet5!S28,IF(T28=1,1,Sheet5!S28))","v":1},{"$f":"IF(Sheet5!T28=2,Sheet5!T28,IF(U28=1,1,Sheet5!T28))","v":1},{"$f":"IF(Sheet5!U28=2,Sheet5!U28,IF(V28=1,1,Sheet5!U28))","v":2},{"$f":"IF(Sheet5!V28=2,Sheet5!V28,IF(W28=1,1,Sheet5!V28))","v":0},{"$f":"IF(Sheet5!W28=2,Sheet5!W28,IF(X28=1,1,Sheet5!W28))","v":0},{"$f":"IF(Sheet5!X28=2,Sheet5!X28,IF(Y28=1,1,Sheet5!X28))","v":0},{"$f":"IF(Sheet5!Y28=2,Sheet5!Y28,IF(Z28=1,1,Sheet5!Y28))","v":0},{"$f":"IF(Sheet5!Z28=2,Sheet5!Z28,IF(AA28=1,1,Sheet5!Z28))","v":0},{"$f":"IF(Sheet5!AA28=2,Sheet5!AA28,IF(AB28=1,1,Sheet5!AA28))","v":0},null,null,null,null,null,null,null,null,{"$f":"COUNTIF('Sheet3 (2)'!$H$2:$H$37,C28)","v":0},0,0]
[6,5,"2025-05-24",{"$f":"IF(Sheet5!B29=2,Sheet5!B29,Sheet5!B29)","v":0},{"$f":"IF(Sheet5!C29=2,Sheet5!C29,IF(D29=1,1,Sheet5!C29))","v":0},{"$f":"IF(Sheet5!D29=2,Sheet5!D29,IF(E29=1,1,Sheet5!D29))","v":0},{"$f":"IF(Sheet5!E29=2,Sheet5!E29,IF(F29=1,1,Sheet5!E29))","v":0},{"$f":"IF(Sheet5!F29=2,Sheet5!F29,IF(G29=1,1,Sheet5!F29))","v":0},{"$f":"IF(Sheet5!G29=2,Sheet5!G29,IF(H29=1,1,Sheet5!G29))","v":0},{"$f":"IF(Sheet5!H29=2,Sheet5!H29,IF(I29=1,1,Sheet5!H29))","v":0},{"$f":"IF(Sheet5!I29=2,Sheet5!I29,IF(J29=1,1,Sheet5!I29))","v":0},{"$f":"IF(Sheet5!J29=2,Sheet5!J29,IF(K29=1,1,Sheet5!J29))","v":0},{"$f":"IF(Sheet5!K29=2,Sheet5!K29,IF(L29=1,1,Sheet5!K29))","v":0},{"$f":"IF(Sheet5!L29=2,Sheet5!L29,IF(M29=1,1,Sheet5!L29))","v":0},{"$f":"IF(Sheet5!M29=2,Sheet5!M29,IF(N29=1,1,Sheet5!M29))","v":0},{"$f":"IF(Sheet5!N29=2,Sheet5!N29,IF(O29=1,1,Sheet5!N29))","v":0},{"$f":"IF(Sheet5!O29=2,Sheet5!O29,IF(P29=1,1,Sheet5!O29))","v":0},{"$f":"IF(Sheet5!P29=2,Sheet5!P29,IF(Q29=1,1,Sheet5!P29))","v":0},{"$f":"IF(Sheet5!Q29=2,Sheet5!Q29,IF(R29=1,1,Sheet5!Q29))","v":0},{"$f":"IF(Sheet5!R29=2,Sheet5!R29,IF(S29=1,1,Sheet5!R29))","v":0},{"$f":"IF(Sheet5!S29=2,Sheet5!S29,IF(T29=1,1,Sheet5!S29))","v":0},{"$f":"IF(Sheet5!T29=2,Sheet5!T29,IF(U29=1,1,Sheet5!T29))","v":0},{"$f":"IF(Sheet5!U29=2,Sheet5!U29,IF(V29=1,1,Sheet5!U29))","v":0},{"$f":"IF(Sheet5!V29=2,Sheet5!V29,IF(W29=1,1,Sheet5!V29))","v":0},{"$f":"IF(Sheet5!W29=2,Sheet5!W29,IF(X29=1,1,Sheet5!W29))","v":0},{"$f":"IF(Sheet5!X29=2,Sheet5!X29,IF(Y29=1,1,Sheet5!X29))","v":0},{"$f":"IF(Sheet5!Y29=2,Sheet5!Y29,IF(Z29=1,1,Sheet5!Y29))","v":0},{"$f":"IF(Sheet5!Z29=2,Sheet5!Z29,IF(AA29=1,1,Sheet5!Z29))","v":0},{"$f":"IF(Sheet5!AA29=2,Sheet5!AA29,IF(AB29=1,1,Sheet5!AA29))","v":0},null,null,null,null,null,null,null,null,{"$f":"COUNTIF('Sheet3 (2)'!$H$2:$H$37,C29)","v":0},1,1]
[7,5,"2025-05-25",{"$f":"IF(Sheet5!B30=2,Sheet5!B30,Sheet5!B30)","v":0},{"$f":"IF(Sheet5!C30=2,Sheet5!C30,IF(D30=1,1,Sheet5!C30))","v":0},{"$f":"IF(Sheet5!D30=2,Sheet5!D30,IF(E30=1,1,Sheet5!D30))","v":0},{"$f":"IF(Sheet5!E30=2,Sheet5!E30,IF(F30=1,1,Sheet5!E30))","v":0},{"$f":"IF(Sheet5!F30=2,Sheet5!F30,IF(G30=1,1,Sheet5!F30))","v":0},{"$f":"IF(Sheet5!G30=2,Sheet5!G30,IF(H30=1,1,Sheet5!G30))","v":0},{"$f":"IF(Sheet5!H30=2,Sheet5!H30,IF(I30=1,1,Sheet5!H30))","v":0},{"$f":"IF(Sheet5!I30=2,Sheet5!I30,IF(J30=1,1,Sheet5!I30))","v":0},{"$f":"IF(Sheet5!J30=2,Sheet5!J30,IF(K30=1,1,Sheet5!J30))","v":0},{"$f":"IF(Sheet5!K30=2,Sheet5!K30,IF(L30=1,1,Sheet5!K30))","v":0},{"$f":"IF(Sheet5!L30=2,Sheet5!L30,IF(M30=1,1,Sheet5!L30))","v":0},{"$f":"IF(Sheet5!M30=2,Sheet5!M30,IF(N30=1,1,Sheet5!M30))","v":0},{"$f":"IF(Sheet5!N30=2,Sheet5!N30,IF(O30=1,1,Sheet5!N30))","v":0},{"$f":"IF(Sheet5!O30=2,Sheet5!O30,IF(P30=1,1,Sheet5!O30))","v":0},{"$f":"IF(Sheet5!P30=2,Sheet5!P30,IF(Q30=1,1,Sheet5!P30))","v":0},{"$f":"IF(Sheet5!Q30=2,Sheet5!Q30,IF(R30=1,1,Sheet5!Q30))","v":0},{"$f":"IF(Sheet5!R30=2,Sheet5!R30,IF(S30=1,1,Sheet5!R30))","v":0},{"$f":"IF(Sheet5!S30=2,Sheet5!S30,IF(T30=1,1,Sheet5!S30))","v":0},{"$f":"IF(Sheet5!T30=2,Sheet5!T30,IF(U30=1,1,Sheet5!T30))","v":0},{"$f":"IF(Sheet5!U30=2,Sheet5!U30,IF(V30=1,1,Sheet5!U30))","v":0},{"$f":"IF(Sheet5!V30=2,Sheet5!V30,IF(W30=1,1,Sheet5!V30))","v":0},{"$f":"IF(Sheet5!W30=2,Sheet5!W30,IF(X30=1,1,Sheet5!W30))","v":0},{"$f":"IF(Sheet5!X30=2,Sheet5!X30,IF(Y30=1,1,Sheet5!X30))","v":0},{"$f":"IF(Sheet5!Y30=2,Sheet5!Y30,IF(Z30=1,1,Sheet5!Y30))","v":0},{"$f":"IF(Sheet5!Z30=2,Sheet5!Z30,IF(AA30=1,1,Sheet5!Z30))","v":0},{"$f":"IF(Sheet5!AA30=2,Sheet5!AA30,IF(AB30=1,1,Sheet5!AA30))","v":0},null,null,null,null,null,null,null,null,{"$f":"COUNTIF('Sheet3 (2)'!$H$2:$H$37,C30)","v":0},1,1]
[1,5,"2025-05-26",{"$f":"IF(Sheet5!B31=2,Sheet5!B31,Sheet5!B31)","v":0},{"$f":"IF(Sheet5!C31=2,Sheet5!C31,IF(D31=1,1,Sheet5!C31))","v":0},{"$f":"IF(Sheet5!D31=2,Sheet5!D31,IF(E31=1,1,Sheet5!D31))","v":0},{"$f":"IF(Sheet5!E31=2,Sheet5!E31,IF(F31=1,1,Sheet5!E31))","v":0},{"$f":"IF(Sheet5!F31=2,Sheet5!F31,IF(G31=1,1,Sheet5!F31))","v":0},{"$f":"IF(Sheet5!G31=2,Sheet5!G31,IF(H31=1,1,Sheet5!G31))","v":0},{"$f":"IF(Sheet5!H31=2,Sheet5!H31,IF(I31=1,1,Sheet5!H31))","v":0},{"$f":"IF(Sheet5!I31=2,Sheet5!I31,IF(J31=1,1,Sheet5!I31))","v":0},{"$f":"IF(Sheet5!J31=2,Sheet5!J31,IF(K31=1,1,Sheet5!J31))","v":0},{"$f":"IF(Sheet5!K31=2,Sheet5!K31,IF(L31=1,1,Sheet5!K31))","v":0},{"$f":"IF(Sheet5!L31=2,Sheet5!L31,IF(M31=1,1,Sheet5!L31))","v":0},{"$f":"IF(Sheet5!M31=2,Sheet5!M31,IF(N31=1,1,Sheet5!M31))","v":0},{"$f":"IF(Sheet5!N31=2,Sheet5!N31,IF(O31=1,1,Sheet5!N31))","v":0},{"$f":"IF(Sheet5!O31=2,Sheet5!O31,IF(P31=1,1,Sheet5!O31))","v":0},{"$f":"IF(Sheet5!P31=2,Sheet5!P31,IF(Q31=1,1,Sheet5!P31))","v":0},{"$f":"IF(Sheet5!Q31=2,Sheet5!Q31,IF(R31=1,1,Sheet5!Q31))","v":0},{"$f":"IF(Sheet5!R31=2,Sheet5!R31,IF(S31=1,1,Sheet5!R31))","v":0},{"$f":"IF(Sheet5!S31=2,Sheet5!S31,IF(T31=1,1,Sheet5!S31))","v":0},{"$f":"IF(Sheet5!T31=2,Sheet5!T31,IF(U31=1,1,Sheet5!T31))","v":0},{"$f":"IF(Sheet5!U31=2,Sheet5!U31,IF(V31=1,1,Sheet5!U31))","v":0},{"$f":"IF(Sheet5!V31=2,Sheet5!V31,IF(W31=1,1,Sheet5!V31))","v":0},{"$f":"IF(Sheet5!W31=2,Sheet5!W31,IF(X31=1,1,Sheet5!W31))","v":0},{"$f":"IF(Sheet5!X31=2,Sheet5!X31,IF(Y31=1,1,Sheet5!X31))","v":0},{"$f":"IF(Sheet5!Y31=2,Sheet5!Y31,IF(Z31=1,1,Sheet5!Y31))","v":0},{"$f":"IF(Sheet5!Z31=2,Sheet5!Z31,IF(AA31=1,1,Sheet5!Z31))","v":0},{"$f":"IF(Sheet5!AA31=2,Sheet5!AA31,IF(AB31=1,1,Sheet5!AA31))","v":0},null,null,null,null,null,null,null,null,{"$f":"COUNTIF('Sheet3 (2)'!$H$2:$H$37,C31)","v":0},0,0]
[2,5,"2025-05-27",{"$f":"IF(Sheet5!B32=2,Sheet5!B32,Sheet5!B32)","v":0},{"$f":"IF(Sheet5!C32=2,Sheet5!C32,IF(D32=1,1,Sheet5!C32))","v":0},{"$f":"IF(Sheet5!D32=2,Sheet5!D32,IF(E32=1,1,Sheet5!D32))","v":0},{"$f":"IF(Sheet5!E32=2,Sheet5!E32,IF(F32=1,1,Sheet5!E32))","v":0},{"$f":"IF(Sheet5!F32=2,Sheet5!F32,IF(G32=1,1,Sheet5!F32))","v":0},{"$f":"IF(Sheet5!G32=2,Sheet5!G32,IF(H32=1,1,Sheet5!G32))","v":0},{"$f":"IF(Sheet5!H32=2,Sheet5!H32,IF(I32=1,1,Sheet5!H32))","v":0},{"$f":"IF(Sheet5!I32=2,Sheet5!I32,IF(J32=1,1,Sheet5!I32))","v":0},{"$f":"IF(Sheet5!J32=2,Sheet5!J32,IF(K32=1,1,Sheet5!J32))","v":0},{"$f":"IF(Sheet5!K32=2,Sheet5!K32,IF(L32=1,1,Sheet5!K32))","v":0},{"$f":"IF(Sheet5!L32=2,Sheet5!L32,IF(M32=1,1,Sheet5!L32))","v":0},{"$f":"IF(Sheet5!M32=2,Sheet5!M32,IF(N32=1,1,Sheet5!M32))","v":0},{"$f":"IF(Sheet5!N32=2,Sheet5!N32,IF(O32=1,1,Sheet5!N32))","v":0},{"$f":"IF(Sheet5!O32=2,Sheet5!O32,IF(P32=1,1,Sheet5!O32))","v":0},{"$f":"IF(Sheet5!P32=2,Sheet5!P32,IF(Q32=1,1,Sheet5!P32))","v":0},{"$f":"IF(Sheet5!Q32=2,Sheet5!Q32,IF(R32=1,1,Sheet5!Q32))","v":0},{"$f":"IF(Sheet5!R32=2,Sheet5!R32,IF(S32=1,1,Sheet5!R32))","v":0},{"$f":"IF(Sheet5!S32=2,Sheet5!S32,IF(T32=1,1,Sheet5!S32))","v":0},{"$f":"IF(Sheet5!T32=2,Sheet5!T32,IF(U32=1,1,Sheet5!T32))","v":0},{"$f":"IF(Sheet5!U32=2,Sheet5!U32,IF(V32=1,1,Sheet5!U32))","v":0},{"$f":"IF(Sheet5!V32=2,Sheet5!V32,IF(W32=1,1,Sheet5!V32))","v":0},{"$f":"IF(Sheet5!W32=2,Sheet5!W32,IF(X32=1,1,Sheet5!W32))","v":0},{"$f":"IF(Sheet5!X32=2,Sheet5!X32,IF(Y32=1,1,Sheet5!X32))","v":0},{"$f":"IF(Sheet5!Y32=2,Sheet5!Y32,IF(Z32=1,1,Sheet5!Y32))","v":0},{"$f":"IF(Sheet5!Z32=2,Sheet5!Z32,IF(AA32=1,1,Sheet5!Z32))","v":0},{"$f":"IF(Sheet5!AA32=2,Sheet5!AA32,IF(AB32=1,1,Sheet5!AA32))","v":0},null,null,null,null,null,null,null,null,{"$f":"COUNTIF('Sheet3 (2)'!$H$2:$H$37,C32)","v":0},0,0]
[3,5,"2025-05-28",{"$f":"IF(Sheet5!B33=2,Sheet5!B33,Sheet5!B33)","v":0},{"$f":"IF(Sheet5!C33=2,Sheet5!C33,IF(D33=1,1,Sheet5!C33))","v":0},{"$f":"IF(Sheet5!D33=2,Sheet5!D33,IF(E33=1,1,Sheet5!D33))","v":0},{"$f":"IF(Sheet5!E33=2,Sheet5!E33,IF(F33=1,1,Sheet5!E33))","v":0},{"$f":"IF(Sheet5!F33=2,Sheet5!F33,IF(G33=1,1,Sheet5!F33))","v":0},{"$f":"IF(Sheet5!G33=2,Sheet5!G33,IF(H33=1,1,Sheet5!G33))","v":0},{"$f":"IF(Sheet5!H33=2,Sheet5!H33,IF(I33=1,1,Sheet5!H33))","v":0},{"$f":"IF(Sheet5!I33=2,Sheet5!I33,IF(J33=1,1,Sheet5!I33))","v":0},{"$f":"IF(Sheet5!J33=2,Sheet5!J33,IF(K33=1,1,Sheet5!J33))","v":0},{"$f":"IF(Sheet5!K33=2,Sheet5!K33,IF(L33=1,1,Sheet5!K33))","v":0},{"$f":"IF(Sheet5!L33=2,Sheet5!L33,IF(M33=1,1,Sheet5!L33))","v":0},{"$f":"IF(Sheet5!M33=2,Sheet5!M33,IF(N33=1,1,Sheet5!M33))","v":0},{"$f":"IF(Sheet5!N33=2,Sheet5!N33,IF(O33=1,1,Sheet5!N33))","v":0},{"$f":"IF(Sheet5!O33=2,Sheet5!O33,IF(P33=1,1,Sheet5!O33))","v":0},{"$f":"IF(Sheet5!P33=2,Sheet5!P33,IF(Q33=1,1,Sheet5!P33))","v":0},{"$f":"IF(Sheet5!Q33=2,Sheet5!Q33,IF(R33=1,1,Sheet5!Q33))","v":0},{"$f":"IF(Sheet5!R33=2,Sheet5!R33,IF(S33=1,1,Sheet5!R33))","v":0},{"$f":"IF(Sheet5!S33=2,Sheet5!S33,IF(T33=1,1,Sheet5!S33))","v":0},{"$f":"IF(Sheet5!T33=2,Sheet5!T33,IF(U33=1,1,Sheet5!T33))","v":0},{"$f":"IF(Sheet5!U33=2,Sheet5!U33,IF(V33=1,1,Sheet5!U33))","v":0},{"$f":"IF(Sheet5!V33=2,Sheet5!V33,IF(W33=1,1,Sheet5!V33))","v":0},{"$f":"IF(Sheet5!W33=2,Sheet5!W33,IF(X33=1,1,Sheet5!W33))","v":0},{"$f":"IF(Sheet5!X33=2,Sheet5!X33,IF(Y33=1,1,Sheet5!X33))","v":0},{"$f":"IF(Sheet5!Y33=2,Sheet5!Y33,IF(Z33=1,1,Sheet5!Y33))","v":0},{"$f":"IF(Sheet5!Z33=2,Sheet5!Z33,IF(AA33=1,1,Sheet5!Z33))","v":0},{"$f":"IF(Sheet5!AA33=2,Sheet5!AA33,IF(AB33=1,1,Sheet5!AA33))","v":0},null,null,null,null,null,null,null,null,{"$f":"COUNTIF('Sheet3 (2)'!$H$2:$H$37,C33)","v":0},0,0]
[]
[]
[]
[]
[]
[]
[]
[]
[]
[]
[]
[]
[]
[]
[null,null,{"$f":"TODAY()","v":45775}]

{"sheet":"Sheet5","index":1,"n_rows":33,"n_cols":28,"rows_kept":33,"cut":false,"hidden":true,"merged":[]}
[]
[null,8,null,9,null,10,null,11,null,12,null,13,null,14,null,15,null,16,null,17,null,18,null,19,null,20,null,21]
[{"$f":"Sheet4!D2","v":"2025-04-28"},{"$f":"Sheet4!E2+Sheet4!E33","v":0},{"$f":"Sheet4!F2+Sheet4!F33","v":0},{"$f":"Sheet4!G2+Sheet4!G33","v":0},{"$f":"Sheet4!H2+Sheet4!H33","v":0},{"$f":"Sheet4!I2+Sheet4!I33","v":0},{"$f":"Sheet4!J2+Sheet4!J33","v":0},{"$f":"Sheet4!K2+Sheet4!K33","v":0},{"$f":"Sheet4!L2+Sheet4!L33","v":0},{"$f":"Sheet4!M2+Sheet4!M33","v":0},{"$f":"Sheet4!N2+Sheet4!N33","v":0},{"$f":"Sheet4!O2+Sheet4!O33","v":0},{"$f":"Sheet4!P2+Sheet4!P33","v":0},{"$f":"Sheet4!Q2+Sheet4!Q33","v":0},{"$f":"Sheet4!R2+Sheet4!R33","v":0},{"$f":"Sheet4!S2+Sheet4!S33","v":0},{"$f":"Sheet4!T2+Sheet4!T33","v":0},{"$f":"Sheet4!U2+Sheet4!U33","v":0},{"$f":"Sheet4!V2+Sheet4!V33","v":0},{"$f":"Sheet4!W2+Sheet4!W33","v":0},{"$f":"Sheet4!X2+Sheet4!X33","v":0},{"$f":"Sheet4!Y2+Sheet4!Y33","v":0},{"$f":"Sheet4!Z2+Sheet4!Z33","v":0},{"$f":"Sheet4!AA2+Sheet4!AA33","v":0},{"$f":"Sheet4!AB2+Sheet4!AB33","v":0},{"$f":"Sheet4!AC2+Sheet4!AC33","v":0},{"$f":"Sheet4!AD2+Sheet4!AD33","v":0},{"$f":"Sheet4!AE2+Sheet4!AE33","v":0}]
[{"$f":"A3+1","v":"2025-04-29"},{"$f":"Sheet4!E3+Sheet4!E34","v":0},{"$f":"Sheet4!F3+Sheet4!F34","v":0},{"$f":"Sheet4!G3+Sheet4!G34","v":0},{"$f":"Sheet4!H3+Sheet4!H34","v":0},{"$f":"Sheet4!I3+Sheet4!I34","v":0},{"$f":"Sheet4!J3+Sheet4!J34","v":0},{"$f":"Sheet4!K3+Sheet4!K34","v":0},{"$f":"Sheet4!L3+Sheet4!L34","v":0},{"$f":"Sheet4!M3+Sheet4!M34","v":0},{"$f":"Sheet4!N3+Sheet4!N34","v":0},{"$f":"Sheet4!O3+Sheet4!O34","v":0},{"$f":"Sheet4!P3+Sheet4!P34","v":0},{"$f":"Sheet4!Q3+Sheet4!Q34","v":0},{"$f":"Sheet4!R3+Sheet4!R34","v":0},{"$f":"Sheet4!S3+Sheet4!S34","v":0},{"$f":"Sheet4!T3+Sheet4!T34","v":0},{"$f":"Sheet4!U3+Sheet4!U34","v":0},{"$f":"Sheet4!V3+Sheet4!V34","v":0},{"$f":"Sheet4!W3+Sheet4!W34","v":0},{"$f":"Sheet4!X3+Sheet4!X34","v":0},{"$f":"Sheet4!Y3+Sheet4!Y34","v":0},{"$f":"Sheet4!Z3+Sheet4!Z34","v":0},{"$f":"Sheet4!AA3+Sheet4!AA34","v":0},{"$f":"Sheet4!AB3+Sheet4!AB34","v":0},{"$f":"Sheet4!AC3+Sheet4!AC34","v":0},{"$f":"Sheet4!AD3+Sheet4!AD34","v":0},{"$f":"Sheet4!AE3+Sheet4!AE34","v":0}]
["2025-04-30",{"$f":"Sheet4!E4+Sheet4!E35","v":0},{"$f":"Sheet4!F4+Sheet4!F35","v":0},{"$f":"Sheet4!G4+Sheet4!G35","v":0},{"$f":"Sheet4!H4+Sheet4!H35","v":0},{"$f":"Sheet4!I4+Sheet4!I35","v":0},{"$f":"Sheet4!J4+Sheet4!J35","v":0},{"$f":"Sheet4!K4+Sheet4!K35","v":0},{"$f":"Sheet4!L4+Sheet4!L35","v":0},{"$f":"Sheet4!M4+Sheet4!M35","v":0},{"$f":"Sheet4!N4+Sheet4!N35","v":0},{"$f":"Sheet4!O4+Sheet4!O35","v":0},{"$f":"Sheet4!P4+Sheet4!P35","v":0},{"$f":"Sheet4!Q4+Sheet4!Q35","v":0},{"$f":"Sheet4!R4+Sheet4!R35","v":0},{"$f":"Sheet4!S4+Sheet4!S35","v":0},{"$f":"Sheet4!T4+Sheet4!T35","v":0},{"$f":"Sheet4!U4+Sheet4!U35","v":0},{"$f":"Sheet4!V4+Sheet4!V35","v":0},{"$f":"Sheet4!W4+Sheet4!W35","v":0},{"$f":"Sheet4!X4+Sheet4!X35","v":0},{"$f":"Sheet4!Y4+Sheet4!Y35","v":0},{"$f":"Sheet4!Z4+Sheet4!Z35","v":0},{"$f":"Sheet4!AA4+Sheet4!AA35","v":0},{"$f":"Sheet4!AB4+Sheet4!AB35","v":0},{"$f":"Sheet4!AC4+Sheet4!AC35","v":0},{"$f":"Sheet4!AD4+Sheet4!AD35","v":0},{"$f":"Sheet4!AE4+Sheet4!AE35","v":0}]
["2025-05-01",{"$f":"Sheet4!E5+Sheet4!E36","v":0},{"$f":"Sheet4!F5+Sheet4!F36","v":0},{"$f":"Sheet4!G5+Sheet4!G36","v":0},{"$f":"Sheet4!H5+Sheet4!H36","v":0},{"$f":"Sheet4!I5+Sheet4!I36","v":0},{"$f":"Sheet4!J5+Sheet4!J36","v":0},{"$f":"Sheet4!K5+Sheet4!K36","v":0},{"$f":"Sheet4!L5+Sheet4!L36","v":0},{"$f":"Sheet4!M5+Sheet4!M36","v":0},{"$f":"Sheet4!N5+Sheet4!N36","v":0},{"$f":"Sheet4!O5+Sheet4!O36","v":0},{"$f":"Sheet4!P5+Sheet4!P36","v":0},{"$f":"Sheet4!Q5+Sheet4!Q36","v":0},{"$f":"Sheet4!R5+Sheet4!R36","v":0},{"$f":"Sheet4!S5+Sheet4!S36","v":0},{"$f":"Sheet4!T5+Sheet4!T36","v":0},{"$f":"Sheet4!U5+Sheet4!U36","v":0},{"$f":"Sheet4!V5+Sheet4!V36","v":0},{"$f":"Sheet4!W5+Sheet4!W36","v":0},{"$f":"Sheet4!X5+Sheet4!X36","v":0},{"$f":"Sheet4!Y5+Sheet4!Y36","v":0},{"$f":"Sheet4!Z5+Sheet4!Z36","v":0},{"$f":"Sheet4!AA5+Sheet4!AA36","v":0},{"$f":"Sheet4!AB5+Sheet4!AB36","v":0},{"$f":"Sheet4!AC5+Sheet4!AC36","v":0},{"$f":"Sheet4!AD5+Sheet4!AD36","v":0},{"$f":"Sheet4!AE5+Sheet4!AE36","v":0}]
["2025-05-02",{"$f":"Sheet4!E6+Sheet4!E37","v":0},{"$f":"Sheet4!F6+Sheet4!F37","v":0},{"$f":"Sheet4!G6+Sheet4!G37","v":0},{"$f":"Sheet4!H6+Sheet4!H37","v":0},{"$f":"Sheet4!I6+Sheet4!I37","v":0},{"$f":"Sheet4!J6+Sheet4!J37","v":0},{"$f":"Sheet4!K6+Sheet4!K37","v":0},{"$f":"Sheet4!L6+Sheet4!L37","v":0},{"$f":"Sheet4!M6+Sheet4!M37","v":0},{"$f":"Sheet4!N6+Sheet4!N37","v":0},{"$f":"Sheet4!O6+Sheet4!O37","v":0},{"$f":"Sheet4!P6+Sheet4!P37","v":0},{"$f":"Sheet4!Q6+Sheet4!Q37","v":0},{"$f":"Sheet4!R6+Sheet4!R37","v":0},{"$f":"Sheet4!S6+Sheet4!S37","v":0},{"$f":"Sheet4!T6+Sheet4!T37","v":0},{"$f":"Sheet4!U6+Sheet4!U37","v":0},{"$f":"Sheet4!V6+Sheet4!V37","v":0},{"$f":"Sheet4!W6+Sheet4!W37","v":0},{"$f":"Sheet4!X6+Sheet4!X37","v":0},{"$f":"Sheet4!Y6+Sheet4!Y37","v":0},{"$f":"Sheet4!Z6+Sheet4!Z37","v":0},{"$f":"Sheet4!AA6+Sheet4!AA37","v":0},{"$f":"Sheet4!AB6+Sheet4!AB37","v":0},{"$f":"Sheet4!AC6+Sheet4!AC37","v":0},{"$f":"Sheet4!AD6+Sheet4!AD37","v":0},{"$f":"Sheet4!AE6+Sheet4!AE37","v":0}]
["2025-05-03",{"$f":"Sheet4!E7+Sheet4!E38","v":0},{"$f":"Sheet4!F7+Sheet4!F38","v":0},{"$f":"Sheet4!G7+Sheet4!G38","v":0},{"$f":"Sheet4!H7+Sheet4!H38","v":0},{"$f":"Sheet4!I7+Sheet4!I38","v":0},{"$f":"Sheet4!J7+Sheet4!J38","v":0},{"$f":"Sheet4!K7+Sheet4!K38","v":0},{"$f":"Sheet4!L7+Sheet4!L38","v":0},{"$f":"Sheet4!M7+Sheet4!M38","v":0},{"$f":"Sheet4!N7+Sheet4!N38","v":0},{"$f":"Sheet4!O7+Sheet4!O38","v":0},{"$f":"Sheet4!P7+Sheet4!P38","v":0},{"$f":"Sheet4!Q7+Sheet4!Q38","v":0},{"$f":"Sheet4!R7+Sheet4!R38","v":0},{"$f":"Sheet4!S7+Sheet4!S38","v":0},{"$f":"Sheet4!T7+Sheet4!T38","v":0},{"$f":"Sheet4!U7+Sheet4!U38","v":0},{"$f":"Sheet4!V7+Sheet4!V38","v":0},{"$f":"Sheet4!W7+Sheet4!W38","v":0},{"$f":"Sheet4!X7+Sheet4!X38","v":0},{"$f":"Sheet4!Y7+Sheet4!Y38","v":0},{"$f":"Sheet4!Z7+Sheet4!Z38","v":0},{"$f":"Sheet4!AA7+Sheet4!AA38","v":0},{"$f":"Sheet4!AB7+Sheet4!AB38","v":0},{"$f":"Sheet4!AC7+Sheet4!AC38","v":0},{"$f":"Sheet4!AD7+Sheet4!AD38","v":0},{"$f":"Sheet4!AE7+Sheet4!AE38","v":0}]
["2025-05-04",{"$f":"Sheet4!E8+Sheet4!E39","v":0},{"$f":"Sheet4!F8+Sheet4!F39","v":0},{"$f":"Sheet4!G8+Sheet4!G39","v":0},{"$f":"Sheet4!H8+Sheet4!H39","v":0},{"$f":"Sheet4!I8+Sheet4!I39","v":0},{"$f":"Sheet4!J8+Sheet4!J39","v":0},{"$f":"Sheet4!K8+Sheet4!K39","v":0},{"$f":"Sheet4!L8+Sheet4!L39","v":0},{"$f":"Sheet4!M8+Sheet4!M39","v":0},{"$f":"Sheet4!N8+Sheet4!N39","v":0},{"$f":"Sheet4!O8+Sheet4!O39","v":0},{"$f":"Sheet4!P8+Sheet4!P39","v":0},{"$f":"Sheet4!Q8+Sheet4!Q39","v":0},{"$f":"Sheet4!R8+Sheet4!R39","v":0},{"$f":"Sheet4!S8+Sheet4!S39","v":0},{"$f":"Sheet4!T8+Sheet4!T39","v":0},{"$f":"Sheet4!U8+Sheet4!U39","v":0},{"$f":"Sheet4!V8+Sheet4!V39","v":0},{"$f":"Sheet4!W8+Sheet4!W39","v":0},{"$f":"Sheet4!X8+Sheet4!X39","v":0},{"$f":"Sheet4!Y8+Sheet4!Y39","v":0},{"$f":"Sheet4!Z8+Sheet4!Z39","v":0},{"$f":"Sheet4!AA8+Sheet4!AA39","v":0},{"$f":"Sheet4!AB8+Sheet4!AB39","v":0},{"$f":"Sheet4!AC8+Sheet4!AC39","v":0},{"$f":"Sheet4!AD8+Sheet4!AD39","v":0},{"$f":"Sheet4!AE8+Sheet4!AE39","v":0}]
["2025-05-05",{"$f":"Sheet4!E9+Sheet4!E40","v":0},{"$f":"Sheet4!F9+Sheet4!F40","v":0},{"$f":"Sheet4!G9+Sheet4!G40","v":0},{"$f":"Sheet4!H9+Sheet4!H40","v":0},{"$f":"Sheet4!I9+Sheet4!I40","v":0},{"$f":"Sheet4!J9+Sheet4!J40","v":0},{"$f":"Sheet4!K9+Sheet4!K40","v":0},{"$f":"Sheet4!L9+Sheet4!L40","v":0},{"$f":"Sheet4!M9+Sheet4!M40","v":0},{"$f":"Sheet4!N9+Sheet4!N40","v":0},{"$f":"Sheet4!O9+Sheet4!O40","v":0},{"$f":"Sheet4!P9+Sheet4!P40","v":0},{"$f":"Sheet4!Q9+Sheet4!Q40","v":0},{"$f":"Sheet4!R9+Sheet4!R40","v":0},{"$f":"Sheet4!S9+Sheet4!S40","v":0},{"$f":"Sheet4!T9+Sheet4!T40","v":0},{"$f":"Sheet4!U9+Sheet4!U40","v":0},{"$f":"Sheet4!V9+Sheet4!V40","v":0},{"$f":"Sheet4!W9+Sheet4!W40","v":0},{"$f":"Sheet4!X9+Sheet4!X40","v":0},{"$f":"Sheet4!Y9+Sheet4!Y40","v":0},{"$f":"Sheet4!Z9+Sheet4!Z40","v":0},{"$f":"Sheet4!AA9+Sheet4!AA40","v":0},{"$f":"Sheet4!AB9+Sheet4!AB40","v":0},{"$f":"Sheet4!AC9+Sheet4!AC40","v":0},{"$f":"Sheet4!AD9+Sheet4!AD40","v":0},{"$f":"Sheet4!AE9+Sheet4!AE40","v":0}]
["2025-05-06",{"$f":"Sheet4!E10+Sheet4!E41","v":0},{"$f":"Sheet4!F10+Sheet4!F41","v":0},{"$f":"Sheet4!G10+Sheet4!G41","v":0},{"$f":"Sheet4!H10+Sheet4!H41","v":0},{"$f":"Sheet4!I10+Sheet4!I41","v":0},{"$f":"Sheet4!J10+Sheet4!J41","v":0},{"$f":"Sheet4!K10+Sheet4!K41","v":0},{"$f":"Sheet4!L10+Sheet4!L41","v":0},{"$f":"Sheet4!M10+Sheet4!M41","v":0},{"$f":"Sheet4!N10+Sheet4!N41","v":0},{"$f":"Sheet4!O10+Sheet4!O41","v":0},{"$f":"Sheet4!P10+Sheet4!P41","v":0},{"$f":"Sheet4!Q10+Sheet4!Q41","v":0},{"$f":"Sheet4!R10+Sheet4!R41","v":0},{"$f":"Sheet4!S10+Sheet4!S41","v":0},{"$f":"Sheet4!T10+Sheet4!T41","v":0},{"$f":"Sheet4!U10+Sheet4!U41","v":0},{"$f":"Sheet4!V10+Sheet4!V41","v":0},{"$f":"Sheet4!W10+Sheet4!W41","v":0},{"$f":"Sheet4!X10+Sheet4!X41","v":0},{"$f":"Sheet4!Y10+Sheet4!Y41","v":0},{"$f":"Sheet4!Z10+Sheet4!Z41","v":0},{"$f":"Sheet4!AA10+Sheet4!AA41","v":0},{"$f":"Sheet4!AB10+Sheet4!AB41","v":0},{"$f":"Sheet4!AC10+Sheet4!AC41","v":0},{"$f":"Sheet4!AD10+Sheet4!AD41","v":0},{"$f":"Sheet4!AE10+Sheet4!AE41","v":0}]
["2025-05-07",{"$f":"Sheet4!E11+Sheet4!E42","v":0},{"$f":"Sheet4!F11+Sheet4!F42","v":0},{"$f":"Sheet4!G11+Sheet4!G42","v":0},{"$f":"Sheet4!H11+Sheet4!H42","v":0},{"$f":"Sheet4!I11+Sheet4!I42","v":0},{"$f":"Sheet4!J11+Sheet4!J42","v":0},{"$f":"Sheet4!K11+Sheet4!K42","v":0},{"$f":"Sheet4!L11+Sheet4!L42","v":0},{"$f":"Sheet4!M11+Sheet4!M42","v":0},{"$f":"Sheet4!N11+Sheet4!N42","v":0},{"$f":"Sheet4!O11+Sheet4!O42","v":0},{"$f":"Sheet4!P11+Sheet4!P42","v":0},{"$f":"Sheet4!Q11+Sheet4!Q42","v":0},{"$f":"Sheet4!R11+Sheet4!R42","v":0},{"$f":"Sheet4!S11+Sheet4!S42","v":1},{"$f":"Sheet4!T11+Sheet4!T42","v":0},{"$f":"Sheet4!U11+Sheet4!U42","v":0},{"$f":"Sheet4!V11+Sheet4!V42","v":2},{"$f":"Sheet4!W11+Sheet4!W42","v":0},{"$f":"Sheet4!X11+Sheet4!X42","v":0},{"$f":"Sheet4!Y11+Sheet4!Y42","v":0},{"$f":"Sheet4!Z11+Sheet4!Z42","v":0},{"$f":"Sheet4!AA11+Sheet4!AA42","v":0},{"$f":"Sheet4!AB11+Sheet4!AB42","v":0},{"$f":"Sheet4!AC11+Sheet4!AC42","v":0},{"$f":"Sheet4!AD11+Sheet4!AD42","v":0},{"$f":"Sheet4!AE11+Sheet4!AE42","v":0}]
["2025-05-08",{"$f":"Sheet4!E12+Sheet4!E43","v":0},{"$f":"Sheet4!F12+Sheet4!F43","v":0},{"$f":"Sheet4!G12+Sheet4!G43","v":0},{"$f":"Sheet4!H12+Sheet4!H43","v":0},{"$f":"Sheet4!I12+Sheet4!I43","v":0},{"$f":"Sheet4!J12+Sheet4!J43","v":0},{"$f":"Sheet4!K12+Sheet4!K43","v":0},{"$f":"Sheet4!L12+Sheet4!L43","v":0},{"$f":"Sheet4!M12+Sheet4!M43","v":0},{"$f":"Sheet4!N12+Sheet4!N43","v":0},{"$f":"Sheet4!O12+Sheet4!O43","v":0},{"$f":"Sheet4!P12+Sheet4!P43","v":0},{"$f":"Sheet4!Q12+Sheet4!Q43","v":0},{"$f":"Sheet4!R12+Sheet4!R43","v":0},{"$f":"Sheet4!S12+Sheet4!S43","v":0},{"$f":"Sheet4!T12+Sheet4!T43","v":0},{"$f":"Sheet4!U12+Sheet4!U43","v":0},{"$f":"Sheet4!V12+Sheet4!V43","v":0},{"$f":"Sheet4!W12+Sheet4!W43","v":0},{"$f":"Sheet4!X12+Sheet4!X43","v":0},{"$f":"Sheet4!Y12+Sheet4!Y43","v":0},{"$f":"Sheet4!Z12+Sheet4!Z43","v":0},{"$f":"Sheet4!AA12+Sheet4!AA43","v":0},{"$f":"Sheet4!AB12+Sheet4!AB43","v":0},{"$f":"Sheet4!AC12+Sheet4!AC43","v":0},{"$f":"Sheet4!AD12+Sheet4!AD43","v":0},{"$f":"Sheet4!AE12+Sheet4!AE43","v":0}]
["2025-05-09",{"$f":"Sheet4!E13+Sheet4!E44","v":0},{"$f":"Sheet4!F13+Sheet4!F44","v":0},{"$f":"Sheet4!G13+Sheet4!G44","v":0},{"$f":"Sheet4!H13+Sheet4!H44","v":0},{"$f":"Sheet4!I13+Sheet4!I44","v":0},{"$f":"Sheet4!J13+Sheet4!J44","v":0},{"$f":"Sheet4!K13+Sheet4!K44","v":0},{"$f":"Sheet4!L13+Sheet4!L44","v":0},{"$f":"Sheet4!M13+Sheet4!M44","v":0},{"$f":"Sheet4!N13+Sheet4!N44","v":0},{"$f":"Sheet4!O13+Sheet4!O44","v":0},{"$f":"Sheet4!P13+Sheet4!P44","v":0},{"$f":"Sheet4!Q13+Sheet4!Q44","v":1},{"$f":"Sheet4!R13+Sheet4!R44","v":0},{"$f":"Sheet4!S13+Sheet4!S44","v":0},{"$f":"Sheet4!T13+Sheet4!T44","v":0},{"$f":"Sheet4!U13+Sheet4!U44","v":0},{"$f":"Sheet4!V13+Sheet4!V44","v":2},{"$f":"Sheet4!W13+Sheet4!W44","v":0},{"$f":"Sheet4!X13+Sheet4!X44","v":0},{"$f":"Sheet4!Y13+Sheet4!Y44","v":0},{"$f":"Sheet4!Z13+Sheet4!Z44","v":0},{"$f":"Sheet4!AA13+Sheet4!AA44","v":0},{"$f":"Sheet4!AB13+Sheet4!AB44","v":0},{"$f":"Sheet4!AC13+Sheet4!AC44","v":0},{"$f":"Sheet4!AD13+Sheet4!AD44","v":0},{"$f":"Sheet4!AE13+Sheet4!AE44","v":0}]
["2025-05-10",{"$f":"Sheet4!E14+Sheet4!E45","v":0},{"$f":"Sheet4!F14+Sheet4!F45","v":0},{"$f":"Sheet4!G14+Sheet4!G45","v":0},{"$f":"Sheet4!H14+Sheet4!H45","v":0},{"$f":"Sheet4!I14+Sheet4!I45","v":0},{"$f":"Sheet4!J14+Sheet4!J45","v":0},{"$f":"Sheet4!K14+Sheet4!K45","v":0},{"$f":"Sheet4!L14+Sheet4!L45","v":0},{"$f":"Sheet4!M14+Sheet4!M45","v":0},{"$f":"Sheet4!N14+Sheet4!N45","v":0},{"$f":"Sheet4!O14+Sheet4!O45","v":0},{"$f":"Sheet4!P14+Sheet4!P45","v":0},{"$f":"Sheet4!Q14+Sheet4!Q45","v":0},{"$f":"Sheet4!R14+Sheet4!R45","v":0},{"$f":"Sheet4!S14+Sheet4!S45","v":0},{"$f":"Sheet4!T14+Sheet4!T45","v":0},{"$f":"Sheet4!U14+Sheet4!U45","v":0},{"$f":"Sheet4!V14+Sheet4!V45","v":0},{"$f":"Sheet4!W14+Sheet4!W45","v":0},{"$f":"Sheet4!X14+Sheet4!X45","v":0},{"$f":"Sheet4!Y14+Sheet4!Y45","v":0},{"$f":"Sheet4!Z14+Sheet4!Z45","v":0},{"$f":"Sheet4!AA14+Sheet4!AA45","v":0},{"$f":"Sheet4!AB14+Sheet4!AB45","v":0},{"$f":"Sheet4!AC14+Sheet4!AC45","v":0},{"$f":"Sheet4!AD14+Sheet4!AD45","v":0},{"$f":"Sheet4!AE14+Sheet4!AE45","v":0}]
["2025-05-11",{"$f":"Sheet4!E15+Sheet4!E46","v":0},{"$f":"Sheet4!F15+Sheet4!F46","v":0},{"$f":"Sheet4!G15+Sheet4!G46","v":0},{"$f":"Sheet4!H15+Sheet4!H46","v":0},{"$f":"Sheet4!I15+Sheet4!I46","v":0},{"$f":"Sheet4!J15+Sheet4!J46","v":0},{"$f":"Sheet4!K15+Sheet4!K46","v":0},{"$f":"Sheet4!L15+Sheet4!L46","v":0},{"$f":"Sheet4!M15+Sheet4!M46","v":0},{"$f":"Sheet4!N15+Sheet4!N46","v":0},{"$f":"Sheet4!O15+Sheet4!O46","v":0},{"$f":"Sheet4!P15+Sheet4!P46","v":0},{"$f":"Sheet4!Q15+Sheet4!Q46","v":0},{"$f":"Sheet4!R15+Sheet4!R46","v":0},{"$f":"Sheet4!S15+Sheet4!S46","v":0},{"$f":"Sheet4!T15+Sheet4!T46","v":0},{"$f":"Sheet4!U15+Sheet4!U46","v":0},{"$f":"Sheet4!V15+Sheet4!V46","v":0},{"$f":"Sheet4!W15+Sheet4!W46","v":0},{"$f":"Sheet4!X15+Sheet4!X46","v":0},{"$f":"Sheet4!Y15+Sheet4!Y46","v":0},{"$f":"Sheet4!Z15+Sheet4!Z46","v":0},{"$f":"Sheet4!AA15+Sheet4!AA46","v":0},{"$f":"Sheet4!AB15+Sheet4!AB46","v":0},{"$f":"Sheet4!AC15+Sheet4!AC46","v":0},{"$f":"Sheet4!AD15+Sheet4!AD46","v":0},{"$f":"Sheet4!AE15+Sheet4!AE46","v":0}]
["2025-05-12",{"$f":"Sheet4!E16+Sheet4!E47","v":0},{"$f":"Sheet4!F16+Sheet4!F47","v":0},{"$f":"Sheet4!G16+Sheet4!G47","v":0},{"$f":"Sheet4!H16+Sheet4!H47","v":0},{"$f":"Sheet4!I16+Sheet4!I47","v":0},{"$f":"Sheet4!J16+Sheet4!J47","v":0},{"$f":"Sheet4!K16+Sheet4!K47","v":0},{"$f":"Sheet4!L16+Sheet4!L47","v":0},{"$f":"Sheet4!M16+Sheet4!M47","v":1},{"$f":"Sheet4!N16+Sheet4!N47","v":0},{"$f":"Sheet4!O16+Sheet4!O47","v":0},{"$f":"Sheet4!P16+Sheet4!P47","v":0},{"$f":"Sheet4!Q16+Sheet4!Q47","v":0},{"$f":"Sheet4!R16+Sheet4!R47","v":0},{"$f":"Sheet4!S16+Sheet4!S47","v":0},{"$f":"Sheet4!T16+Sheet4!T47","v":2},{"$f":"Sheet4!U16+Sheet4!U47","v":0},{"$f":"Sheet4!V16+Sheet4!V47","v":0},{"$f":"Sheet4!W16+Sheet4!W47","v":0},{"$f":"Sheet4!X16+Sheet4!X47","v":0},{"$f":"Sheet4!Y16+Sheet4!Y47","v":0},{"$f":"Sheet4!Z16+Sheet4!Z47","v":0},{"$f":"Sheet4!AA16+Sheet4!AA47","v":0},{"$f":"Sheet4!AB16+Sheet4!AB47","v":0},{"$f":"Sheet4!AC16+Sheet4!AC47","v":0},{"$f":"Sheet4!AD16+Sheet4!AD47","v":0},{"$f":"Sheet4!AE16+Sheet4!AE47","v":0}]
["2025-05-13",{"$f":"Sheet4!E17+Sheet4!E48","v":0},{"$f":"Sheet4!F17+Sheet4!F48","v":0},{"$f":"Sheet4!G17+Sheet4!G48","v":0},{"$f":"Sheet4!H17+Sheet4!H48","v":0},{"$f":"Sheet4!I17+Sheet4!I48","v":0},{"$f":"Sheet4!J17+Sheet4!J48","v":0},{"$f":"Sheet4!K17+Sheet4!K48","v":0},{"$f":"Sheet4!L17+Sheet4!L48","v":0},{"$f":"Sheet4!M17+Sheet4!M48","v":0},{"$f":"Sheet4!N17+Sheet4!N48","v":0},{"$f":"Sheet4!O17+Sheet4!O48","v":0},{"$f":"Sheet4!P17+Sheet4!P48","v":0},{"$f":"Sheet4!Q17+Sheet4!Q48","v":0},{"$f":"Sheet4!R17+Sheet4!R48","v":0},{"$f":"Sheet4!S17+Sheet4!S48","v":0},{"$f":"Sheet4!T17+Sheet4!T48","v":0},{"$f":"Sheet4!U17+Sheet4!U48","v":0},{"$f":"Sheet4!V17+Sheet4!V48","v":0},{"$f":"Sheet4!W17+Sheet4!W48","v":0},{"$f":"Sheet4!X17+Sheet4!X48","v":0},{"$f":"Sheet4!Y17+Sheet4!Y48","v":0},{"$f":"Sheet4!Z17+Sheet4!Z48","v":0},{"$f":"Sheet4!AA17+Sheet4!AA48","v":0},{"$f":"Sheet4!AB17+Sheet4!AB48","v":0},{"$f":"Sheet4!AC17+Sheet4!AC48","v":0},{"$f":"Sheet4!AD17+Sheet4!AD48","v":0},{"$f":"Sheet4!AE17+Sheet4!AE48","v":0}]
["2025-05-14",{"$f":"Sheet4!E18+Sheet4!E49","v":0},{"$f":"Sheet4!F18+Sheet4!F49","v":0},{"$f":"Sheet4!G18+Sheet4!G49","v":0},{"$f":"Sheet4!H18+Sheet4!H49","v":0},{"$f":"Sheet4!I18+Sheet4!I49","v":0},{"$f":"Sheet4!J18+Sheet4!J49","v":0},{"$f":"Sheet4!K18+Sheet4!K49","v":0},{"$f":"Sheet4!L18+Sheet4!L49","v":0},{"$f":"Sheet4!M18+Sheet4!M49","v":0},{"$f":"Sheet4!N18+Sheet4!N49","v":0},{"$f":"Sheet4!O18+Sheet4!O49","v":0},{"$f":"Sheet4!P18+Sheet4!P49","v":0},{"$f":"Sheet4!Q18+Sheet4!Q49","v":0},{"$f":"Sheet4!R18+Sheet4!R49","v":0},{"$f":"Sheet4!S18+Sheet4!S49","v":0},{"$f":"Sheet4!T18+Sheet4!T49","v":0},{"$f":"Sheet4!U18+Sheet4!U49","v":0},{"$f":"Sheet4!V18+Sheet4!V49","v":0},{"$f":"Sheet4!W18+Sheet4!W49","v":0},{"$f":"Sheet4!X18+Sheet4!X49","v":0},{"$f":"Sheet4!Y18+Sheet4!Y49","v":0},{"$f":"Sheet4!Z18+Sheet4!Z49","v":0},{"$f":"Sheet4!AA18+Sheet4!AA49","v":0},{"$f":"Sheet4!AB18+Sheet4!AB49","v":0},{"$f":"Sheet4!AC18+Sheet4!AC49","v":0},{"$f":"Sheet4!AD18+Sheet4!AD49","v":0},{"$f":"Sheet4!AE18+Sheet4!AE49","v":0}]
["2025-05-15",{"$f":"Sheet4!E19+Sheet4!E50","v":0},{"$f":"Sheet4!F19+Sheet4!F50","v":0},{"$f":"Sheet4!G19+Sheet4!G50","v":0},{"$f":"Sheet4!H19+Sheet4!H50","v":0},{"$f":"Sheet4!I19+Sheet4!I50","v":0},{"$f":"Sheet4!J19+Sheet4!J50","v":0},{"$f":"Sheet4!K19+Sheet4!K50","v":0},{"$f":"Sheet4!L19+Sheet4!L50","v":0},{"$f":"Sheet4!M19+Sheet4!M50","v":0},{"$f":"Sheet4!N19+Sheet4!N50","v":0},{"$f":"Sheet4!O19+Sheet4!O50","v":0},{"$f":"Sheet4!P19+Sheet4!P50","v":0},{"$f":"Sheet4!Q19+Sheet4!Q50","v":0},{"$f":"Sheet4!R19+Sheet4!R50","v":0},{"$f":"Sheet4!S19+Sheet4!S50","v":0},{"$f":"Sheet4!T19+Sheet4!T50","v":0},{"$f":"Sheet4!U19+Sheet4!U50","v":0},{"$f":"Sheet4!V19+Sheet4!V50","v":0},{"$f":"Sheet4!W19+Sheet4!W50","v":0},{"$f":"Sheet4!X19+Sheet4!X50","v":0},{"$f":"Sheet4!Y19+Sheet4!Y50","v":0},{"$f":"Sheet4!Z19+Sheet4!Z50","v":0},{"$f":"Sheet4!AA19+Sheet4!AA50","v":0},{"$f":"Sheet4!AB19+Sheet4!AB50","v":0},{"$f":"Sheet4!AC19+Sheet4!AC50","v":0},{"$f":"Sheet4!AD19+Sheet4!AD50","v":0},{"$f":"Sheet4!AE19+Sheet4!AE50","v":0}]
["2025-05-16",{"$f":"Sheet4!E20+Sheet4!E51","v":0},{"$f":"Sheet4!F20+Sheet4!F51","v":0},{"$f":"Sheet4!G20+Sheet4!G51","v":1},{"$f":"Sheet4!H20+Sheet4!H51","v":0},{"$f":"Sheet4!I20+Sheet4!I51","v":0},{"$f":"Sheet4!J20+Sheet4!J51","v":0},{"$f":"Sheet4!K20+Sheet4!K51","v":0},{"$f":"Sheet4!L20+Sheet4!L51","v":0},{"$f":"Sheet4!M20+Sheet4!M51","v":0},{"$f":"Sheet4!N20+Sheet4!N51","v":0},{"$f":"Sheet4!O20+Sheet4!O51","v":0},{"$f":"Sheet4!P20+Sheet4!P51","v":0},{"$f":"Sheet4!Q20+Sheet4!Q51","v":0},{"$f":"Sheet4!R20+Sheet4!R51","v":0},{"$f":"Sheet4!S20+Sheet4!S51","v":0},{"$f":"Sheet4!T20+Sheet4!T51","v":0},{"$f":"Sheet4!U20+Sheet4!U51","v":0},{"$f":"Sheet4!V20+Sheet4!V51","v":0},{"$f":"Sheet4!W20+Sheet4!W51","v":0},{"$f":"Sheet4!X20+Sheet4!X51","v":2},{"$f":"Sheet4!Y20+Sheet4!Y51","v":0},{"$f":"Sheet4!Z20+Sheet4!Z51","v":0},{"$f":"Sheet4!AA20+Sheet4!AA51","v":0},{"$f":"Sheet4!AB20+Sheet4!AB51","v":0},{"$f":"Sheet4!AC20+Sheet4!AC51","v":0},{"$f":"Sheet4!AD20+Sheet4!AD51","v":0},{"$f":"Sheet4!AE20+Sheet4!AE51","v":0}]
["2025-05-17",{"$f":"Sheet4!E21+Sheet4!E52","v":0},{"$f":"Sheet4!F21+Sheet4!F52","v":0},{"$f":"Sheet4!G21+Sheet4!G52","v":0},{"$f":"Sheet4!H21+Sheet4!H52","v":0},{"$f":"Sheet4!I21+Sheet4!I52","v":0},{"$f":"Sheet4!J21+Sheet4!J52","v":0},{"$f":"Sheet4!K21+Sheet4!K52","v":0},{"$f":"Sheet4!L21+Sheet4!L52","v":0},{"$f":"Sheet4!M21+Sheet4!M52","v":0},{"$f":"Sheet4!N21+Sheet4!N52","v":0},{"$f":"Sheet4!O21+Sheet4!O52","v":0},{"$f":"Sheet4!P21+Sheet4!P52","v":0},{"$f":"Sheet4!Q21+Sheet4!Q52","v":0},{"$f":"Sheet4!R21+Sheet4!R52","v":0},{"$f":"Sheet4!S21+Sheet4!S52","v":0},{"$f":"Sheet4!T21+Sheet4!T52","v":0},{"$f":"Sheet4!U21+Sheet4!U52","v":0},{"$f":"Sheet4!V21+Sheet4!V52","v":0},{"$f":"Sheet4!W21+Sheet4!W52","v":0},{"$f":"Sheet4!X21+Sheet4!X52","v":0},{"$f":"Sheet4!Y21+Sheet4!Y52","v":0},{"$f":"Sheet4!Z21+Sheet4!Z52","v":0},{"$f":"Sheet4!AA21+Sheet4!AA52","v":0},{"$f":"Sheet4!AB21+Sheet4!AB52","v":0},{"$f":"Sheet4!AC21+Sheet4!AC52","v":0},{"$f":"Sheet4!AD21+Sheet4!AD52","v":0},{"$f":"Sheet4!AE21+Sheet4!AE52","v":0}]
["2025-05-18",{"$f":"Sheet4!E22+Sheet4!E53","v":0},{"$f":"Sheet4!F22+Sheet4!F53","v":0},{"$f":"Sheet4!G22+Sheet4!G53","v":0},{"$f":"Sheet4!H22+Sheet4!H53","v":0},{"$f":"Sheet4!I22+Sheet4!I53","v":0},{"$f":"Sheet4!J22+Sheet4!J53","v":0},{"$f":"Sheet4!K22+Sheet4!K53","v":0},{"$f":"Sheet4!L22+Sheet4!L53","v":0},{"$f":"Sheet4!M22+Sheet4!M53","v":0},{"$f":"Sheet4!N22+Sheet4!N53","v":0},{"$f":"Sheet4!O22+Sheet4!O53","v":0},{"$f":"Sheet4!P22+Sheet4!P53","v":0},{"$f":"Sheet4!Q22+Sheet4!Q53","v":0},{"$f":"Sheet4!R22+Sheet4!R53","v":0},{"$f":"Sheet4!S22+Sheet4!S53","v":0},{"$f":"Sheet4!T22+Sheet4!T53","v":0},{"$f":"Sheet4!U22+Sheet4!U53","v":0},{"$f":"Sheet4!V22+Sheet4!V53","v":0},{"$f":"Sheet4!W22+Sheet4!W53","v":0},{"$f":"Sheet4!X22+Sheet4!X53","v":0},{"$f":"Sheet4!Y22+Sheet4!Y53","v":0},{"$f":"Sheet4!Z22+Sheet4!Z53","v":0},{"$f":"Sheet4!AA22+Sheet4!AA53","v":0},{"$f":"Sheet4!AB22+Sheet4!AB53","v":0},{"$f":"Sheet4!AC22+Sheet4!AC53","v":0},{"$f":"Sheet4!AD22+Sheet4!AD53","v":0},{"$f":"Sheet4!AE22+Sheet4!AE53","v":0}]
["2025-05-19",{"$f":"Sheet4!E23+Sheet4!E54","v":0},{"$f":"Sheet4!F23+Sheet4!F54","v":0},{"$f":"Sheet4!G23+Sheet4!G54","v":1},{"$f":"Sheet4!H23+Sheet4!H54","v":0},{"$f":"Sheet4!I23+Sheet4!I54","v":0},{"$f":"Sheet4!J23+Sheet4!J54","v":0},{"$f":"Sheet4!K23+Sheet4!K54","v":0},{"$f":"Sheet4!L23+Sheet4!L54","v":0},{"$f":"Sheet4!M23+Sheet4!M54","v":0},{"$f":"Sheet4!N23+Sheet4!N54","v":0},{"$f":"Sheet4!O23+Sheet4!O54","v":0},{"$f":"Sheet4!P23+Sheet4!P54","v":0},{"$f":"Sheet4!Q23+Sheet4!Q54","v":0},{"$f":"Sheet4!R23+Sheet4!R54","v":0},{"$f":"Sheet4!S23+Sheet4!S54","v":0},{"$f":"Sheet4!T23+Sheet4!T54","v":0},{"$f":"Sheet4!U23+Sheet4!U54","v":0},{"$f":"Sheet4!V23+Sheet4!V54","v":0},{"$f":"Sheet4!W23+Sheet4!W54","v":0},{"$f":"Sheet4!X23+Sheet4!X54","v":2},{"$f":"Sheet4!Y23+Sheet4!Y54","v":0},{"$f":"Sheet4!Z23+Sheet4!Z54","v":0},{"$f":"Sheet4!AA23+Sheet4!AA54","v":0},{"$f":"Sheet4!AB23+Sheet4!AB54","v":0},{"$f":"Sheet4!AC23+Sheet4!AC54","v":0},{"$f":"Sheet4!AD23+Sheet4!AD54","v":0},{"$f":"Sheet4!AE23+Sheet4!AE54","v":0}]
["2025-05-20",{"$f":"Sheet4!E24+Sheet4!E55","v":0},{"$f":"Sheet4!F24+Sheet4!F55","v":0},{"$f":"Sheet4!G24+Sheet4!G55","v":1},{"$f":"Sheet4!H24+Sheet4!H55","v":0},{"$f":"Sheet4!I24+Sheet4!I55","v":0},{"$f":"Sheet4!J24+Sheet4!J55","v":0},{"$f":"Sheet4!K24+Sheet4!K55","v":0},{"$f":"Sheet4!L24+Sheet4!L55","v":0},{"$f":"Sheet4!M24+Sheet4!M55","v":0},{"$f":"Sheet4!N24+Sheet4!N55","v":0},{"$f":"Sheet4!O24+Sheet4!O55","v":0},{"$f":"Sheet4!P24+Sheet4!P55","v":0},{"$f":"Sheet4!Q24+Sheet4!Q55","v":0},{"$f":"Sheet4!R24+Sheet4!R55","v":0},{"$f":"Sheet4!S24+Sheet4!S55","v":0},{"$f":"Sheet4!T24+Sheet4!T55","v":0},{"$f":"Sheet4!U24+Sheet4!U55","v":0},{"$f":"Sheet4!V24+Sheet4!V55","v":0},{"$f":"Sheet4!W24+Sheet4!W55","v":0},{"$f":"Sheet4!X24+Sheet4!X55","v":2},{"$f":"Sheet4!Y24+Sheet4!Y55","v":0},{"$f":"Sheet4!Z24+Sheet4!Z55","v":0},{"$f":"Sheet4!AA24+Sheet4!AA55","v":0},{"$f":"Sheet4!AB24+Sheet4!AB55","v":0},{"$f":"Sheet4!AC24+Sheet4!AC55","v":0},{"$f":"Sheet4!AD24+Sheet4!AD55","v":0},{"$f":"Sheet4!AE24+Sheet4!AE55","v":0}]
["2025-05-21",{"$f":"Sheet4!E25+Sheet4!E56","v":0},{"$f":"Sheet4!F25+Sheet4!F56","v":0},{"$f":"Sheet4!G25+Sheet4!G56","v":0},{"$f":"Sheet4!H25+Sheet4!H56","v":0},{"$f":"Sheet4!I25+Sheet4!I56","v":0},{"$f":"Sheet4!J25+Sheet4!J56","v":0},{"$f":"Sheet4!K25+Sheet4!K56","v":1},{"$f":"Sheet4!L25+Sheet4!L56","v":0},{"$f":"Sheet4!M25+Sheet4!M56","v":0},{"$f":"Sheet4!N25+Sheet4!N56","v":0},{"$f":"Sheet4!O25+Sheet4!O56","v":0},{"$f":"Sheet4!P25+Sheet4!P56","v":0},{"$f":"Sheet4!Q25+Sheet4!Q56","v":0},{"$f":"Sheet4!R25+Sheet4!R56","v":2},{"$f":"Sheet4!S25+Sheet4!S56","v":0},{"$f":"Sheet4!T25+Sheet4!T56","v":0},{"$f":"Sheet4!U25+Sheet4!U56","v":0},{"$f":"Sheet4!V25+Sheet4!V56","v":0},{"$f":"Sheet4!W25+Sheet4!W56","v":0},{"$f":"Sheet4!X25+Sheet4!X56","v":0},{"$f":"Sheet4!Y25+Sheet4!Y56","v":0},{"$f":"Sheet4!Z25+Sheet4!Z56","v":0},{"$f":"Sheet4!AA25+Sheet4!AA56","v":0},{"$f":"Sheet4!AB25+Sheet4!AB56","v":0},{"$f":"Sheet4!AC25+Sheet4!AC56","v":0},{"$f":"Sheet4!AD25+Sheet4!AD56","v":0},{"$f":"Sheet4!AE25+Sheet4!AE56","v":0}]
["2025-05-22",{"$f":"Sheet4!E26+Sheet4!E57","v":0},{"$f":"Sheet4!F26+Sheet4!F57","v":0},{"$f":"Sheet4!G26+Sheet4!G57","v":0},{"$f":"Sheet4!H26+Sheet4!H57","v":0},{"$f":"Sheet4!I26+Sheet4!I57","v":0},{"$f":"Sheet4!J26+Sheet4!J57","v":0},{"$f":"Sheet4!K26+Sheet4!K57","v":0},{"$f":"Sheet4!L26+Sheet4!L57","v":0},{"$f":"Sheet4!M26+Sheet4!M57","v":0},{"$f":"Sheet4!N26+Sheet4!N57","v":0},{"$f":"Sheet4!O26+Sheet4!O57","v":0},{"$f":"Sheet4!P26+Sheet4!P57","v":0},{"$f":"Sheet4!Q26+Sheet4!Q57","v":0},{"$f":"Sheet4!R26+Sheet4!R57","v":0},{"$f":"Sheet4!S26+Sheet4!S57","v":0},{"$f":"Sheet4!T26+Sheet4!T57","v":0},{"$f":"Sheet4!U26+Sheet4!U57","v":0},{"$f":"Sheet4!V26+Sheet4!V57","v":0},{"$f":"Sheet4!W26+Sheet4!W57","v":0},{"$f":"Sheet4!X26+Sheet4!X57","v":0},{"$f":"Sheet4!Y26+Sheet4!Y57","v":0},{"$f":"Sheet4!Z26+Sheet4!Z57","v":0},{"$f":"Sheet4!AA26+Sheet4!AA57","v":0},{"$f":"Sheet4!AB26+Sheet4!AB57","v":0},{"$f":"Sheet4!AC26+Sheet4!AC57","v":0},{"$f":"Sheet4!AD26+Sheet4!AD57","v":0},{"$f":"Sheet4!AE26+Sheet4!AE57","v":0}]
["2025-05-23",{"$f":"Sheet4!E27+Sheet4!E58","v":0},{"$f":"Sheet4!F27+Sheet4!F58","v":0},{"$f":"Sheet4!G27+Sheet4!G58","v":0},{"$f":"Sheet4!H27+Sheet4!H58","v":0},{"$f":"Sheet4!I27+Sheet4!I58","v":0},{"$f":"Sheet4!J27+Sheet4!J58","v":0},{"$f":"Sheet4!K27+Sheet4!K58","v":0},{"$f":"Sheet4!L27+Sheet4!L58","v":0},{"$f":"Sheet4!M27+Sheet4!M58","v":0},{"$f":"Sheet4!N27+Sheet4!N58","v":0},{"$f":"Sheet4!O27+Sheet4!O58","v":0},{"$f":"Sheet4!P27+Sheet4!P58","v":0},{"$f":"Sheet4!Q27+Sheet4!Q58","v":0},{"$f":"Sheet4!R27+Sheet4!R58","v":0},{"$f":"Sheet4!S27+Sheet4!S58","v":1},{"$f":"Sheet4!T27+Sheet4!T58","v":0},{"$f":"Sheet4!U27+Sheet4!U58","v":0},{"$f":"Sheet4!V27+Sheet4!V58","v":0},{"$f":"Sheet4!W27+Sheet4!W58","v":0},{"$f":"Sheet4!X27+Sheet4!X58","v":2},{"$f":"Sheet4!Y27+Sheet4!Y58","v":0},{"$f":"Sheet4!Z27+Sheet4!Z58","v":0},{"$f":"Sheet4!AA27+Sheet4!AA58","v":0},{"$f":"Sheet4!AB27+Sheet4!AB58","v":0},{"$f":"Sheet4!AC27+Sheet4!AC58","v":0},{"$f":"Sheet4!AD27+Sheet4!AD58","v":0},{"$f":"Sheet4!AE27+Sheet4!AE58","v":0}]
["2025-05-24",{"$f":"Sheet4!E28+Sheet4!E59","v":0},{"$f":"Sheet4!F28+Sheet4!F59","v":0},{"$f":"Sheet4!G28+Sheet4!G59","v":0},{"$f":"Sheet4!H28+Sheet4!H59","v":0},{"$f":"Sheet4!I28+Sheet4!I59","v":0},{"$f":"Sheet4!J28+Sheet4!J59","v":0},{"$f":"Sheet4!K28+Sheet4!K59","v":0},{"$f":"Sheet4!L28+Sheet4!L59","v":0},{"$f":"Sheet4!M28+Sheet4!M59","v":0},{"$f":"Sheet4!N28+Sheet4!N59","v":0},{"$f":"Sheet4!O28+Sheet4!O59","v":0},{"$f":"Sheet4!P28+Sheet4!P59","v":0},{"$f":"Sheet4!Q28+Sheet4!Q59","v":0},{"$f":"Sheet4!R28+Sheet4!R59","v":0},{"$f":"Sheet4!S28+Sheet4!S59","v":0},{"$f":"Sheet4!T28+Sheet4!T59","v":0},{"$f":"Sheet4!U28+Sheet4!U59","v":0},{"$f":"Sheet4!V28+Sheet4!V59","v":0},{"$f":"Sheet4!W28+Sheet4!W59","v":0},{"$f":"Sheet4!X28+Sheet4!X59","v":0},{"$f":"Sheet4!Y28+Sheet4!Y59","v":0},{"$f":"Sheet4!Z28+Sheet4!Z59","v":0},{"$f":"Sheet4!AA28+Sheet4!AA59","v":0},{"$f":"Sheet4!AB28+Sheet4!AB59","v":0},{"$f":"Sheet4!AC28+Sheet4!AC59","v":0},{"$f":"Sheet4!AD28+Sheet4!AD59","v":0},{"$f":"Sheet4!AE28+Sheet4!AE59","v":0}]
["2025-05-25",{"$f":"Sheet4!E29+Sheet4!E60","v":0},{"$f":"Sheet4!F29+Sheet4!F60","v":0},{"$f":"Sheet4!G29+Sheet4!G60","v":0},{"$f":"Sheet4!H29+Sheet4!H60","v":0},{"$f":"Sheet4!I29+Sheet4!I60","v":0},{"$f":"Sheet4!J29+Sheet4!J60","v":0},{"$f":"Sheet4!K29+Sheet4!K60","v":0},{"$f":"Sheet4!L29+Sheet4!L60","v":0},{"$f":"Sheet4!M29+Sheet4!M60","v":0},{"$f":"Sheet4!N29+Sheet4!N60","v":0},{"$f":"Sheet4!O29+Sheet4!O60","v":0},{"$f":"Sheet4!P29+Sheet4!P60","v":0},{"$f":"Sheet4!Q29+Sheet4!Q60","v":0},{"$f":"Sheet4!R29+Sheet4!R60","v":0},{"$f":"Sheet4!S29+Sheet4!S60","v":0},{"$f":"Sheet4!T29+Sheet4!T60","v":0},{"$f":"Sheet4!U29+Sheet4!U60","v":0},{"$f":"Sheet4!V29+Sheet4!V60","v":0},{"$f":"Sheet4!W29+Sheet4!W60","v":0},{"$f":"Sheet4!X29+Sheet4!X60","v":0},{"$f":"Sheet4!Y29+Sheet4!Y60","v":0},{"$f":"Sheet4!Z29+Sheet4!Z60","v":0},{"$f":"Sheet4!AA29+Sheet4!AA60","v":0},{"$f":"Sheet4!AB29+Sheet4!AB60","v":0},{"$f":"Sheet4!AC29+Sheet4!AC60","v":0},{"$f":"Sheet4!AD29+Sheet4!AD60","v":0},{"$f":"Sheet4!AE29+Sheet4!AE60","v":0}]
["2025-05-26",{"$f":"Sheet4!E30+Sheet4!E61","v":0},{"$f":"Sheet4!F30+Sheet4!F61","v":0},{"$f":"Sheet4!G30+Sheet4!G61","v":0},{"$f":"Sheet4!H30+Sheet4!H61","v":0},{"$f":"Sheet4!I30+Sheet4!I61","v":0},{"$f":"Sheet4!J30+Sheet4!J61","v":0},{"$f":"Sheet4!K30+Sheet4!K61","v":0},{"$f":"Sheet4!L30+Sheet4!L61","v":0},{"$f":"Sheet4!M30+Sheet4!M61","v":0},{"$f":"Sheet4!N30+Sheet4!N61","v":0},{"$f":"Sheet4!O30+Sheet4!O61","v":0},{"$f":"Sheet4!P30+Sheet4!P61","v":0},{"$f":"Sheet4!Q30+Sheet4!Q61","v":0},{"$f":"Sheet4!R30+Sheet4!R61","v":0},{"$f":"Sheet4!S30+Sheet4!S61","v":0},{"$f":"Sheet4!T30+Sheet4!T61","v":0},{"$f":"Sheet4!U30+Sheet4!U61","v":0},{"$f":"Sheet4!V30+Sheet4!V61","v":0},{"$f":"Sheet4!W30+Sheet4!W61","v":0},{"$f":"Sheet4!X30+Sheet4!X61","v":0},{"$f":"Sheet4!Y30+Sheet4!Y61","v":0},{"$f":"Sheet4!Z30+Sheet4!Z61","v":0},{"$f":"Sheet4!AA30+Sheet4!AA61","v":0},{"$f":"Sheet4!AB30+Sheet4!AB61","v":0},{"$f":"Sheet4!AC30+Sheet4!AC61","v":0},{"$f":"Sheet4!AD30+Sheet4!AD61","v":0},{"$f":"Sheet4!AE30+Sheet4!AE61","v":0}]
["2025-05-27",{"$f":"Sheet4!E31+Sheet4!E62","v":0},{"$f":"Sheet4!F31+Sheet4!F62","v":0},{"$f":"Sheet4!G31+Sheet4!G62","v":0},{"$f":"Sheet4!H31+Sheet4!H62","v":0},{"$f":"Sheet4!I31+Sheet4!I62","v":0},{"$f":"Sheet4!J31+Sheet4!J62","v":0},{"$f":"Sheet4!K31+Sheet4!K62","v":0},{"$f":"Sheet4!L31+Sheet4!L62","v":0},{"$f":"Sheet4!M31+Sheet4!M62","v":0},{"$f":"Sheet4!N31+Sheet4!N62","v":0},{"$f":"Sheet4!O31+Sheet4!O62","v":0},{"$f":"Sheet4!P31+Sheet4!P62","v":0},{"$f":"Sheet4!Q31+Sheet4!Q62","v":0},{"$f":"Sheet4!R31+Sheet4!R62","v":0},{"$f":"Sheet4!S31+Sheet4!S62","v":0},{"$f":"Sheet4!T31+Sheet4!T62","v":0},{"$f":"Sheet4!U31+Sheet4!U62","v":0},{"$f":"Sheet4!V31+Sheet4!V62","v":0},{"$f":"Sheet4!W31+Sheet4!W62","v":0},{"$f":"Sheet4!X31+Sheet4!X62","v":0},{"$f":"Sheet4!Y31+Sheet4!Y62","v":0},{"$f":"Sheet4!Z31+Sheet4!Z62","v":0},{"$f":"Sheet4!AA31+Sheet4!AA62","v":0},{"$f":"Sheet4!AB31+Sheet4!AB62","v":0},{"$f":"Sheet4!AC31+Sheet4!AC62","v":0},{"$f":"Sheet4!AD31+Sheet4!AD62","v":0},{"$f":"Sheet4!AE31+Sheet4!AE62","v":0}]
["2025-05-28",{"$f":"Sheet4!E32+Sheet4!E63","v":0},{"$f":"Sheet4!F32+Sheet4!F63","v":0},{"$f":"Sheet4!G32+Sheet4!G63","v":0},{"$f":"Sheet4!H32+Sheet4!H63","v":0},{"$f":"Sheet4!I32+Sheet4!I63","v":0},{"$f":"Sheet4!J32+Sheet4!J63","v":0},{"$f":"Sheet4!K32+Sheet4!K63","v":0},{"$f":"Sheet4!L32+Sheet4!L63","v":0},{"$f":"Sheet4!M32+Sheet4!M63","v":0},{"$f":"Sheet4!N32+Sheet4!N63","v":0},{"$f":"Sheet4!O32+Sheet4!O63","v":0},{"$f":"Sheet4!P32+Sheet4!P63","v":0},{"$f":"Sheet4!Q32+Sheet4!Q63","v":0},{"$f":"Sheet4!R32+Sheet4!R63","v":0},{"$f":"Sheet4!S32+Sheet4!S63","v":0},{"$f":"Sheet4!T32+Sheet4!T63","v":0},{"$f":"Sheet4!U32+Sheet4!U63","v":0},{"$f":"Sheet4!V32+Sheet4!V63","v":0},{"$f":"Sheet4!W32+Sheet4!W63","v":0},{"$f":"Sheet4!X32+Sheet4!X63","v":0},{"$f":"Sheet4!Y32+Sheet4!Y63","v":0},{"$f":"Sheet4!Z32+Sheet4!Z63","v":0},{"$f":"Sheet4!AA32+Sheet4!AA63","v":0},{"$f":"Sheet4!AB32+Sheet4!AB63","v":0},{"$f":"Sheet4!AC32+Sheet4!AC63","v":0},{"$f":"Sheet4!AD32+Sheet4!AD63","v":0},{"$f":"Sheet4!AE32+Sheet4!AE63","v":0}]

{"sheet":"Sheet4","index":2,"n_rows":63,"n_cols":34,"rows_kept":63,"cut":false,"hidden":true,"merged":[]}
[null,null,null,{"$f":"VALUE(Sheet3!A5)","v":1},"08:00:00","08:30:00","09:00:00","09:30:00","10:00:00","10:30:00","11:00:00","11:30:00","12:00:00","12:30:00","13:00:00","13:30:00","14:00:00","14:30:00","15:00:00","15:30:00","16:00:00","16:30:00","17:00:00","17:30:00","18:00:00","18:30:00","19:00:00","19:30:00","20:00:00","20:30:00","21:00:00","21:30:00",{"$f":"SUM(AG2:AG32)","v":5}]
[null,null,null,{"$f":"Sheet1!C3","v":"2025-04-28"},{"$f":"COUNTIF(Sheet2!$A:$A,$D$1*100000+$D2+E$1)","v":0},{"$f":"COUNTIF(Sheet2!$A:$A,$D$1*100000+$D2+F$1)","v":0},{"$f":"COUNTIF(Sheet2!$A:$A,$D$1*100000+$D2+G$1)","v":0},{"$f":"COUNTIF(Sheet2!$A:$A,$D$1*100000+$D2+H$1)","v":0},{"$f":"COUNTIF(Sheet2!$A:$A,$D$1*100000+$D2+I$1)","v":0},{"$f":"COUNTIF(Sheet2!$A:$A,$D$1*100000+$D2+J$1)","v":0},{"$f":"COUNTIF(Sheet2!$A:$A,$D$1*100000+$D2+K$1)","v":0},{"$f":"COUNTIF(Sheet2!$A:$A,$D$1*100000+$D2+L$1)","v":0},{"$f":"COUNTIF(Sheet2!$A:$A,$D$1*100000+$D2+M$1)","v":0},{"$f":"COUNTIF(Sheet2!$A:$A,$D$1*100000+$D2+N$1)","v":0},{"$f":"COUNTIF(Sheet2!$A:$A,$D$1*100000+$D2+O$1)","v":0},{"$f":"COUNTIF(Sheet2!$A:$A,$D$1*100000+$D2+P$1)","v":0},{"$f":"COUNTIF(Sheet2!$A:$A,$D$1*100000+$D2+Q$1)","v":0},{"$f":"COUNTIF(Sheet2!$A:$A,$D$1*100000+$D2+R$1)","v":0},{"$f":"COUNTIF(Sheet2!$A:$A,$D$1*100000+$D2+S$1)","v":0},{"$f":"COUNTIF(Sheet2!$A:$A,$D$1*100000+$D2+T$1)","v":0},{"$f":"COUNTIF(Sheet2!$A:$A,$D$1*100000+$D2+U$1)","v":0},{"$f":"COUNTIF(Sheet2!$A:$A,$D$1*100000+$D2+V$1)","v":0},{"$f":"COUNTIF(Sheet2!$A:$A,$D$1*100000+$D2+W$1)","v":0},{"$f":"COUNTIF(Sheet2!$A:$A,$D$1*100000+$D2+X$1)","v":0},{"$f":"COUNTIF(Sheet2!$A:$A,$D$1*100000+$D2+Y$1)","v":0},{"$f":"COUNTIF(Sheet2!$A:$A,$D$1*100000+$D2+Z$1)","v":0},{"$f":"COUNTIF(Sheet2!$A:$A,$D$1*100000+$D2+AA$1)","v":0},{"$f":"COUNTIF(Sheet2!$A:$A,$D$1*100000+$D2+AB$1)","v":0},{"$f":"COUNTIF(Sheet2!$A:$A,$D$1*100000+$D2+AC$1)","v":0},{"$f":"COUNTIF(Sheet2!$A:$A,$D$1*100000+$D2+AD$1)","v":0},{"$f":"COUNTIF(Sheet2!$A:$A,$D$1*100000+$D2+AE$1)","v":0},null,{"$f":"SUM(I2:AE2)","v":0},{"$f":"COUNTA(I2:AE2)","v":23}]
[null,null,null,{"$f":"Sheet1!C4","v":"2025-04-29"},{"$f":"COUNTIF(Sheet2!$A:$A,$D$1*100000+$D3+E$1)","v":0},{"$f":"COUNTIF(Sheet2!$A:$A,$D$1*100000+$D3+F$1)","v":0},{"$f":"COUNTIF(Sheet2!$A:$A,$D$1*100000+$D3+G$1)","v":0},{"$f":"COUNTIF(Sheet2!$A:$A,$D$1*100000+$D3+H$1)","v":0},{"$f":"COUNTIF(Sheet2!$A:$A,$D$1*100000+$D3+I$1)","v":0},{"$f":"COUNTIF(Sheet2!$A:$A,$D$1*100000+$D3+J$1)","v":0},{"$f":"COUNTIF(Sheet2!$A:$A,$D$1*100000+$D3+K$1)","v":0},{"$f":"COUNTIF(Sheet2!$A:$A,$D$1*100000+$D3+L$1)","v":0},{"$f":"COUNTIF(Sheet2!$A:$A,$D$1*100000+$D3+M$1)","v":0},{"$f":"COUNTIF(Sheet2!$A:$A,$D$1*100000+$D3+N$1)","v":0},{"$f":"COUNTIF(Sheet2!$A:$A,$D$1*100000+$D3+O$1)","v":0},{"$f":"COUNTIF(Sheet2!$A:$A,$D$1*100000+$D3+P$1)","v":0},{"$f":"COUNTIF(Sheet2!$A:$A,$D$1*100000+$D3+Q$1)","v":0},{"$f":"COUNTIF(Sheet2!$A:$A,$D$1*100000+$D3+R$1)","v":0},{"$f":"COUNTIF(Sheet2!$A:$A,$D$1*100000+$D3+S$1)","v":0},{"$f":"COUNTIF(Sheet2!$A:$A,$D$1*100000+$D3+T$1)","v":0},{"$f":"COUNTIF(Sheet2!$A:$A,$D$1*100000+$D3+U$1)","v":0},{"$f":"COUNTIF(Sheet2!$A:$A,$D$1*100000+$D3+V$1)","v":0},{"$f":"COUNTIF(Sheet2!$A:$A,$D$1*100000+$D3+W$1)","v":0},{"$f":"COUNTIF(Sheet2!$A:$A,$D$1*100000+$D3+X$1)","v":0},{"$f":"COUNTIF(Sheet2!$A:$A,$D$1*100000+$D3+Y$1)","v":0},{"$f":"COUNTIF(Sheet2!$A:$A,$D$1*100000+$D3+Z$1)","v":0},{"$f":"COUNTIF(Sheet2!$A:$A,$D$1*100000+$D3+AA$1)","v":0},{"$f":"COUNTIF(Sheet2!$A:$A,$D$1*100000+$D3+AB$1)","v":0},{"$f":"COUNTIF(Sheet2!$A:$A,$D$1*100000+$D3+AC$1)","v":0},{"$f":"COUNTIF(Sheet2!$A:$A,$D$1*100000+$D3+AD$1)","v":0},{"$f":"COUNTIF(Sheet2!$A:$A,$D$1*100000+$D3+AE$1)","v":0},null,0]
[null,null,null,{"$f":"Sheet1!C5","v":"2025-04-30"},{"$f":"COUNTIF(Sheet2!$A:$A,$D$1*100000+$D4+E$1)","v":0},{"$f":"COUNTIF(Sheet2!$A:$A,$D$1*100000+$D4+F$1)","v":0},{"$f":"COUNTIF(Sheet2!$A:$A,$D$1*100000+$D4+G$1)","v":0},{"$f":"COUNTIF(Sheet2!$A:$A,$D$1*100000+$D4+H$1)","v":0},{"$f":"COUNTIF(Sheet2!$A:$A,$D$1*100000+$D4+I$1)","v":0},{"$f":"COUNTIF(Sheet2!$A:$A,$D$1*100000+$D4+J$1)","v":0},{"$f":"COUNTIF(Sheet2!$A:$A,$D$1*100000+$D4+K$1)","v":0},{"$f":"COUNTIF(Sheet2!$A:$A,$D$1*100000+$D4+L$1)","v":0},{"$f":"COUNTIF(Sheet2!$A:$A,$D$1*100000+$D4+M$1)","v":0},{"$f":"COUNTIF(Sheet2!$A:$A,$D$1*100000+$D4+N$1)","v":0},{"$f":"COUNTIF(Sheet2!$A:$A,$D$1*100000+$D4+O$1)","v":0},{"$f":"COUNTIF(Sheet2!$A:$A,$D$1*100000+$D4+P$1)","v":0},{"$f":"COUNTIF(Sheet2!$A:$A,$D$1*100000+$D4+Q$1)","v":0},{"$f":"COUNTIF(Sheet2!$A:$A,$D$1*100000+$D4+R$1)","v":0},{"$f":"COUNTIF(Sheet2!$A:$A,$D$1*100000+$D4+S$1)","v":0},{"$f":"COUNTIF(Sheet2!$A:$A,$D$1*100000+$D4+T$1)","v":0},{"$f":"COUNTIF(Sheet2!$A:$A,$D$1*100000+$D4+U$1)","v":0},{"$f":"COUNTIF(Sheet2!$A:$A,$D$1*100000+$D4+V$1)","v":0},{"$f":"COUNTIF(Sheet2!$A:$A,$D$1*100000+$D4+W$1)","v":0},{"$f":"COUNTIF(Sheet2!$A:$A,$D$1*100000+$D4+X$1)","v":0},{"$f":"COUNTIF(Sheet2!$A:$A,$D$1*100000+$D4+Y$1)","v":0},{"$f":"COUNTIF(Sheet2!$A:$A,$D$1*100000+$D4+Z$1)","v":0},{"$f":"COUNTIF(Sheet2!$A:$A,$D$1*100000+$D4+AA$1)","v":0},{"$f":"COUNTIF(Sheet2!$A:$A,$D$1*100000+$D4+AB$1)","v":0},{"$f":"COUNTIF(Sheet2!$A:$A,$D$1*100000+$D4+AC$1)","v":0},{"$f":"COUNTIF(Sheet2!$A:$A,$D$1*100000+$D4+AD$1)","v":0},{"$f":"COUNTIF(Sheet2!$A:$A,$D$1*100000+$D4+AE$1)","v":0},null,0]
[null,null,null,{"$f":"Sheet1!C6","v":"2025-05-01"},{"$f":"COUNTIF(Sheet2!$A:$A,$D$1*100000+$D5+E$1)","v":0},{"$f":"COUNTIF(Sheet2!$A:$A,$D$1*100000+$D5+F$1)","v":0},{"$f":"COUNTIF(Sheet2!$A:$A,$D$1*100000+$D5+G$1)","v":0},{"$f":"COUNTIF(Sheet2!$A:$A,$D$1*100000+$D5+H$1)","v":0},{"$f":"COUNTIF(Sheet2!$A:$A,$D$1*100000+$D5+I$1)","v":0},{"$f":"COUNTIF(Sheet2!$A:$A,$D$1*100000+$D5+J$1)","v":0},{"$f":"COUNTIF(Sheet2!$A:$A,$D$1*100000+$D5+K$1)","v":0},{"$f":"COUNTIF(Sheet2!$A:$A,$D$1*100000+$D5+L$1)","v":0},{"$f":"COUNTIF(Sheet2!$A:$A,$D$1*100000+$D5+M$1)","v":0},{"$f":"COUNTIF(Sheet2!$A:$A,$D$1*100000+$D5+N$1)","v":0},{"$f":"COUNTIF(Sheet2!$A:$A,$D$1*100000+$D5+O$1)","v":0},{"$f":"COUNTIF(Sheet2!$A:$A,$D$1*100000+$D5+P$1)","v":0},{"$f":"COUNTIF(Sheet2!$A:$A,$D$1*100000+$D5+Q$1)","v":0},{"$f":"COUNTIF(Sheet2!$A:$A,$D$1*100000+$D5+R$1)","v":0},{"$f":"COUNTIF(Sheet2!$A:$A,$D$1*100000+$D5+S$1)","v":0},{"$f":"COUNTIF(Sheet2!$A:$A,$D$1*100000+$D5+T$1)","v":0},{"$f":"COUNTIF(Sheet2!$A:$A,$D$1*100000+$D5+U$1)","v":0},{"$f":"COUNTIF(Sheet2!$A:$A,$D$1*100000+$D5+V$1)","v":0},{"$f":"COUNTIF(Sheet2!$A:$A,$D$1*100000+$D5+W$1)","v":0},{"$f":"COUNTIF(Sheet2!$A:$A,$D$1*100000+$D5+X$1)","v":0},{"$f":"COUNTIF(Sheet2!$A:$A,$D$1*100000+$D5+Y$1)","v":0},{"$f":"COUNTIF(Sheet2!$A:$A,$D$1*100000+$D5+Z$1)","v":0},{"$f":"COUNTIF(Sheet2!$A:$A,$D$1*100000+$D5+AA$1)","v":0},{"$f":"COUNTIF(Sheet2!$A:$A,$D$1*100000+$D5+AB$1)","v":0},{"$f":"COUNTIF(Sheet2!$A:$A,$D$1*100000+$D5+AC$1)","v":0},{"$f":"COUNTIF(Sheet2!$A:$A,$D$1*100000+$D5+AD$1)","v":0},{"$f":"COUNTIF(Sheet2!$A:$A,$D$1*100000+$D5+AE$1)","v":0},null,0]
[null,null,null,{"$f":"Sheet1!C7","v":"2025-05-02"},{"$f":"COUNTIF(Sheet2!$A:$A,$D$1*100000+$D6+E$1)","v":0},{"$f":"COUNTIF(Sheet2!$A:$A,$D$1*100000+$D6+F$1)","v":0},{"$f":"COUNTIF(Sheet2!$A:$A,$D$1*100000+$D6+G$1)","v":0},{"$f":"COUNTIF(Sheet2!$A:$A,$D$1*100000+$D6+H$1)","v":0},{"$f":"COUNTIF(Sheet2!$A:$A,$D$1*100000+$D6+I$1)","v":0},{"$f":"COUNTIF(Sheet2!$A:$A,$D$1*100000+$D6+J$1)","v":0},{"$f":"COUNTIF(Sheet2!$A:$A,$D$1*100000+$D6+K$1)","v":0},{"$f":"COUNTIF(Sheet2!$A:$A,$D$1*100000+$D6+L$1)","v":0},{"$f":"COUNTIF(Sheet2!$A:$A,$D$1*100000+$D6+M$1)","v":0},{"$f":"COUNTIF(Sheet2!$A:$A,$D$1*100000+$D6+N$1)","v":0},{"$f":"COUNTIF(Sheet2!$A:$A,$D$1*100000+$D6+O$1)","v":0},{"$f":"COUNTIF(Sheet2!$A:$A,$D$1*100000+$D6+P$1)","v":0},{"$f":"COUNTIF(Sheet2!$A:$A,$D$1*100000+$D6+Q$1)","v":0},{"$f":"COUNTIF(Sheet2!$A:$A,$D$1*100000+$D6+R$1)","v":0},{"$f":"COUNTIF(Sheet2!$A:$A,$D$1*100000+$D6+S$1)","v":0},{"$f":"COUNTIF(Sheet2!$A:$A,$D$1*100000+$D6+T$1)","v":0},{"$f":"COUNTIF(Sheet2!$A:$A,$D$1*100000+$D6+U$1)","v":0},{"$f":"COUNTIF(Sheet2!$A:$A,$D$1*100000+$D6+V$1)","v":0},{"$f":"COUNTIF(Sheet2!$A:$A,$D$1*100000+$D6+W$1)","v":0},{"$f":"COUNTIF(Sheet2!$A:$A,$D$1*100000+$D6+X$1)","v":0},{"$f":"COUNTIF(Sheet2!$A:$A,$D$1*100000+$D6+Y$1)","v":0},{"$f":"COUNTIF(Sheet2!$A:$A,$D$1*100000+$D6+Z$1)","v":0},{"$f":"COUNTIF(Sheet2!$A:$A,$D$1*100000+$D6+AA$1)","v":0},{"$f":"COUNTIF(Sheet2!$A:$A,$D$1*100000+$D6+AB$1)","v":0},{"$f":"COUNTIF(Sheet2!$A:$A,$D$1*100000+$D6+AC$1)","v":0},{"$f":"COUNTIF(Sheet2!$A:$A,$D$1*100000+$D6+AD$1)","v":0},{"$f":"COUNTIF(Sheet2!$A:$A,$D$1*100000+$D6+AE$1)","v":0},null,0]
[null,null,null,{"$f":"Sheet1!C8","v":"2025-05-03"},{"$f":"COUNTIF(Sheet2!$A:$A,$D$1*100000+$D7+E$1)","v":0},{"$f":"COUNTIF(Sheet2!$A:$A,$D$1*100000+$D7+F$1)","v":0},{"$f":"COUNTIF(Sheet2!$A:$A,$D$1*100000+$D7+G$1)","v":0},{"$f":"COUNTIF(Sheet2!$A:$A,$D$1*100000+$D7+H$1)","v":0},{"$f":"COUNTIF(Sheet2!$A:$A,$D$1*100000+$D7+I$1)","v":0},{"$f":"COUNTIF(Sheet2!$A:$A,$D$1*100000+$D7+J$1)","v":0},{"$f":"COUNTIF(Sheet2!$A:$A,$D$1*100000+$D7+K$1)","v":0},{"$f":"COUNTIF(Sheet2!$A:$A,$D$1*100000+$D7+L$1)","v":0},{"$f":"COUNTIF(Sheet2!$A:$A,$D$1*100000+$D7+M$1)","v":0},{"$f":"COUNTIF(Sheet2!$A:$A,$D$1*100000+$D7+N$1)","v":0},{"$f":"COUNTIF(Sheet2!$A:$A,$D$1*100000+$D7+O$1)","v":0},{"$f":"COUNTIF(Sheet2!$A:$A,$D$1*100000+$D7+P$1)","v":0},{"$f":"COUNTIF(Sheet2!$A:$A,$D$1*100000+$D7+Q$1)","v":0},{"$f":"COUNTIF(Sheet2!$A:$A,$D$1*100000+$D7+R$1)","v":0},{"$f":"COUNTIF(Sheet2!$A:$A,$D$1*100000+$D7+S$1)","v":0},{"$f":"COUNTIF(Sheet2!$A:$A,$D$1*100000+$D7+T$1)","v":0},{"$f":"COUNTIF(Sheet2!$A:$A,$D$1*100000+$D7+U$1)","v":0},{"$f":"COUNTIF(Sheet2!$A:$A,$D$1*100000+$D7+V$1)","v":0},{"$f":"COUNTIF(Sheet2!$A:$A,$D$1*100000+$D7+W$1)","v":0},{"$f":"COUNTIF(Sheet2!$A:$A,$D$1*100000+$D7+X$1)","v":0},{"$f":"COUNTIF(Sheet2!$A:$A,$D$1*100000+$D7+Y$1)","v":0},{"$f":"COUNTIF(Sheet2!$A:$A,$D$1*100000+$D7+Z$1)","v":0},{"$f":"COUNTIF(Sheet2!$A:$A,$D$1*100000+$D7+AA$1)","v":0},{"$f":"COUNTIF(Sheet2!$A:$A,$D$1*100000+$D7+AB$1)","v":0},{"$f":"COUNTIF(Sheet2!$A:$A,$D$1*100000+$D7+AC$1)","v":0},{"$f":"COUNTIF(Sheet2!$A:$A,$D$1*100000+$D7+AD$1)","v":0},{"$f":"COUNTIF(Sheet2!$A:$A,$D$1*100000+$D7+AE$1)","v":0},null,0]
[null,null,null,{"$f":"Sheet1!C9","v":"2025-05-04"},{"$f":"COUNTIF(Sheet2!$A:$A,$D$1*100000+$D8+E$1)","v":0},{"$f":"COUNTIF(Sheet2!$A:$A,$D$1*100000+$D8+F$1)","v":0},{"$f":"COUNTIF(Sheet2!$A:$A,$D$1*100000+$D8+G$1)","v":0},{"$f":"COUNTIF(Sheet2!$A:$A,$D$1*100000+$D8+H$1)","v":0},{"$f":"COUNTIF(Sheet2!$A:$A,$D$1*100000+$D8+I$1)","v":0},{"$f":"COUNTIF(Sheet2!$A:$A,$D$1*100000+$D8+J$1)","v":0},{"$f":"COUNTIF(Sheet2!$A:$A,$D$1*100000+$D8+K$1)","v":0},{"$f":"COUNTIF(Sheet2!$A:$A,$D$1*100000+$D8+L$1)","v":0},{"$f":"COUNTIF(Sheet2!$A:$A,$D$1*100000+$D8+M$1)","v":0},{"$f":"COUNTIF(Sheet2!$A:$A,$D$1*100000+$D8+N$1)","v":0},{"$f":"COUNTIF(Sheet2!$A:$A,$D$1*100000+$D8+O$1)","v":0},{"$f":"COUNTIF(Sheet2!$A:$A,$D$1*100000+$D8+P$1)","v":0},{"$f":"COUNTIF(Sheet2!$A:$A,$D$1*100000+$D8+Q$1)","v":0},{"$f":"COUNTIF(Sheet2!$A:$A,$D$1*100000+$D8+R$1)","v":0},{"$f":"COUNTIF(Sheet2!$A:$A,$D$1*100000+$D8+S$1)","v":0},{"$f":"COUNTIF(Sheet2!$A:$A,$D$1*100000+$D8+T$1)","v":0},{"$f":"COUNTIF(Sheet2!$A:$A,$D$1*100000+$D8+U$1)","v":0},{"$f":"COUNTIF(Sheet2!$A:$A,$D$1*100000+$D8+V$1)","v":0},{"$f":"COUNTIF(Sheet2!$A:$A,$D$1*100000+$D8+W$1)","v":0},{"$f":"COUNTIF(Sheet2!$A:$A,$D$1*100000+$D8+X$1)","v":0},{"$f":"COUNTIF(Sheet2!$A:$A,$D$1*100000+$D8+Y$1)","v":0},{"$f":"COUNTIF(Sheet2!$A:$A,$D$1*100000+$D8+Z$1)","v":0},{"$f":"COUNTIF(Sheet2!$A:$A,$D$1*100000+$D8+AA$1)","v":0},{"$f":"COUNTIF(Sheet2!$A:$A,$D$1*100000+$D8+AB$1)","v":0},{"$f":"COUNTIF(Sheet2!$A:$A,$D$1*100000+$D8+AC$1)","v":0},{"$f":"COUNTIF(Sheet2!$A:$A,$D$1*100000+$D8+AD$1)","v":0},{"$f":"COUNTIF(Sheet2!$A:$A,$D$1*100000+$D8+AE$1)","v":0},null,0]
[null,null,null,{"$f":"Sheet1!C10","v":"2025-05-05"},{"$f":"COUNTIF(Sheet2!$A:$A,$D$1*100000+$D9+E$1)","v":0},{"$f":"COUNTIF(Sheet2!$A:$A,$D$1*100000+$D9+F$1)","v":0},{"$f":"COUNTIF(Sheet2!$A:$A,$D$1*100000+$D9+G$1)","v":0},{"$f":"COUNTIF(Sheet2!$A:$A,$D$1*100000+$D9+H$1)","v":0},{"$f":"COUNTIF(Sheet2!$A:$A,$D$1*100000+$D9+I$1)","v":0},{"$f":"COUNTIF(Sheet2!$A:$A,$D$1*100000+$D9+J$1)","v":0},{"$f":"COUNTIF(Sheet2!$A:$A,$D$1*100000+$D9+K$1)","v":0},{"$f":"COUNTIF(Sheet2!$A:$A,$D$1*100000+$D9+L$1)","v":0},{"$f":"COUNTIF(Sheet2!$A:$A,$D$1*100000+$D9+M$1)","v":0},{"$f":"COUNTIF(Sheet2!$A:$A,$D$1*100000+$D9+N$1)","v":0},{"$f":"COUNTIF(Sheet2!$A:$A,$D$1*100000+$D9+O$1)","v":0},{"$f":"COUNTIF(Sheet2!$A:$A,$D$1*100000+$D9+P$1)","v":0},{"$f":"COUNTIF(Sheet2!$A:$A,$D$1*100000+$D9+Q$1)","v":0},{"$f":"COUNTIF(Sheet2!$A:$A,$D$1*100000+$D9+R$1)","v":0},{"$f":"COUNTIF(Sheet2!$A:$A,$D$1*100000+$D9+S$1)","v":0},{"$f":"COUNTIF(Sheet2!$A:$A,$D$1*100000+$D9+T$1)","v":0},{"$f":"COUNTIF(Sheet2!$A:$A,$D$1*100000+$D9+U$1)","v":0},{"$f":"COUNTIF(Sheet2!$A:$A,$D$1*100000+$D9+V$1)","v":0},{"$f":"COUNTIF(Sheet2!$A:$A,$D$1*100000+$D9+W$1)","v":0},{"$f":"COUNTIF(Sheet2!$A:$A,$D$1*100000+$D9+X$1)","v":0},{"$f":"COUNTIF(Sheet2!$A:$A,$D$1*100000+$D9+Y$1)","v":0},{"$f":"COUNTIF(Sheet2!$A:$A,$D$1*100000+$D9+Z$1)","v":0},{"$f":"COUNTIF(Sheet2!$A:$A,$D$1*100000+$D9+AA$1)","v":0},{"$f":"COUNTIF(Sheet2!$A:$A,$D$1*100000+$D9+AB$1)","v":0},{"$f":"COUNTIF(Sheet2!$A:$A,$D$1*100000+$D9+AC$1)","v":0},{"$f":"COUNTIF(Sheet2!$A:$A,$D$1*100000+$D9+AD$1)","v":0},{"$f":"COUNTIF(Sheet2!$A:$A,$D$1*100000+$D9+AE$1)","v":0},null,0]
[null,null,null,{"$f":"Sheet1!C11","v":"2025-05-06"},{"$f":"COUNTIF(Sheet2!$A:$A,$D$1*100000+$D10+E$1)","v":0},{"$f":"COUNTIF(Sheet2!$A:$A,$D$1*100000+$D10+F$1)","v":0},{"$f":"COUNTIF(Sheet2!$A:$A,$D$1*100000+$D10+G$1)","v":0},{"$f":"COUNTIF(Sheet2!$A:$A,$D$1*100000+$D10+H$1)","v":0},{"$f":"COUNTIF(Sheet2!$A:$A,$D$1*100000+$D10+I$1)","v":0},{"$f":"COUNTIF(Sheet2!$A:$A,$D$1*100000+$D10+J$1)","v":0},{"$f":"COUNTIF(Sheet2!$A:$A,$D$1*100000+$D10+K$1)","v":0},{"$f":"COUNTIF(Sheet2!$A:$A,$D$1*100000+$D10+L$1)","v":0},{"$f":"COUNTIF(Sheet2!$A:$A,$D$1*100000+$D10+M$1)","v":0},{"$f":"COUNTIF(Sheet2!$A:$A,$D$1*100000+$D10+N$1)","v":0},{"$f":"COUNTIF(Sheet2!$A:$A,$D$1*100000+$D10+O$1)","v":0},{"$f":"COUNTIF(Sheet2!$A:$A,$D$1*100000+$D10+P$1)","v":0},{"$f":"COUNTIF(Sheet2!$A:$A,$D$1*100000+$D10+Q$1)","v":0},{"$f":"COUNTIF(Sheet2!$A:$A,$D$1*100000+$D10+R$1)","v":0},{"$f":"COUNTIF(Sheet2!$A:$A,$D$1*100000+$D10+S$1)","v":0},{"$f":"COUNTIF(Sheet2!$A:$A,$D$1*100000+$D10+T$1)","v":0},{"$f":"COUNTIF(Sheet2!$A:$A,$D$1*100000+$D10+U$1)","v":0},{"$f":"COUNTIF(Sheet2!$A:$A,$D$1*100000+$D10+V$1)","v":0},{"$f":"COUNTIF(Sheet2!$A:$A,$D$1*100000+$D10+W$1)","v":0},{"$f":"COUNTIF(Sheet2!$A:$A,$D$1*100000+$D10+X$1)","v":0},{"$f":"COUNTIF(Sheet2!$A:$A,$D$1*100000+$D10+Y$1)","v":0},{"$f":"COUNTIF(Sheet2!$A:$A,$D$1*100000+$D10+Z$1)","v":0},{"$f":"COUNTIF(Sheet2!$A:$A,$D$1*100000+$D10+AA$1)","v":0},{"$f":"COUNTIF(Sheet2!$A:$A,$D$1*100000+$D10+AB$1)","v":0},{"$f":"COUNTIF(Sheet2!$A:$A,$D$1*100000+$D10+AC$1)","v":0},{"$f":"COUNTIF(Sheet2!$A:$A,$D$1*100000+$D10+AD$1)","v":0},{"$f":"COUNTIF(Sheet2!$A:$A,$D$1*100000+$D10+AE$1)","v":0},null,0]
[null,null,null,{"$f":"Sheet1!C12","v":"2025-05-07"},{"$f":"COUNTIF(Sheet2!$A:$A,$D$1*100000+$D11+E$1)","v":0},{"$f":"COUNTIF(Sheet2!$A:$A,$D$1*100000+$D11+F$1)","v":0},{"$f":"COUNTIF(Sheet2!$A:$A,$D$1*100000+$D11+G$1)","v":0},{"$f":"COUNTIF(Sheet2!$A:$A,$D$1*100000+$D11+H$1)","v":0},{"$f":"COUNTIF(Sheet2!$A:$A,$D$1*100000+$D11+I$1)","v":0},{"$f":"COUNTIF(Sheet2!$A:$A,$D$1*100000+$D11+J$1)","v":0},{"$f":"COUNTIF(Sheet2!$A:$A,$D$1*100000+$D11+K$1)","v":0},{"$f":"COUNTIF(Sheet2!$A:$A,$D$1*100000+$D11+L$1)","v":0},{"$f":"COUNTIF(Sheet2!$A:$A,$D$1*100000+$D11+M$1)","v":0},{"$f":"COUNTIF(Sheet2!$A:$A,$D$1*100000+$D11+N$1)","v":0},{"$f":"COUNTIF(Sheet2!$A:$A,$D$1*100000+$D11+O$1)","v":0},{"$f":"COUNTIF(Sheet2!$A:$A,$D$1*100000+$D11+P$1)","v":0},{"$f":"COUNTIF(Sheet2!$A:$A,$D$1*100000+$D11+Q$1)","v":0},{"$f":"COUNTIF(Sheet2!$A:$A,$D$1*100000+$D11+R$1)","v":0},{"$f":"COUNTIF(Sheet2!$A:$A,$D$1*100000+$D11+S$1)","v":1},{"$f":"COUNTIF(Sheet2!$A:$A,$D$1*100000+$D11+T$1)","v":0},{"$f":"COUNTIF(Sheet2!$A:$A,$D$1*100000+$D11+U$1)","v":0},{"$f":"COUNTIF(Sheet2!$A:$A,$D$1*100000+$D11+V$1)","v":0},{"$f":"COUNTIF(Sheet2!$A:$A,$D$1*100000+$D11+W$1)","v":0},{"$f":"COUNTIF(Sheet2!$A:$A,$D$1*100000+$D11+X$1)","v":0},{"$f":"COUNTIF(Sheet2!$A:$A,$D$1*100000+$D11+Y$1)","v":0},{"$f":"COUNTIF(Sheet2!$A:$A,$D$1*100000+$D11+Z$1)","v":0},{"$f":"COUNTIF(Sheet2!$A:$A,$D$1*100000+$D11+AA$1)","v":0},{"$f":"COUNTIF(Sheet2!$A:$A,$D$1*100000+$D11+AB$1)","v":0},{"$f":"COUNTIF(Sheet2!$A:$A,$D$1*100000+$D11+AC$1)","v":0},{"$f":"COUNTIF(Sheet2!$A:$A,$D$1*100000+$D11+AD$1)","v":0},{"$f":"COUNTIF(Sheet2!$A:$A,$D$1*100000+$D11+AE$1)","v":0},null,1]
[null,null,null,{"$f":"Sheet1!C13","v":"2025-05-08"},{"$f":"COUNTIF(Sheet2!$A:$A,$D$1*100000+$D12+E$1)","v":0},{"$f":"COUNTIF(Sheet2!$A:$A,$D$1*100000+$D12+F$1)","v":0},{"$f":"COUNTIF(Sheet2!$A:$A,$D$1*100000+$D12+G$1)","v":0},{"$f":"COUNTIF(Sheet2!$A:$A,$D$1*100000+$D12+H$1)","v":0},{"$f":"COUNTIF(Sheet2!$A:$A,$D$1*100000+$D12+I$1)","v":0},{"$f":"COUNTIF(Sheet2!$A:$A,$D$1*100000+$D12+J$1)","v":0},{"$f":"COUNTIF(Sheet2!$A:$A,$D$1*100000+$D12+K$1)","v":0},{"$f":"COUNTIF(Sheet2!$A:$A,$D$1*100000+$D12+L$1)","v":0},{"$f":"COUNTIF(Sheet2!$A:$A,$D$1*100000+$D12+M$1)","v":0},{"$f":"COUNTIF(Sheet2!$A:$A,$D$1*100000+$D12+N$1)","v":0},{"$f":"COUNTIF(Sheet2!$A:$A,$D$1*100000+$D12+O$1)","v":0},{"$f":"COUNTIF(Sheet2!$A:$A,$D$1*100000+$D12+P$1)","v":0},{"$f":"COUNTIF(Sheet2!$A:$A,$D$1*100000+$D12+Q$1)","v":0},{"$f":"COUNTIF(Sheet2!$A:$A,$D$1*100000+$D12+R$1)","v":0},{"$f":"COUNTIF(Sheet2!$A:$A,$D$1*100000+$D12+S$1)","v":0},{"$f":"COUNTIF(Sheet2!$A:$A,$D$1*100000+$D12+T$1)","v":0},{"$f":"COUNTIF(Sheet2!$A:$A,$D$1*100000+$D12+U$1)","v":0},{"$f":"COUNTIF(Sheet2!$A:$A,$D$1*100000+$D12+V$1)","v":0},{"$f":"COUNTIF(Sheet2!$A:$A,$D$1*100000+$D12+W$1)","v":0},{"$f":"COUNTIF(Sheet2!$A:$A,$D$1*100000+$D12+X$1)","v":0},{"$f":"COUNTIF(Sheet2!$A:$A,$D$1*100000+$D12+Y$1)","v":0},{"$f":"COUNTIF(Sheet2!$A:$A,$D$1*100000+$D12+Z$1)","v":0},{"$f":"COUNTIF(Sheet2!$A:$A,$D$1*100000+$D12+AA$1)","v":0},{"$f":"COUNTIF(Sheet2!$A:$A,$D$1*100000+$D12+AB$1)","v":0},{"$f":"COUNTIF(Sheet2!$A:$A,$D$1*100000+$D12+AC$1)","v":0},{"$f":"COUNTIF(Sheet2!$A:$A,$D$1*100000+$D12+AD$1)","v":0},{"$f":"COUNTIF(Sheet2!$A:$A,$D$1*100000+$D12+AE$1)","v":0},null,0]
[null,null,null,{"$f":"Sheet1!C14","v":"2025-05-09"},{"$f":"COUNTIF(Sheet2!$A:$A,$D$1*100000+$D13+E$1)","v":0},{"$f":"COUNTIF(Sheet2!$A:$A,$D$1*100000+$D13+F$1)","v":0},{"$f":"COUNTIF(Sheet2!$A:$A,$D$1*100000+$D13+G$1)","v":0},{"$f":"COUNTIF(Sheet2!$A:$A,$D$1*100000+$D13+H$1)","v":0},{"$f":"COUNTIF(Sheet2!$A:$A,$D$1*100000+$D13+I$1)","v":0},{"$f":"COUNTIF(Sheet2!$A:$A,$D$1*100000+$D13+J$1)","v":0},{"$f":"COUNTIF(Sheet2!$A:$A,$D$1*100000+$D13+K$1)","v":0},{"$f":"COUNTIF(Sheet2!$A:$A,$D$1*100000+$D13+L$1)","v":0},{"$f":"COUNTIF(Sheet2!$A:$A,$D$1*100000+$D13+M$1)","v":0},{"$f":"COUNTIF(Sheet2!$A:$A,$D$1*100000+$D13+N$1)","v":0},{"$f":"COUNTIF(Sheet2!$A:$A,$D$1*100000+$D13+O$1)","v":0},{"$f":"COUNTIF(Sheet2!$A:$A,$D$1*100000+$D13+P$1)","v":0},{"$f":"COUNTIF(Sheet2!$A:$A,$D$1*100000+$D13+Q$1)","v":1},{"$f":"COUNTIF(Sheet2!$A:$A,$D$1*100000+$D13+R$1)","v":0},{"$f":"COUNTIF(Sheet2!$A:$A,$D$1*100000+$D13+S$1)","v":0},{"$f":"COUNTIF(Sheet2!$A:$A,$D$1*100000+$D13+T$1)","v":0},{"$f":"COUNTIF(Sheet2!$A:$A,$D$1*100000+$D13+U$1)","v":0},{"$f":"COUNTIF(Sheet2!$A:$A,$D$1*100000+$D13+V$1)","v":0},{"$f":"COUNTIF(Sheet2!$A:$A,$D$1*100000+$D13+W$1)","v":0},{"$f":"COUNTIF(Sheet2!$A:$A,$D$1*100000+$D13+X$1)","v":0},{"$f":"COUNTIF(Sheet2!$A:$A,$D$1*100000+$D13+Y$1)","v":0},{"$f":"COUNTIF(Sheet2!$A:$A,$D$1*100000+$D13+Z$1)","v":0},{"$f":"COUNTIF(Sheet2!$A:$A,$D$1*100000+$D13+AA$1)","v":0},{"$f":"COUNTIF(Sheet2!$A:$A,$D$1*100000+$D13+AB$1)","v":0},{"$f":"COUNTIF(Sheet2!$A:$A,$D$1*100000+$D13+AC$1)","v":0},{"$f":"COUNTIF(Sheet2!$A:$A,$D$1*100000+$D13+AD$1)","v":0},{"$f":"COUNTIF(Sheet2!$A:$A,$D$1*100000+$D13+AE$1)","v":0},null,1]
[null,null,null,{"$f":"Sheet1!C15","v":"2025-05-10"},{"$f":"COUNTIF(Sheet2!$A:$A,$D$1*100000+$D14+E$1)","v":0},{"$f":"COUNTIF(Sheet2!$A:$A,$D$1*100000+$D14+F$1)","v":0},{"$f":"COUNTIF(Sheet2!$A:$A,$D$1*100000+$D14+G$1)","v":0},{"$f":"COUNTIF(Sheet2!$A:$A,$D$1*100000+$D14+H$1)","v":0},{"$f":"COUNTIF(Sheet2!$A:$A,$D$1*100000+$D14+I$1)","v":0},{"$f":"COUNTIF(Sheet2!$A:$A,$D$1*100000+$D14+J$1)","v":0},{"$f":"COUNTIF(Sheet2!$A:$A,$D$1*100000+$D14+K$1)","v":0},{"$f":"COUNTIF(Sheet2!$A:$A,$D$1*100000+$D14+L$1)","v":0},{"$f":"COUNTIF(Sheet2!$A:$A,$D$1*100000+$D14+M$1)","v":0},{"$f":"COUNTIF(Sheet2!$A:$A,$D$1*100000+$D14+N$1)","v":0},{"$f":"COUNTIF(Sheet2!$A:$A,$D$1*100000+$D14+O$1)","v":0},{"$f":"COUNTIF(Sheet2!$A:$A,$D$1*100000+$D14+P$1)","v":0},{"$f":"COUNTIF(Sheet2!$A:$A,$D$1*100000+$D14+Q$1)","v":0},{"$f":"COUNTIF(Sheet2!$A:$A,$D$1*100000+$D14+R$1)","v":0},{"$f":"COUNTIF(Sheet2!$A:$A,$D$1*100000+$D14+S$1)","v":0},{"$f":"COUNTIF(Sheet2!$A:$A,$D$1*100000+$D14+T$1)","v":0},{"$f":"COUNTIF(Sheet2!$A:$A,$D$1*100000+$D14+U$1)","v":0},{"$f":"COUNTIF(Sheet2!$A:$A,$D$1*100000+$D14+V$1)","v":0},{"$f":"COUNTIF(Sheet2!$A:$A,$D$1*100000+$D14+W$1)","v":0},{"$f":"COUNTIF(Sheet2!$A:$A,$D$1*100000+$D14+X$1)","v":0},{"$f":"COUNTIF(Sheet2!$A:$A,$D$1*100000+$D14+Y$1)","v":0},{"$f":"COUNTIF(Sheet2!$A:$A,$D$1*100000+$D14+Z$1)","v":0},{"$f":"COUNTIF(Sheet2!$A:$A,$D$1*100000+$D14+AA$1)","v":0},{"$f":"COUNTIF(Sheet2!$A:$A,$D$1*100000+$D14+AB$1)","v":0},{"$f":"COUNTIF(Sheet2!$A:$A,$D$1*100000+$D14+AC$1)","v":0},{"$f":"COUNTIF(Sheet2!$A:$A,$D$1*100000+$D14+AD$1)","v":0},{"$f":"COUNTIF(Sheet2!$A:$A,$D$1*100000+$D14+AE$1)","v":0},null,0]
[null,null,null,{"$f":"Sheet1!C16","v":"2025-05-11"},{"$f":"COUNTIF(Sheet2!$A:$A,$D$1*100000+$D15+E$1)","v":0},{"$f":"COUNTIF(Sheet2!$A:$A,$D$1*100000+$D15+F$1)","v":0},{"$f":"COUNTIF(Sheet2!$A:$A,$D$1*100000+$D15+G$1)","v":0},{"$f":"COUNTIF(Sheet2!$A:$A,$D$1*100000+$D15+H$1)","v":0},{"$f":"COUNTIF(Sheet2!$A:$A,$D$1*100000+$D15+I$1)","v":0},{"$f":"COUNTIF(Sheet2!$A:$A,$D$1*100000+$D15+J$1)","v":0},{"$f":"COUNTIF(Sheet2!$A:$A,$D$1*100000+$D15+K$1)","v":0},{"$f":"COUNTIF(Sheet2!$A:$A,$D$1*100000+$D15+L$1)","v":0},{"$f":"COUNTIF(Sheet2!$A:$A,$D$1*100000+$D15+M$1)","v":0},{"$f":"COUNTIF(Sheet2!$A:$A,$D$1*100000+$D15+N$1)","v":0},{"$f":"COUNTIF(Sheet2!$A:$A,$D$1*100000+$D15+O$1)","v":0},{"$f":"COUNTIF(Sheet2!$A:$A,$D$1*100000+$D15+P$1)","v":0},{"$f":"COUNTIF(Sheet2!$A:$A,$D$1*100000+$D15+Q$1)","v":0},{"$f":"COUNTIF(Sheet2!$A:$A,$D$1*100000+$D15+R$1)","v":0},{"$f":"COUNTIF(Sheet2!$A:$A,$D$1*100000+$D15+S$1)","v":0},{"$f":"COUNTIF(Sheet2!$A:$A,$D$1*100000+$D15+T$1)","v":0},{"$f":"COUNTIF(Sheet2!$A:$A,$D$1*100000+$D15+U$1)","v":0},{"$f":"COUNTIF(Sheet2!$A:$A,$D$1*100000+$D15+V$1)","v":0},{"$f":"COUNTIF(Sheet2!$A:$A,$D$1*100000+$D15+W$1)","v":0},{"$f":"COUNTIF(Sheet2!$A:$A,$D$1*100000+$D15+X$1)","v":0},{"$f":"COUNTIF(Sheet2!$A:$A,$D$1*100000+$D15+Y$1)","v":0},{"$f":"COUNTIF(Sheet2!$A:$A,$D$1*100000+$D15+Z$1)","v":0},{"$f":"COUNTIF(Sheet2!$A:$A,$D$1*100000+$D15+AA$1)","v":0},{"$f":"COUNTIF(Sheet2!$A:$A,$D$1*100000+$D15+AB$1)","v":0},{"$f":"COUNTIF(Sheet2!$A:$A,$D$1*100000+$D15+AC$1)","v":0},{"$f":"COUNTIF(Sheet2!$A:$A,$D$1*100000+$D15+AD$1)","v":0},{"$f":"COUNTIF(Sheet2!$A:$A,$D$1*100000+$D15+AE$1)","v":0},null,0]
[null,null,null,{"$f":"Sheet1!C17","v":"2025-05-12"},{"$f":"COUNTIF(Sheet2!$A:$A,$D$1*100000+$D16+E$1)","v":0},{"$f":"COUNTIF(Sheet2!$A:$A,$D$1*100000+$D16+F$1)","v":0},{"$f":"COUNTIF(Sheet2!$A:$A,$D$1*100000+$D16+G$1)","v":0},{"$f":"COUNTIF(Sheet2!$A:$A,$D$1*100000+$D16+H$1)","v":0},{"$f":"COUNTIF(Sheet2!$A:$A,$D$1*100000+$D16+I$1)","v":0},{"$f":"COUNTIF(Sheet2!$A:$A,$D$1*100000+$D16+J$1)","v":0},{"$f":"COUNTIF(Sheet2!$A:$A,$D$1*100000+$D16+K$1)","v":0},{"$f":"COUNTIF(Sheet2!$A:$A,$D$1*100000+$D16+L$1)","v":0},{"$f":"COUNTIF(Sheet2!$A:$A,$D$1*100000+$D16+M$1)","v":1},{"$f":"COUNTIF(Sheet2!$A:$A,$D$1*100000+$D16+N$1)","v":0},{"$f":"COUNTIF(Sheet2!$A:$A,$D$1*100000+$D16+O$1)","v":0},{"$f":"COUNTIF(Sheet2!$A:$A,$D$1*100000+$D16+P$1)","v":0},{"$f":"COUNTIF(Sheet2!$A:$A,$D$1*100000+$D16+Q$1)","v":0},{"$f":"COUNTIF(Sheet2!$A:$A,$D$1*100000+$D16+R$1)","v":0},{"$f":"COUNTIF(Sheet2!$A:$A,$D$1*100000+$D16+S$1)","v":0},{"$f":"COUNTIF(Sheet2!$A:$A,$D$1*100000+$D16+T$1)","v":0},{"$f":"COUNTIF(Sheet2!$A:$A,$D$1*100000+$D16+U$1)","v":0},{"$f":"COUNTIF(Sheet2!$A:$A,$D$1*100000+$D16+V$1)","v":0},{"$f":"COUNTIF(Sheet2!$A:$A,$D$1*100000+$D16+W$1)","v":0},{"$f":"COUNTIF(Sheet2!$A:$A,$D$1*100000+$D16+X$1)","v":0},{"$f":"COUNTIF(Sheet2!$A:$A,$D$1*100000+$D16+Y$1)","v":0},{"$f":"COUNTIF(Sheet2!$A:$A,$D$1*100000+$D16+Z$1)","v":0},{"$f":"COUNTIF(Sheet2!$A:$A,$D$1*100000+$D16+AA$1)","v":0},{"$f":"COUNTIF(Sheet2!$A:$A,$D$1*100000+$D16+AB$1)","v":0},{"$f":"COUNTIF(Sheet2!$A:$A,$D$1*100000+$D16+AC$1)","v":0},{"$f":"COUNTIF(Sheet2!$A:$A,$D$1*100000+$D16+AD$1)","v":0},{"$f":"COUNTIF(Sheet2!$A:$A,$D$1*100000+$D16+AE$1)","v":0},null,1]
[null,null,null,{"$f":"Sheet1!C18","v":"2025-05-13"},{"$f":"COUNTIF(Sheet2!$A:$A,$D$1*100000+$D17+E$1)","v":0},{"$f":"COUNTIF(Sheet2!$A:$A,$D$1*100000+$D17+F$1)","v":0},{"$f":"COUNTIF(Sheet2!$A:$A,$D$1*100000+$D17+G$1)","v":0},{"$f":"COUNTIF(Sheet2!$A:$A,$D$1*100000+$D17+H$1)","v":0},{"$f":"COUNTIF(Sheet2!$A:$A,$D$1*100000+$D17+I$1)","v":0},{"$f":"COUNTIF(Sheet2!$A:$A,$D$1*100000+$D17+J$1)","v":0},{"$f":"COUNTIF(Sheet2!$A:$A,$D$1*100000+$D17+K$1)","v":0},{"$f":"COUNTIF(Sheet2!$A:$A,$D$1*100000+$D17+L$1)","v":0},{"$f":"COUNTIF(Sheet2!$A:$A,$D$1*100000+$D17+M$1)","v":0},{"$f":"COUNTIF(Sheet2!$A:$A,$D$1*100000+$D17+N$1)","v":0},{"$f":"COUNTIF(Sheet2!$A:$A,$D$1*100000+$D17+O$1)","v":0},{"$f":"COUNTIF(Sheet2!$A:$A,$D$1*100000+$D17+P$1)","v":0},{"$f":"COUNTIF(Sheet2!$A:$A,$D$1*100000+$D17+Q$1)","v":0},{"$f":"COUNTIF(Sheet2!$A:$A,$D$1*100000+$D17+R$1)","v":0},{"$f":"COUNTIF(Sheet2!$A:$A,$D$1*100000+$D17+S$1)","v":0},{"$f":"COUNTIF(Sheet2!$A:$A,$D$1*100000+$D17+T$1)","v":0},{"$f":"COUNTIF(Sheet2!$A:$A,$D$1*100000+$D17+U$1)","v":0},{"$f":"COUNTIF(Sheet2!$A:$A,$D$1*100000+$D17+V$1)","v":0},{"$f":"COUNTIF(Sheet2!$A:$A,$D$1*100000+$D17+W$1)","v":0},{"$f":"COUNTIF(Sheet2!$A:$A,$D$1*100000+$D17+X$1)","v":0},{"$f":"COUNTIF(Sheet2!$A:$A,$D$1*100000+$D17+Y$1)","v":0},{"$f":"COUNTIF(Sheet2!$A:$A,$D$1*100000+$D17+Z$1)","v":0},{"$f":"COUNTIF(Sheet2!$A:$A,$D$1*100000+$D17+AA$1)","v":0},{"$f":"COUNTIF(Sheet2!$A:$A,$D$1*100000+$D17+AB$1)","v":0},{"$f":"COUNTIF(Sheet2!$A:$A,$D$1*100000+$D17+AC$1)","v":0},{"$f":"COUNTIF(Sheet2!$A:$A,$D$1*100000+$D17+AD$1)","v":0},{"$f":"COUNTIF(Sheet2!$A:$A,$D$1*100000+$D17+AE$1)","v":0},null,0]
[null,null,null,{"$f":"Sheet1!C19","v":"2025-05-14"},{"$f":"COUNTIF(Sheet2!$A:$A,$D$1*100000+$D18+E$1)","v":0},{"$f":"COUNTIF(Sheet2!$A:$A,$D$1*100000+$D18+F$1)","v":0},{"$f":"COUNTIF(Sheet2!$A:$A,$D$1*100000+$D18+G$1)","v":0},{"$f":"COUNTIF(Sheet2!$A:$A,$D$1*100000+$D18+H$1)","v":0},{"$f":"COUNTIF(Sheet2!$A:$A,$D$1*100000+$D18+I$1)","v":0},{"$f":"COUNTIF(Sheet2!$A:$A,$D$1*100000+$D18+J$1)","v":0},{"$f":"COUNTIF(Sheet2!$A:$A,$D$1*100000+$D18+K$1)","v":0},{"$f":"COUNTIF(Sheet2!$A:$A,$D$1*100000+$D18+L$1)","v":0},{"$f":"COUNTIF(Sheet2!$A:$A,$D$1*100000+$D18+M$1)","v":0},{"$f":"COUNTIF(Sheet2!$A:$A,$D$1*100000+$D18+N$1)","v":0},{"$f":"COUNTIF(Sheet2!$A:$A,$D$1*100000+$D18+O$1)","v":0},{"$f":"COUNTIF(Sheet2!$A:$A,$D$1*100000+$D18+P$1)","v":0},{"$f":"COUNTIF(Sheet2!$A:$A,$D$1*100000+$D18+Q$1)","v":0},{"$f":"COUNTIF(Sheet2!$A:$A,$D$1*100000+$D18+R$1)","v":0},{"$f":"COUNTIF(Sheet2!$A:$A,$D$1*100000+$D18+S$1)","v":0},{"$f":"COUNTIF(Sheet2!$A:$A,$D$1*100000+$D18+T$1)","v":0},{"$f":"COUNTIF(Sheet2!$A:$A,$D$1*100000+$D18+U$1)","v":0},{"$f":"COUNTIF(Sheet2!$A:$A,$D$1*100000+$D18+V$1)","v":0},{"$f":"COUNTIF(Sheet2!$A:$A,$D$1*100000+$D18+W$1)","v":0},{"$f":"COUNTIF(Sheet2!$A:$A,$D$1*100000+$D18+X$1)","v":0},{"$f":"COUNTIF(Sheet2!$A:$A,$D$1*100000+$D18+Y$1)","v":0},{"$f":"COUNTIF(Sheet2!$A:$A,$D$1*100000+$D18+Z$1)","v":0},{"$f":"COUNTIF(Sheet2!$A:$A,$D$1*100000+$D18+AA$1)","v":0},{"$f":"COUNTIF(Sheet2!$A:$A,$D$1*100000+$D18+AB$1)","v":0},{"$f":"COUNTIF(Sheet2!$A:$A,$D$1*100000+$D18+AC$1)","v":0},{"$f":"COUNTIF(Sheet2!$A:$A,$D$1*100000+$D18+AD$1)","v":0},{"$f":"COUNTIF(Sheet2!$A:$A,$D$1*100000+$D18+AE$1)","v":0},null,0]
[null,null,null,{"$f":"Sheet1!C20","v":"2025-05-15"},{"$f":"COUNTIF(Sheet2!$A:$A,$D$1*100000+$D19+E$1)","v":0},{"$f":"COUNTIF(Sheet2!$A:$A,$D$1*100000+$D19+F$1)","v":0},{"$f":"COUNTIF(Sheet2!$A:$A,$D$1*100000+$D19+G$1)","v":0},{"$f":"COUNTIF(Sheet2!$A:$A,$D$1*100000+$D19+H$1)","v":0},{"$f":"COUNTIF(Sheet2!$A:$A,$D$1*100000+$D19+I$1)","v":0},{"$f":"COUNTIF(Sheet2!$A:$A,$D$1*100000+$D19+J$1)","v":0},{"$f":"COUNTIF(Sheet2!$A:$A,$D$1*100000+$D19+K$1)","v":0},{"$f":"COUNTIF(Sheet2!$A:$A,$D$1*100000+$D19+L$1)","v":0},{"$f":"COUNTIF(Sheet2!$A:$A,$D$1*100000+$D19+M$1)","v":0},{"$f":"COUNTIF(Sheet2!$A:$A,$D$1*100000+$D19+N$1)","v":0},{"$f":"COUNTIF(Sheet2!$A:$A,$D$1*100000+$D19+O$1)","v":0},{"$f":"COUNTIF(Sheet2!$A:$A,$D$1*100000+$D19+P$1)","v":0},{"$f":"COUNTIF(Sheet2!$A:$A,$D$1*100000+$D19+Q$1)","v":0},{"$f":"COUNTIF(Sheet2!$A:$A,$D$1*100000+$D19+R$1)","v":0},{"$f":"COUNTIF(Sheet2!$A:$A,$D$1*100000+$D19+S$1)","v":0},{"$f":"COUNTIF(Sheet2!$A:$A,$D$1*100000+$D19+T$1)","v":0},{"$f":"COUNTIF(Sheet2!$A:$A,$D$1*100000+$D19+U$1)","v":0},{"$f":"COUNTIF(Sheet2!$A:$A,$D$1*100000+$D19+V$1)","v":0},{"$f":"COUNTIF(Sheet2!$A:$A,$D$1*100000+$D19+W$1)","v":0},{"$f":"COUNTIF(Sheet2!$A:$A,$D$1*100000+$D19+X$1)","v":0},{"$f":"COUNTIF(Sheet2!$A:$A,$D$1*100000+$D19+Y$1)","v":0},{"$f":"COUNTIF(Sheet2!$A:$A,$D$1*100000+$D19+Z$1)","v":0},{"$f":"COUNTIF(Sheet2!$A:$A,$D$1*100000+$D19+AA$1)","v":0},{"$f":"COUNTIF(Sheet2!$A:$A,$D$1*100000+$D19+AB$1)","v":0},{"$f":"COUNTIF(Sheet2!$A:$A,$D$1*100000+$D19+AC$1)","v":0},{"$f":"COUNTIF(Sheet2!$A:$A,$D$1*100000+$D19+AD$1)","v":0},{"$f":"COUNTIF(Sheet2!$A:$A,$D$1*100000+$D19+AE$1)","v":0},null,0]
[null,null,null,{"$f":"Sheet1!C21","v":"2025-05-16"},{"$f":"COUNTIF(Sheet2!$A:$A,$D$1*100000+$D20+E$1)","v":0},{"$f":"COUNTIF(Sheet2!$A:$A,$D$1*100000+$D20+F$1)","v":0},{"$f":"COUNTIF(Sheet2!$A:$A,$D$1*100000+$D20+G$1)","v":1},{"$f":"COUNTIF(Sheet2!$A:$A,$D$1*100000+$D20+H$1)","v":0},{"$f":"COUNTIF(Sheet2!$A:$A,$D$1*100000+$D20+I$1)","v":0},{"$f":"COUNTIF(Sheet2!$A:$A,$D$1*100000+$D20+J$1)","v":0},{"$f":"COUNTIF(Sheet2!$A:$A,$D$1*100000+$D20+K$1)","v":0},{"$f":"COUNTIF(Sheet2!$A:$A,$D$1*100000+$D20+L$1)","v":0},{"$f":"COUNTIF(Sheet2!$A:$A,$D$1*100000+$D20+M$1)","v":0},{"$f":"COUNTIF(Sheet2!$A:$A,$D$1*100000+$D20+N$1)","v":0},{"$f":"COUNTIF(Sheet2!$A:$A,$D$1*100000+$D20+O$1)","v":0},{"$f":"COUNTIF(Sheet2!$A:$A,$D$1*100000+$D20+P$1)","v":0},{"$f":"COUNTIF(Sheet2!$A:$A,$D$1*100000+$D20+Q$1)","v":0},{"$f":"COUNTIF(Sheet2!$A:$A,$D$1*100000+$D20+R$1)","v":0},{"$f":"COUNTIF(Sheet2!$A:$A,$D$1*100000+$D20+S$1)","v":0},{"$f":"COUNTIF(Sheet2!$A:$A,$D$1*100000+$D20+T$1)","v":0},{"$f":"COUNTIF(Sheet2!$A:$A,$D$1*100000+$D20+U$1)","v":0},{"$f":"COUNTIF(Sheet2!$A:$A,$D$1*100000+$D20+V$1)","v":0},{"$f":"COUNTIF(Sheet2!$A:$A,$D$1*100000+$D20+W$1)","v":0},{"$f":"COUNTIF(Sheet2!$A:$A,$D$1*100000+$D20+X$1)","v":0},{"$f":"COUNTIF(Sheet2!$A:$A,$D$1*100000+$D20+Y$1)","v":0},{"$f":"COUNTIF(Sheet2!$A:$A,$D$1*100000+$D20+Z$1)","v":0},{"$f":"COUNTIF(Sheet2!$A:$A,$D$1*100000+$D20+AA$1)","v":0},{"$f":"COUNTIF(Sheet2!$A:$A,$D$1*100000+$D20+AB$1)","v":0},{"$f":"COUNTIF(Sheet2!$A:$A,$D$1*100000+$D20+AC$1)","v":0},{"$f":"COUNTIF(Sheet2!$A:$A,$D$1*100000+$D20+AD$1)","v":0},{"$f":"COUNTIF(Sheet2!$A:$A,$D$1*100000+$D20+AE$1)","v":0},null,0]
[null,null,null,{"$f":"Sheet1!C22","v":"2025-05-17"},{"$f":"COUNTIF(Sheet2!$A:$A,$D$1*100000+$D21+E$1)","v":0},{"$f":"COUNTIF(Sheet2!$A:$A,$D$1*100000+$D21+F$1)","v":0},{"$f":"COUNTIF(Sheet2!$A:$A,$D$1*100000+$D21+G$1)","v":0},{"$f":"COUNTIF(Sheet2!$A:$A,$D$1*100000+$D21+H$1)","v":0},{"$f":"COUNTIF(Sheet2!$A:$A,$D$1*100000+$D21+I$1)","v":0},{"$f":"COUNTIF(Sheet2!$A:$A,$D$1*100000+$D21+J$1)","v":0},{"$f":"COUNTIF(Sheet2!$A:$A,$D$1*100000+$D21+K$1)","v":0},{"$f":"COUNTIF(Sheet2!$A:$A,$D$1*100000+$D21+L$1)","v":0},{"$f":"COUNTIF(Sheet2!$A:$A,$D$1*100000+$D21+M$1)","v":0},{"$f":"COUNTIF(Sheet2!$A:$A,$D$1*100000+$D21+N$1)","v":0},{"$f":"COUNTIF(Sheet2!$A:$A,$D$1*100000+$D21+O$1)","v":0},{"$f":"COUNTIF(Sheet2!$A:$A,$D$1*100000+$D21+P$1)","v":0},{"$f":"COUNTIF(Sheet2!$A:$A,$D$1*100000+$D21+Q$1)","v":0},{"$f":"COUNTIF(Sheet2!$A:$A,$D$1*100000+$D21+R$1)","v":0},{"$f":"COUNTIF(Sheet2!$A:$A,$D$1*100000+$D21+S$1)","v":0},{"$f":"COUNTIF(Sheet2!$A:$A,$D$1*100000+$D21+T$1)","v":0},{"$f":"COUNTIF(Sheet2!$A:$A,$D$1*100000+$D21+U$1)","v":0},{"$f":"COUNTIF(Sheet2!$A:$A,$D$1*100000+$D21+V$1)","v":0},{"$f":"COUNTIF(Sheet2!$A:$A,$D$1*100000+$D21+W$1)","v":0},{"$f":"COUNTIF(Sheet2!$A:$A,$D$1*100000+$D21+X$1)","v":0},{"$f":"COUNTIF(Sheet2!$A:$A,$D$1*100000+$D21+Y$1)","v":0},{"$f":"COUNTIF(Sheet2!$A:$A,$D$1*100000+$D21+Z$1)","v":0},{"$f":"COUNTIF(Sheet2!$A:$A,$D$1*100000+$D21+AA$1)","v":0},{"$f":"COUNTIF(Sheet2!$A:$A,$D$1*100000+$D21+AB$1)","v":0},{"$f":"COUNTIF(Sheet2!$A:$A,$D$1*100000+$D21+AC$1)","v":0},{"$f":"COUNTIF(Sheet2!$A:$A,$D$1*100000+$D21+AD$1)","v":0},{"$f":"COUNTIF(Sheet2!$A:$A,$D$1*100000+$D21+AE$1)","v":0},null,0]
[null,null,null,{"$f":"Sheet1!C23","v":"2025-05-18"},{"$f":"COUNTIF(Sheet2!$A:$A,$D$1*100000+$D22+E$1)","v":0},{"$f":"COUNTIF(Sheet2!$A:$A,$D$1*100000+$D22+F$1)","v":0},{"$f":"COUNTIF(Sheet2!$A:$A,$D$1*100000+$D22+G$1)","v":0},{"$f":"COUNTIF(Sheet2!$A:$A,$D$1*100000+$D22+H$1)","v":0},{"$f":"COUNTIF(Sheet2!$A:$A,$D$1*100000+$D22+I$1)","v":0},{"$f":"COUNTIF(Sheet2!$A:$A,$D$1*100000+$D22+J$1)","v":0},{"$f":"COUNTIF(Sheet2!$A:$A,$D$1*100000+$D22+K$1)","v":0},{"$f":"COUNTIF(Sheet2!$A:$A,$D$1*100000+$D22+L$1)","v":0},{"$f":"COUNTIF(Sheet2!$A:$A,$D$1*100000+$D22+M$1)","v":0},{"$f":"COUNTIF(Sheet2!$A:$A,$D$1*100000+$D22+N$1)","v":0},{"$f":"COUNTIF(Sheet2!$A:$A,$D$1*100000+$D22+O$1)","v":0},{"$f":"COUNTIF(Sheet2!$A:$A,$D$1*100000+$D22+P$1)","v":0},{"$f":"COUNTIF(Sheet2!$A:$A,$D$1*100000+$D22+Q$1)","v":0},{"$f":"COUNTIF(Sheet2!$A:$A,$D$1*100000+$D22+R$1)","v":0},{"$f":"COUNTIF(Sheet2!$A:$A,$D$1*100000+$D22+S$1)","v":0},{"$f":"COUNTIF(Sheet2!$A:$A,$D$1*100000+$D22+T$1)","v":0},{"$f":"COUNTIF(Sheet2!$A:$A,$D$1*100000+$D22+U$1)","v":0},{"$f":"COUNTIF(Sheet2!$A:$A,$D$1*100000+$D22+V$1)","v":0},{"$f":"COUNTIF(Sheet2!$A:$A,$D$1*100000+$D22+W$1)","v":0},{"$f":"COUNTIF(Sheet2!$A:$A,$D$1*100000+$D22+X$1)","v":0},{"$f":"COUNTIF(Sheet2!$A:$A,$D$1*100000+$D22+Y$1)","v":0},{"$f":"COUNTIF(Sheet2!$A:$A,$D$1*100000+$D22+Z$1)","v":0},{"$f":"COUNTIF(Sheet2!$A:$A,$D$1*100000+$D22+AA$1)","v":0},{"$f":"COUNTIF(Sheet2!$A:$A,$D$1*100000+$D22+AB$1)","v":0},{"$f":"COUNTIF(Sheet2!$A:$A,$D$1*100000+$D22+AC$1)","v":0},{"$f":"COUNTIF(Sheet2!$A:$A,$D$1*100000+$D22+AD$1)","v":0},{"$f":"COUNTIF(Sheet2!$A:$A,$D$1*100000+$D22+AE$1)","v":0},null,0]
[null,null,null,{"$f":"Sheet1!C24","v":"2025-05-19"},{"$f":"COUNTIF(Sheet2!$A:$A,$D$1*100000+$D23+E$1)","v":0},{"$f":"COUNTIF(Sheet2!$A:$A,$D$1*100000+$D23+F$1)","v":0},{"$f":"COUNTIF(Sheet2!$A:$A,$D$1*100000+$D23+G$1)","v":1},{"$f":"COUNTIF(Sheet2!$A:$A,$D$1*100000+$D23+H$1)","v":0},{"$f":"COUNTIF(Sheet2!$A:$A,$D$1*100000+$D23+I$1)","v":0},{"$f":"COUNTIF(Sheet2!$A:$A,$D$1*100000+$D23+J$1)","v":0},{"$f":"COUNTIF(Sheet2!$A:$A,$D$1*100000+$D23+K$1)","v":0},{"$f":"COUNTIF(Sheet2!$A:$A,$D$1*100000+$D23+L$1)","v":0},{"$f":"COUNTIF(Sheet2!$A:$A,$D$1*100000+$D23+M$1)","v":0},{"$f":"COUNTIF(Sheet2!$A:$A,$D$1*100000+$D23+N$1)","v":0},{"$f":"COUNTIF(Sheet2!$A:$A,$D$1*100000+$D23+O$1)","v":0},{"$f":"COUNTIF(Sheet2!$A:$A,$D$1*100000+$D23+P$1)","v":0},{"$f":"COUNTIF(Sheet2!$A:$A,$D$1*100000+$D23+Q$1)","v":0},{"$f":"COUNTIF(Sheet2!$A:$A,$D$1*100000+$D23+R$1)","v":0},{"$f":"COUNTIF(Sheet2!$A:$A,$D$1*100000+$D23+S$1)","v":0},{"$f":"COUNTIF(Sheet2!$A:$A,$D$1*100000+$D23+T$1)","v":0},{"$f":"COUNTIF(Sheet2!$A:$A,$D$1*100000+$D23+U$1)","v":0},{"$f":"COUNTIF(Sheet2!$A:$A,$D$1*100000+$D23+V$1)","v":0},{"$f":"COUNTIF(Sheet2!$A:$A,$D$1*100000+$D23+W$1)","v":0},{"$f":"COUNTIF(Sheet2!$A:$A,$D$1*100000+$D23+X$1)","v":0},{"$f":"COUNTIF(Sheet2!$A:$A,$D$1*100000+$D23+Y$1)","v":0},{"$f":"COUNTIF(Sheet2!$A:$A,$D$1*100000+$D23+Z$1)","v":0},{"$f":"COUNTIF(Sheet2!$A:$A,$D$1*100000+$D23+AA$1)","v":0},{"$f":"COUNTIF(Sheet2!$A:$A,$D$1*100000+$D23+AB$1)","v":0},{"$f":"COUNTIF(Sheet2!$A:$A,$D$1*100000+$D23+AC$1)","v":0},{"$f":"COUNTIF(Sheet2!$A:$A,$D$1*100000+$D23+AD$1)","v":0},{"$f":"COUNTIF(Sheet2!$A:$A,$D$1*100000+$D23+AE$1)","v":0},null,0]
[null,null,null,{"$f":"Sheet1!C25","v":"2025-05-20"},{"$f":"COUNTIF(Sheet2!$A:$A,$D$1*100000+$D24+E$1)","v":0},{"$f":"COUNTIF(Sheet2!$A:$A,$D$1*100000+$D24+F$1)","v":0},{"$f":"COUNTIF(Sheet2!$A:$A,$D$1*100000+$D24+G$1)","v":1},{"$f":"COUNTIF(Sheet2!$A:$A,$D$1*100000+$D24+H$1)","v":0},{"$f":"COUNTIF(Sheet2!$A:$A,$D$1*100000+$D24+I$1)","v":0},{"$f":"COUNTIF(Sheet2!$A:$A,$D$1*100000+$D24+J$1)","v":0},{"$f":"COUNTIF(Sheet2!$A:$A,$D$1*100000+$D24+K$1)","v":0},{"$f":"COUNTIF(Sheet2!$A:$A,$D$1*100000+$D24+L$1)","v":0},{"$f":"COUNTIF(Sheet2!$A:$A,$D$1*100000+$D24+M$1)","v":0},{"$f":"COUNTIF(Sheet2!$A:$A,$D$1*100000+$D24+N$1)","v":0},{"$f":"COUNTIF(Sheet2!$A:$A,$D$1*100000+$D24+O$1)","v":0},{"$f":"COUNTIF(Sheet2!$A:$A,$D$1*100000+$D24+P$1)","v":0},{"$f":"COUNTIF(Sheet2!$A:$A,$D$1*100000+$D24+Q$1)","v":0},{"$f":"COUNTIF(Sheet2!$A:$A,$D$1*100000+$D24+R$1)","v":0},{"$f":"COUNTIF(Sheet2!$A:$A,$D$1*100000+$D24+S$1)","v":0},{"$f":"COUNTIF(Sheet2!$A:$A,$D$1*100000+$D24+T$1)","v":0},{"$f":"COUNTIF(Sheet2!$A:$A,$D$1*100000+$D24+U$1)","v":0},{"$f":"COUNTIF(Sheet2!$A:$A,$D$1*100000+$D24+V$1)","v":0},{"$f":"COUNTIF(Sheet2!$A:$A,$D$1*100000+$D24+W$1)","v":0},{"$f":"COUNTIF(Sheet2!$A:$A,$D$1*100000+$D24+X$1)","v":0},{"$f":"COUNTIF(Sheet2!$A:$A,$D$1*100000+$D24+Y$1)","v":0},{"$f":"COUNTIF(Sheet2!$A:$A,$D$1*100000+$D24+Z$1)","v":0},{"$f":"COUNTIF(Sheet2!$A:$A,$D$1*100000+$D24+AA$1)","v":0},{"$f":"COUNTIF(Sheet2!$A:$A,$D$1*100000+$D24+AB$1)","v":0},{"$f":"COUNTIF(Sheet2!$A:$A,$D$1*100000+$D24+AC$1)","v":0},{"$f":"COUNTIF(Sheet2!$A:$A,$D$1*100000+$D24+AD$1)","v":0},{"$f":"COUNTIF(Sheet2!$A:$A,$D$1*100000+$D24+AE$1)","v":0},null,0]
[null,null,null,{"$f":"Sheet1!C26","v":"2025-05-21"},{"$f":"COUNTIF(Sheet2!$A:$A,$D$1*100000+$D25+E$1)","v":0},{"$f":"COUNTIF(Sheet2!$A:$A,$D$1*100000+$D25+F$1)","v":0},{"$f":"COUNTIF(Sheet2!$A:$A,$D$1*100000+$D25+G$1)","v":0},{"$f":"COUNTIF(Sheet2!$A:$A,$D$1*100000+$D25+H$1)","v":0},{"$f":"COUNTIF(Sheet2!$A:$A,$D$1*100000+$D25+I$1)","v":0},{"$f":"COUNTIF(Sheet2!$A:$A,$D$1*100000+$D25+J$1)","v":0},{"$f":"COUNTIF(Sheet2!$A:$A,$D$1*100000+$D25+K$1)","v":1},{"$f":"COUNTIF(Sheet2!$A:$A,$D$1*100000+$D25+L$1)","v":0},{"$f":"COUNTIF(Sheet2!$A:$A,$D$1*100000+$D25+M$1)","v":0},{"$f":"COUNTIF(Sheet2!$A:$A,$D$1*100000+$D25+N$1)","v":0},{"$f":"COUNTIF(Sheet2!$A:$A,$D$1*100000+$D25+O$1)","v":0},{"$f":"COUNTIF(Sheet2!$A:$A,$D$1*100000+$D25+P$1)","v":0},{"$f":"COUNTIF(Sheet2!$A:$A,$D$1*100000+$D25+Q$1)","v":0},{"$f":"COUNTIF(Sheet2!$A:$A,$D$1*100000+$D25+R$1)","v":0},{"$f":"COUNTIF(Sheet2!$A:$A,$D$1*100000+$D25+S$1)","v":0},{"$f":"COUNTIF(Sheet2!$A:$A,$D$1*100000+$D25+T$1)","v":0},{"$f":"COUNTIF(Sheet2!$A:$A,$D$1*100000+$D25+U$1)","v":0},{"$f":"COUNTIF(Sheet2!$A:$A,$D$1*100000+$D25+V$1)","v":0},{"$f":"COUNTIF(Sheet2!$A:$A,$D$1*100000+$D25+W$1)","v":0},{"$f":"COUNTIF(Sheet2!$A:$A,$D$1*100000+$D25+X$1)","v":0},{"$f":"COUNTIF(Sheet2!$A:$A,$D$1*100000+$D25+Y$1)","v":0},{"$f":"COUNTIF(Sheet2!$A:$A,$D$1*100000+$D25+Z$1)","v":0},{"$f":"COUNTIF(Sheet2!$A:$A,$D$1*100000+$D25+AA$1)","v":0},{"$f":"COUNTIF(Sheet2!$A:$A,$D$1*100000+$D25+AB$1)","v":0},{"$f":"COUNTIF(Sheet2!$A:$A,$D$1*100000+$D25+AC$1)","v":0},{"$f":"COUNTIF(Sheet2!$A:$A,$D$1*100000+$D25+AD$1)","v":0},{"$f":"COUNTIF(Sheet2!$A:$A,$D$1*100000+$D25+AE$1)","v":0},null,1]
[null,null,null,{"$f":"Sheet1!C27","v":"2025-05-22"},{"$f":"COUNTIF(Sheet2!$A:$A,$D$1*100000+$D26+E$1)","v":0},{"$f":"COUNTIF(Sheet2!$A:$A,$D$1*100000+$D26+F$1)","v":0},{"$f":"COUNTIF(Sheet2!$A:$A,$D$1*100000+$D26+G$1)","v":0},{"$f":"COUNTIF(Sheet2!$A:$A,$D$1*100000+$D26+H$1)","v":0},{"$f":"COUNTIF(Sheet2!$A:$A,$D$1*100000+$D26+I$1)","v":0},{"$f":"COUNTIF(Sheet2!$A:$A,$D$1*100000+$D26+J$1)","v":0},{"$f":"COUNTIF(Sheet2!$A:$A,$D$1*100000+$D26+K$1)","v":0},{"$f":"COUNTIF(Sheet2!$A:$A,$D$1*100000+$D26+L$1)","v":0},{"$f":"COUNTIF(Sheet2!$A:$A,$D$1*100000+$D26+M$1)","v":0},{"$f":"COUNTIF(Sheet2!$A:$A,$D$1*100000+$D26+N$1)","v":0},{"$f":"COUNTIF(Sheet2!$A:$A,$D$1*100000+$D26+O$1)","v":0},{"$f":"COUNTIF(Sheet2!$A:$A,$D$1*100000+$D26+P$1)","v":0},{"$f":"COUNTIF(Sheet2!$A:$A,$D$1*100000+$D26+Q$1)","v":0},{"$f":"COUNTIF(Sheet2!$A:$A,$D$1*100000+$D26+R$1)","v":0},{"$f":"COUNTIF(Sheet2!$A:$A,$D$1*100000+$D26+S$1)","v":0},{"$f":"COUNTIF(Sheet2!$A:$A,$D$1*100000+$D26+T$1)","v":0},{"$f":"COUNTIF(Sheet2!$A:$A,$D$1*100000+$D26+U$1)","v":0},{"$f":"COUNTIF(Sheet2!$A:$A,$D$1*100000+$D26+V$1)","v":0},{"$f":"COUNTIF(Sheet2!$A:$A,$D$1*100000+$D26+W$1)","v":0},{"$f":"COUNTIF(Sheet2!$A:$A,$D$1*100000+$D26+X$1)","v":0},{"$f":"COUNTIF(Sheet2!$A:$A,$D$1*100000+$D26+Y$1)","v":0},{"$f":"COUNTIF(Sheet2!$A:$A,$D$1*100000+$D26+Z$1)","v":0},{"$f":"COUNTIF(Sheet2!$A:$A,$D$1*100000+$D26+AA$1)","v":0},{"$f":"COUNTIF(Sheet2!$A:$A,$D$1*100000+$D26+AB$1)","v":0},{"$f":"COUNTIF(Sheet2!$A:$A,$D$1*100000+$D26+AC$1)","v":0},{"$f":"COUNTIF(Sheet2!$A:$A,$D$1*100000+$D26+AD$1)","v":0},{"$f":"COUNTIF(Sheet2!$A:$A,$D$1*100000+$D26+AE$1)","v":0},null,0]
[null,null,null,{"$f":"Sheet1!C28","v":"2025-05-23"},{"$f":"COUNTIF(Sheet2!$A:$A,$D$1*100000+$D27+E$1)","v":0},{"$f":"COUNTIF(Sheet2!$A:$A,$D$1*100000+$D27+F$1)","v":0},{"$f":"COUNTIF(Sheet2!$A:$A,$D$1*100000+$D27+G$1)","v":0},{"$f":"COUNTIF(Sheet2!$A:$A,$D$1*100000+$D27+H$1)","v":0},{"$f":"COUNTIF(Sheet2!$A:$A,$D$1*100000+$D27+I$1)","v":0},{"$f":"COUNTIF(Sheet2!$A:$A,$D$1*100000+$D27+J$1)","v":0},{"$f":"COUNTIF(Sheet2!$A:$A,$D$1*100000+$D27+K$1)","v":0},{"$f":"COUNTIF(Sheet2!$A:$A,$D$1*100000+$D27+L$1)","v":0},{"$f":"COUNTIF(Sheet2!$A:$A,$D$1*100000+$D27+M$1)","v":0},{"$f":"COUNTIF(Sheet2!$A:$A,$D$1*100000+$D27+N$1)","v":0},{"$f":"COUNTIF(Sheet2!$A:$A,$D$1*100000+$D27+O$1)","v":0},{"$f":"COUNTIF(Sheet2!$A:$A,$D$1*100000+$D27+P$1)","v":0},{"$f":"COUNTIF(Sheet2!$A:$A,$D$1*100000+$D27+Q$1)","v":0},{"$f":"COUNTIF(Sheet2!$A:$A,$D$1*100000+$D27+R$1)","v":0},{"$f":"COUNTIF(Sheet2!$A:$A,$D$1*100000+$D27+S$1)","v":1},{"$f":"COUNTIF(Sheet2!$A:$A,$D$1*100000+$D27+T$1)","v":0},{"$f":"COUNTIF(Sheet2!$A:$A,$D$1*100000+$D27+U$1)","v":0},{"$f":"COUNTIF(Sheet2!$A:$A,$D$1*100000+$D27+V$1)","v":0},{"$f":"COUNTIF(Sheet2!$A:$A,$D$1*100000+$D27+W$1)","v":0},{"$f":"COUNTIF(Sheet2!$A:$A,$D$1*100000+$D27+X$1)","v":0},{"$f":"COUNTIF(Sheet2!$A:$A,$D$1*100000+$D27+Y$1)","v":0},{"$f":"COUNTIF(Sheet2!$A:$A,$D$1*100000+$D27+Z$1)","v":0},{"$f":"COUNTIF(Sheet2!$A:$A,$D$1*100000+$D27+AA$1)","v":0},{"$f":"COUNTIF(Sheet2!$A:$A,$D$1*100000+$D27+AB$1)","v":0},{"$f":"COUNTIF(Sheet2!$A:$A,$D$1*100000+$D27+AC$1)","v":0},{"$f":"COUNTIF(Sheet2!$A:$A,$D$1*100000+$D27+AD$1)","v":0},{"$f":"COUNTIF(Sheet2!$A:$A,$D$1*100000+$D27+AE$1)","v":0},null,1]
[null,null,null,{"$f":"Sheet1!C29","v":"2025-05-24"},{"$f":"COUNTIF(Sheet2!$A:$A,$D$1*100000+$D28+E$1)","v":0},{"$f":"COUNTIF(Sheet2!$A:$A,$D$1*100000+$D28+F$1)","v":0},{"$f":"COUNTIF(Sheet2!$A:$A,$D$1*100000+$D28+G$1)","v":0},{"$f":"COUNTIF(Sheet2!$A:$A,$D$1*100000+$D28+H$1)","v":0},{"$f":"COUNTIF(Sheet2!$A:$A,$D$1*100000+$D28+I$1)","v":0},{"$f":"COUNTIF(Sheet2!$A:$A,$D$1*100000+$D28+J$1)","v":0},{"$f":"COUNTIF(Sheet2!$A:$A,$D$1*100000+$D28+K$1)","v":0},{"$f":"COUNTIF(Sheet2!$A:$A,$D$1*100000+$D28+L$1)","v":0},{"$f":"COUNTIF(Sheet2!$A:$A,$D$1*100000+$D28+M$1)","v":0},{"$f":"COUNTIF(Sheet2!$A:$A,$D$1*100000+$D28+N$1)","v":0},{"$f":"COUNTIF(Sheet2!$A:$A,$D$1*100000+$D28+O$1)","v":0},{"$f":"COUNTIF(Sheet2!$A:$A,$D$1*100000+$D28+P$1)","v":0},{"$f":"COUNTIF(Sheet2!$A:$A,$D$1*100000+$D28+Q$1)","v":0},{"$f":"COUNTIF(Sheet2!$A:$A,$D$1*100000+$D28+R$1)","v":0},{"$f":"COUNTIF(Sheet2!$A:$A,$D$1*100000+$D28+S$1)","v":0},{"$f":"COUNTIF(Sheet2!$A:$A,$D$1*100000+$D28+T$1)","v":0},{"$f":"COUNTIF(Sheet2!$A:$A,$D$1*100000+$D28+U$1)","v":0},{"$f":"COUNTIF(Sheet2!$A:$A,$D$1*100000+$D28+V$1)","v":0},{"$f":"COUNTIF(Sheet2!$A:$A,$D$1*100000+$D28+W$1)","v":0},{"$f":"COUNTIF(Sheet2!$A:$A,$D$1*100000+$D28+X$1)","v":0},{"$f":"COUNTIF(Sheet2!$A:$A,$D$1*100000+$D28+Y$1)","v":0},{"$f":"COUNTIF(Sheet2!$A:$A,$D$1*100000+$D28+Z$1)","v":0},{"$f":"COUNTIF(Sheet2!$A:$A,$D$1*100000+$D28+AA$1)","v":0},{"$f":"COUNTIF(Sheet2!$A:$A,$D$1*100000+$D28+AB$1)","v":0},{"$f":"COUNTIF(Sheet2!$A:$A,$D$1*100000+$D28+AC$1)","v":0},{"$f":"COUNTIF(Sheet2!$A:$A,$D$1*100000+$D28+AD$1)","v":0},{"$f":"COUNTIF(Sheet2!$A:$A,$D$1*100000+$D28+AE$1)","v":0},null,0]
[null,null,null,{"$f":"Sheet1!C30","v":"2025-05-25"},{"$f":"COUNTIF(Sheet2!$A:$A,$D$1*100000+$D29+E$1)","v":0},{"$f":"COUNTIF(Sheet2!$A:$A,$D$1*100000+$D29+F$1)","v":0},{"$f":"COUNTIF(Sheet2!$A:$A,$D$1*100000+$D29+G$1)","v":0},{"$f":"COUNTIF(Sheet2!$A:$A,$D$1*100000+$D29+H$1)","v":0},{"$f":"COUNTIF(Sheet2!$A:$A,$D$1*100000+$D29+I$1)","v":0},{"$f":"COUNTIF(Sheet2!$A:$A,$D$1*100000+$D29+J$1)","v":0},{"$f":"COUNTIF(Sheet2!$A:$A,$D$1*100000+$D29+K$1)","v":0},{"$f":"COUNTIF(Sheet2!$A:$A,$D$1*100000+$D29+L$1)","v":0},{"$f":"COUNTIF(Sheet2!$A:$A,$D$1*100000+$D29+M$1)","v":0},{"$f":"COUNTIF(Sheet2!$A:$A,$D$1*100000+$D29+N$1)","v":0},{"$f":"COUNTIF(Sheet2!$A:$A,$D$1*100000+$D29+O$1)","v":0},{"$f":"COUNTIF(Sheet2!$A:$A,$D$1*100000+$D29+P$1)","v":0},{"$f":"COUNTIF(Sheet2!$A:$A,$D$1*100000+$D29+Q$1)","v":0},{"$f":"COUNTIF(Sheet2!$A:$A,$D$1*100000+$D29+R$1)","v":0},{"$f":"COUNTIF(Sheet2!$A:$A,$D$1*100000+$D29+S$1)","v":0},{"$f":"COUNTIF(Sheet2!$A:$A,$D$1*100000+$D29+T$1)","v":0},{"$f":"COUNTIF(Sheet2!$A:$A,$D$1*100000+$D29+U$1)","v":0},{"$f":"COUNTIF(Sheet2!$A:$A,$D$1*100000+$D29+V$1)","v":0},{"$f":"COUNTIF(Sheet2!$A:$A,$D$1*100000+$D29+W$1)","v":0},{"$f":"COUNTIF(Sheet2!$A:$A,$D$1*100000+$D29+X$1)","v":0},{"$f":"COUNTIF(Sheet2!$A:$A,$D$1*100000+$D29+Y$1)","v":0},{"$f":"COUNTIF(Sheet2!$A:$A,$D$1*100000+$D29+Z$1)","v":0},{"$f":"COUNTIF(Sheet2!$A:$A,$D$1*100000+$D29+AA$1)","v":0},{"$f":"COUNTIF(Sheet2!$A:$A,$D$1*100000+$D29+AB$1)","v":0},{"$f":"COUNTIF(Sheet2!$A:$A,$D$1*100000+$D29+AC$1)","v":0},{"$f":"COUNTIF(Sheet2!$A:$A,$D$1*100000+$D29+AD$1)","v":0},{"$f":"COUNTIF(Sheet2!$A:$A,$D$1*100000+$D29+AE$1)","v":0},null,0]
[null,null,null,{"$f":"Sheet1!C31","v":"2025-05-26"},{"$f":"COUNTIF(Sheet2!$A:$A,$D$1*100000+$D30+E$1)","v":0},{"$f":"COUNTIF(Sheet2!$A:$A,$D$1*100000+$D30+F$1)","v":0},{"$f":"COUNTIF(Sheet2!$A:$A,$D$1*100000+$D30+G$1)","v":0},{"$f":"COUNTIF(Sheet2!$A:$A,$D$1*100000+$D30+H$1)","v":0},{"$f":"COUNTIF(Sheet2!$A:$A,$D$1*100000+$D30+I$1)","v":0},{"$f":"COUNTIF(Sheet2!$A:$A,$D$1*100000+$D30+J$1)","v":0},{"$f":"COUNTIF(Sheet2!$A:$A,$D$1*100000+$D30+K$1)","v":0},{"$f":"COUNTIF(Sheet2!$A:$A,$D$1*100000+$D30+L$1)","v":0},{"$f":"COUNTIF(Sheet2!$A:$A,$D$1*100000+$D30+M$1)","v":0},{"$f":"COUNTIF(Sheet2!$A:$A,$D$1*100000+$D30+N$1)","v":0},{"$f":"COUNTIF(Sheet2!$A:$A,$D$1*100000+$D30+O$1)","v":0},{"$f":"COUNTIF(Sheet2!$A:$A,$D$1*100000+$D30+P$1)","v":0},{"$f":"COUNTIF(Sheet2!$A:$A,$D$1*100000+$D30+Q$1)","v":0},{"$f":"COUNTIF(Sheet2!$A:$A,$D$1*100000+$D30+R$1)","v":0},{"$f":"COUNTIF(Sheet2!$A:$A,$D$1*100000+$D30+S$1)","v":0},{"$f":"COUNTIF(Sheet2!$A:$A,$D$1*100000+$D30+T$1)","v":0},{"$f":"COUNTIF(Sheet2!$A:$A,$D$1*100000+$D30+U$1)","v":0},{"$f":"COUNTIF(Sheet2!$A:$A,$D$1*100000+$D30+V$1)","v":0},{"$f":"COUNTIF(Sheet2!$A:$A,$D$1*100000+$D30+W$1)","v":0},{"$f":"COUNTIF(Sheet2!$A:$A,$D$1*100000+$D30+X$1)","v":0},{"$f":"COUNTIF(Sheet2!$A:$A,$D$1*100000+$D30+Y$1)","v":0},{"$f":"COUNTIF(Sheet2!$A:$A,$D$1*100000+$D30+Z$1)","v":0},{"$f":"COUNTIF(Sheet2!$A:$A,$D$1*100000+$D30+AA$1)","v":0},{"$f":"COUNTIF(Sheet2!$A:$A,$D$1*100000+$D30+AB$1)","v":0},{"$f":"COUNTIF(Sheet2!$A:$A,$D$1*100000+$D30+AC$1)","v":0},{"$f":"COUNTIF(Sheet2!$A:$A,$D$1*100000+$D30+AD$1)","v":0},{"$f":"COUNTIF(Sheet2!$A:$A,$D$1*100000+$D30+AE$1)","v":0},null,0]
[null,null,null,{"$f":"Sheet1!C32","v":"2025-05-27"},{"$f":"COUNTIF(Sheet2!$A:$A,$D$1*100000+$D31+E$1)","v":0},{"$f":"COUNTIF(Sheet2!$A:$A,$D$1*100000+$D31+F$1)","v":0},{"$f":"COUNTIF(Sheet2!$A:$A,$D$1*100000+$D31+G$1)","v":0},{"$f":"COUNTIF(Sheet2!$A:$A,$D$1*100000+$D31+H$1)","v":0},{"$f":"COUNTIF(Sheet2!$A:$A,$D$1*100000+$D31+I$1)","v":0},{"$f":"COUNTIF(Sheet2!$A:$A,$D$1*100000+$D31+J$1)","v":0},{"$f":"COUNTIF(Sheet2!$A:$A,$D$1*100000+$D31+K$1)","v":0},{"$f":"COUNTIF(Sheet2!$A:$A,$D$1*100000+$D31+L$1)","v":0},{"$f":"COUNTIF(Sheet2!$A:$A,$D$1*100000+$D31+M$1)","v":0},{"$f":"COUNTIF(Sheet2!$A:$A,$D$1*100000+$D31+N$1)","v":0},{"$f":"COUNTIF(Sheet2!$A:$A,$D$1*100000+$D31+O$1)","v":0},{"$f":"COUNTIF(Sheet2!$A:$A,$D$1*100000+$D31+P$1)","v":0},{"$f":"COUNTIF(Sheet2!$A:$A,$D$1*100000+$D31+Q$1)","v":0},{"$f":"COUNTIF(Sheet2!$A:$A,$D$1*100000+$D31+R$1)","v":0},{"$f":"COUNTIF(Sheet2!$A:$A,$D$1*100000+$D31+S$1)","v":0},{"$f":"COUNTIF(Sheet2!$A:$A,$D$1*100000+$D31+T$1)","v":0},{"$f":"COUNTIF(Sheet2!$A:$A,$D$1*100000+$D31+U$1)","v":0},{"$f":"COUNTIF(Sheet2!$A:$A,$D$1*100000+$D31+V$1)","v":0},{"$f":"COUNTIF(Sheet2!$A:$A,$D$1*100000+$D31+W$1)","v":0},{"$f":"COUNTIF(Sheet2!$A:$A,$D$1*100000+$D31+X$1)","v":0},{"$f":"COUNTIF(Sheet2!$A:$A,$D$1*100000+$D31+Y$1)","v":0},{"$f":"COUNTIF(Sheet2!$A:$A,$D$1*100000+$D31+Z$1)","v":0},{"$f":"COUNTIF(Sheet2!$A:$A,$D$1*100000+$D31+AA$1)","v":0},{"$f":"COUNTIF(Sheet2!$A:$A,$D$1*100000+$D31+AB$1)","v":0},{"$f":"COUNTIF(Sheet2!$A:$A,$D$1*100000+$D31+AC$1)","v":0},{"$f":"COUNTIF(Sheet2!$A:$A,$D$1*100000+$D31+AD$1)","v":0},{"$f":"COUNTIF(Sheet2!$A:$A,$D$1*100000+$D31+AE$1)","v":0},null,0]
[null,null,null,{"$f":"Sheet1!C33","v":"2025-05-28"},{"$f":"COUNTIF(Sheet2!$A:$A,$D$1*100000+$D32+E$1)","v":0},{"$f":"COUNTIF(Sheet2!$A:$A,$D$1*100000+$D32+F$1)","v":0},{"$f":"COUNTIF(Sheet2!$A:$A,$D$1*100000+$D32+G$1)","v":0},{"$f":"COUNTIF(Sheet2!$A:$A,$D$1*100000+$D32+H$1)","v":0},{"$f":"COUNTIF(Sheet2!$A:$A,$D$1*100000+$D32+I$1)","v":0},{"$f":"COUNTIF(Sheet2!$A:$A,$D$1*100000+$D32+J$1)","v":0},{"$f":"COUNTIF(Sheet2!$A:$A,$D$1*100000+$D32+K$1)","v":0},{"$f":"COUNTIF(Sheet2!$A:$A,$D$1*100000+$D32+L$1)","v":0},{"$f":"COUNTIF(Sheet2!$A:$A,$D$1*100000+$D32+M$1)","v":0},{"$f":"COUNTIF(Sheet2!$A:$A,$D$1*100000+$D32+N$1)","v":0},{"$f":"COUNTIF(Sheet2!$A:$A,$D$1*100000+$D32+O$1)","v":0},{"$f":"COUNTIF(Sheet2!$A:$A,$D$1*100000+$D32+P$1)","v":0},{"$f":"COUNTIF(Sheet2!$A:$A,$D$1*100000+$D32+Q$1)","v":0},{"$f":"COUNTIF(Sheet2!$A:$A,$D$1*100000+$D32+R$1)","v":0},{"$f":"COUNTIF(Sheet2!$A:$A,$D$1*100000+$D32+S$1)","v":0},{"$f":"COUNTIF(Sheet2!$A:$A,$D$1*100000+$D32+T$1)","v":0},{"$f":"COUNTIF(Sheet2!$A:$A,$D$1*100000+$D32+U$1)","v":0},{"$f":"COUNTIF(Sheet2!$A:$A,$D$1*100000+$D32+V$1)","v":0},{"$f":"COUNTIF(Sheet2!$A:$A,$D$1*100000+$D32+W$1)","v":0},{"$f":"COUNTIF(Sheet2!$A:$A,$D$1*100000+$D32+X$1)","v":0},{"$f":"COUNTIF(Sheet2!$A:$A,$D$1*100000+$D32+Y$1)","v":0},{"$f":"COUNTIF(Sheet2!$A:$A,$D$1*100000+$D32+Z$1)","v":0},{"$f":"COUNTIF(Sheet2!$A:$A,$D$1*100000+$D32+AA$1)","v":0},{"$f":"COUNTIF(Sheet2!$A:$A,$D$1*100000+$D32+AB$1)","v":0},{"$f":"COUNTIF(Sheet2!$A:$A,$D$1*100000+$D32+AC$1)","v":0},{"$f":"COUNTIF(Sheet2!$A:$A,$D$1*100000+$D32+AD$1)","v":0},{"$f":"COUNTIF(Sheet2!$A:$A,$D$1*100000+$D32+AE$1)","v":0},null,0]
[null,null,null,{"$f":"D2","v":"2025-04-28"},{"$f":"COUNTIF(Sheet2!$B:$B,$D$1*100000+$D33+F$1)*2","v":0},{"$f":"COUNTIF(Sheet2!$B:$B,$D$1*100000+$D33+G$1)*2","v":0},{"$f":"COUNTIF(Sheet2!$B:$B,$D$1*100000+$D33+H$1)*2","v":0},{"$f":"COUNTIF(Sheet2!$B:$B,$D$1*100000+$D33+I$1)*2","v":0},{"$f":"COUNTIF(Sheet2!$B:$B,$D$1*100000+$D33+J$1)*2","v":0},{"$f":"COUNTIF(Sheet2!$B:$B,$D$1*100000+$D33+K$1)*2","v":0},{"$f":"COUNTIF(Sheet2!$B:$B,$D$1*100000+$D33+L$1)*2","v":0},{"$f":"COUNTIF(Sheet2!$B:$B,$D$1*100000+$D33+M$1)*2","v":0},{"$f":"COUNTIF(Sheet2!$B:$B,$D$1*100000+$D33+N$1)*2","v":0},{"$f":"COUNTIF(Sheet2!$B:$B,$D$1*100000+$D33+O$1)*2","v":0},{"$f":"COUNTIF(Sheet2!$B:$B,$D$1*100000+$D33+P$1)*2","v":0},{"$f":"COUNTIF(Sheet2!$B:$B,$D$1*100000+$D33+Q$1)*2","v":0},{"$f":"COUNTIF(Sheet2!$B:$B,$D$1*100000+$D33+R$1)*2","v":0},{"$f":"COUNTIF(Sheet2!$B:$B,$D$1*100000+$D33+S$1)*2","v":0},{"$f":"COUNTIF(Sheet2!$B:$B,$D$1*100000+$D33+T$1)*2","v":0},{"$f":"COUNTIF(Sheet2!$B:$B,$D$1*100000+$D33+U$1)*2","v":0},{"$f":"COUNTIF(Sheet2!$B:$B,$D$1*100000+$D33+V$1)*2","v":0},{"$f":"COUNTIF(Sheet2!$B:$B,$D$1*100000+$D33+W$1)*2","v":0},{"$f":"COUNTIF(Sheet2!$B:$B,$D$1*100000+$D33+X$1)*2","v":0},{"$f":"COUNTIF(Sheet2!$B:$B,$D$1*100000+$D33+Y$1)*2","v":0},{"$f":"COUNTIF(Sheet2!$B:$B,$D$1*100000+$D33+Z$1)*2","v":0},{"$f":"COUNTIF(Sheet2!$B:$B,$D$1*100000+$D33+AA$1)*2","v":0},{"$f":"COUNTIF(Sheet2!$B:$B,$D$1*100000+$D33+AB$1)*2","v":0},{"$f":"COUNTIF(Sheet2!$B:$B,$D$1*100000+$D33+AC$1)*2","v":0},{"$f":"COUNTIF(Sheet2!$B:$B,$D$1*100000+$D33+AD$1)*2","v":0},{"$f":"COUNTIF(Sheet2!$B:$B,$D$1*100000+$D33+AE$1)*2","v":0},{"$f":"COUNTIF(Sheet2!$B:$B,$D$1*100000+$D33+AF$1)*2","v":0},null,0]
[null,null,null,{"$f":"D3","v":"2025-04-29"},{"$f":"COUNTIF(Sheet2!$B:$B,$D$1*100000+$D34+F$1)*2","v":0},{"$f":"COUNTIF(Sheet2!$B:$B,$D$1*100000+$D34+G$1)*2","v":0},{"$f":"COUNTIF(Sheet2!$B:$B,$D$1*100000+$D34+H$1)*2","v":0},{"$f":"COUNTIF(Sheet2!$B:$B,$D$1*100000+$D34+I$1)*2","v":0},{"$f":"COUNTIF(Sheet2!$B:$B,$D$1*100000+$D34+J$1)*2","v":0},{"$f":"COUNTIF(Sheet2!$B:$B,$D$1*100000+$D34+K$1)*2","v":0},{"$f":"COUNTIF(Sheet2!$B:$B,$D$1*100000+$D34+L$1)*2","v":0},{"$f":"COUNTIF(Sheet2!$B:$B,$D$1*100000+$D34+M$1)*2","v":0},{"$f":"COUNTIF(Sheet2!$B:$B,$D$1*100000+$D34+N$1)*2","v":0},{"$f":"COUNTIF(Sheet2!$B:$B,$D$1*100000+$D34+O$1)*2","v":0},{"$f":"COUNTIF(Sheet2!$B:$B,$D$1*100000+$D34+P$1)*2","v":0},{"$f":"COUNTIF(Sheet2!$B:$B,$D$1*100000+$D34+Q$1)*2","v":0},{"$f":"COUNTIF(Sheet2!$B:$B,$D$1*100000+$D34+R$1)*2","v":0},{"$f":"COUNTIF(Sheet2!$B:$B,$D$1*100000+$D34+S$1)*2","v":0},{"$f":"COUNTIF(Sheet2!$B:$B,$D$1*100000+$D34+T$1)*2","v":0},{"$f":"COUNTIF(Sheet2!$B:$B,$D$1*100000+$D34+U$1)*2","v":0},{"$f":"COUNTIF(Sheet2!$B:$B,$D$1*100000+$D34+V$1)*2","v":0},{"$f":"COUNTIF(Sheet2!$B:$B,$D$1*100000+$D34+W$1)*2","v":0},{"$f":"COUNTIF(Sheet2!$B:$B,$D$1*100000+$D34+X$1)*2","v":0},{"$f":"COUNTIF(Sheet2!$B:$B,$D$1*100000+$D34+Y$1)*2","v":0},{"$f":"COUNTIF(Sheet2!$B:$B,$D$1*100000+$D34+Z$1)*2","v":0},{"$f":"COUNTIF(Sheet2!$B:$B,$D$1*100000+$D34+AA$1)*2","v":0},{"$f":"COUNTIF(Sheet2!$B:$B,$D$1*100000+$D34+AB$1)*2","v":0},{"$f":"COUNTIF(Sheet2!$B:$B,$D$1*100000+$D34+AC$1)*2","v":0},{"$f":"COUNTIF(Sheet2!$B:$B,$D$1*100000+$D34+AD$1)*2","v":0},{"$f":"COUNTIF(Sheet2!$B:$B,$D$1*100000+$D34+AE$1)*2","v":0},{"$f":"COUNTIF(Sheet2!$B:$B,$D$1*100000+$D34+AF$1)*2","v":0},null,{"$f":"SUM(I34:AE34)","v":0}]
[null,null,null,"2025-04-30",{"$f":"COUNTIF(Sheet2!$B:$B,$D$1*100000+$D35+F$1)*2","v":0},{"$f":"COUNTIF(Sheet2!$B:$B,$D$1*100000+$D35+G$1)*2","v":0},{"$f":"COUNTIF(Sheet2!$B:$B,$D$1*100000+$D35+H$1)*2","v":0},{"$f":"COUNTIF(Sheet2!$B:$B,$D$1*100000+$D35+I$1)*2","v":0},{"$f":"COUNTIF(Sheet2!$B:$B,$D$1*100000+$D35+J$1)*2","v":0},{"$f":"COUNTIF(Sheet2!$B:$B,$D$1*100000+$D35+K$1)*2","v":0},{"$f":"COUNTIF(Sheet2!$B:$B,$D$1*100000+$D35+L$1)*2","v":0},{"$f":"COUNTIF(Sheet2!$B:$B,$D$1*100000+$D35+M$1)*2","v":0},{"$f":"COUNTIF(Sheet2!$B:$B,$D$1*100000+$D35+N$1)*2","v":0},{"$f":"COUNTIF(Sheet2!$B:$B,$D$1*100000+$D35+O$1)*2","v":0},{"$f":"COUNTIF(Sheet2!$B:$B,$D$1*100000+$D35+P$1)*2","v":0},{"$f":"COUNTIF(Sheet2!$B:$B,$D$1*100000+$D35+Q$1)*2","v":0},{"$f":"COUNTIF(Sheet2!$B:$B,$D$1*100000+$D35+R$1)*2","v":0},{"$f":"COUNTIF(Sheet2!$B:$B,$D$1*100000+$D35+S$1)*2","v":0},{"$f":"COUNTIF(Sheet2!$B:$B,$D$1*100000+$D35+T$1)*2","v":0},{"$f":"COUNTIF(Sheet2!$B:$B,$D$1*100000+$D35+U$1)*2","v":0},{"$f":"COUNTIF(Sheet2!$B:$B,$D$1*100000+$D35+V$1)*2","v":0},{"$f":"COUNTIF(Sheet2!$B:$B,$D$1*100000+$D35+W$1)*2","v":0},{"$f":"COUNTIF(Sheet2!$B:$B,$D$1*100000+$D35+X$1)*2","v":0},{"$f":"COUNTIF(Sheet2!$B:$B,$D$1*100000+$D35+Y$1)*2","v":0},{"$f":"COUNTIF(Sheet2!$B:$B,$D$1*100000+$D35+Z$1)*2","v":0},{"$f":"COUNTIF(Sheet2!$B:$B,$D$1*100000+$D35+AA$1)*2","v":0},{"$f":"COUNTIF(Sheet2!$B:$B,$D$1*100000+$D35+AB$1)*2","v":0},{"$f":"COUNTIF(Sheet2!$B:$B,$D$1*100000+$D35+AC$1)*2","v":0},{"$f":"COUNTIF(Sheet2!$B:$B,$D$1*100000+$D35+AD$1)*2","v":0},{"$f":"COUNTIF(Sheet2!$B:$B,$D$1*100000+$D35+AE$1)*2","v":0},{"$f":"COUNTIF(Sheet2!$B:$B,$D$1*100000+$D35+AF$1)*2","v":0},null,0]
[null,null,null,"2025-05-01",{"$f":"COUNTIF(Sheet2!$B:$B,$D$1*100000+$D36+F$1)*2","v":0},{"$f":"COUNTIF(Sheet2!$B:$B,$D$1*100000+$D36+G$1)*2","v":0},{"$f":"COUNTIF(Sheet2!$B:$B,$D$1*100000+$D36+H$1)*2","v":0},{"$f":"COUNTIF(Sheet2!$B:$B,$D$1*100000+$D36+I$1)*2","v":0},{"$f":"COUNTIF(Sheet2!$B:$B,$D$1*100000+$D36+J$1)*2","v":0},{"$f":"COUNTIF(Sheet2!$B:$B,$D$1*100000+$D36+K$1)*2","v":0},{"$f":"COUNTIF(Sheet2!$B:$B,$D$1*100000+$D36+L$1)*2","v":0},{"$f":"COUNTIF(Sheet2!$B:$B,$D$1*100000+$D36+M$1)*2","v":0},{"$f":"COUNTIF(Sheet2!$B:$B,$D$1*100000+$D36+N$1)*2","v":0},{"$f":"COUNTIF(Sheet2!$B:$B,$D$1*100000+$D36+O$1)*2","v":0},{"$f":"COUNTIF(Sheet2!$B:$B,$D$1*100000+$D36+P$1)*2","v":0},{"$f":"COUNTIF(Sheet2!$B:$B,$D$1*100000+$D36+Q$1)*2","v":0},{"$f":"COUNTIF(Sheet2!$B:$B,$D$1*100000+$D36+R$1)*2","v":0},{"$f":"COUNTIF(Sheet2!$B:$B,$D$1*100000+$D36+S$1)*2","v":0},{"$f":"COUNTIF(Sheet2!$B:$B,$D$1*100000+$D36+T$1)*2","v":0},{"$f":"COUNTIF(Sheet2!$B:$B,$D$1*100000+$D36+U$1)*2","v":0},{"$f":"COUNTIF(Sheet2!$B:$B,$D$1*100000+$D36+V$1)*2","v":0},{"$f":"COUNTIF(Sheet2!$B:$B,$D$1*100000+$D36+W$1)*2","v":0},{"$f":"COUNTIF(Sheet2!$B:$B,$D$1*100000+$D36+X$1)*2","v":0},{"$f":"COUNTIF(Sheet2!$B:$B,$D$1*100000+$D36+Y$1)*2","v":0},{"$f":"COUNTIF(Sheet2!$B:$B,$D$1*100000+$D36+Z$1)*2","v":0},{"$f":"COUNTIF(Sheet2!$B:$B,$D$1*100000+$D36+AA$1)*2","v":0},{"$f":"COUNTIF(Sheet2!$B:$B,$D$1*100000+$D36+AB$1)*2","v":0},{"$f":"COUNTIF(Sheet2!$B:$B,$D$1*100000+$D36+AC$1)*2","v":0},{"$f":"COUNTIF(Sheet2!$B:$B,$D$1*100000+$D36+AD$1)*2","v":0},{"$f":"COUNTIF(Sheet2!$B:$B,$D$1*100000+$D36+AE$1)*2","v":0},{"$f":"COUNTIF(Sheet2!$B:$B,$D$1*100000+$D36+AF$1)*2","v":0},null,0]
[null,null,null,"2025-05-02",{"$f":"COUNTIF(Sheet2!$B:$B,$D$1*100000+$D37+F$1)*2","v":0},{"$f":"COUNTIF(Sheet2!$B:$B,$D$1*100000+$D37+G$1)*2","v":0},{"$f":"COUNTIF(Sheet2!$B:$B,$D$1*100000+$D37+H$1)*2","v":0},{"$f":"COUNTIF(Sheet2!$B:$B,$D$1*100000+$D37+I$1)*2","v":0},{"$f":"COUNTIF(Sheet2!$B:$B,$D$1*100000+$D37+J$1)*2","v":0},{"$f":"COUNTIF(Sheet2!$B:$B,$D$1*100000+$D37+K$1)*2","v":0},{"$f":"COUNTIF(Sheet2!$B:$B,$D$1*100000+$D37+L$1)*2","v":0},{"$f":"COUNTIF(Sheet2!$B:$B,$D$1*100000+$D37+M$1)*2","v":0},{"$f":"COUNTIF(Sheet2!$B:$B,$D$1*100000+$D37+N$1)*2","v":0},{"$f":"COUNTIF(Sheet2!$B:$B,$D$1*100000+$D37+O$1)*2","v":0},{"$f":"COUNTIF(Sheet2!$B:$B,$D$1*100000+$D37+P$1)*2","v":0},{"$f":"COUNTIF(Sheet2!$B:$B,$D$1*100000+$D37+Q$1)*2","v":0},{"$f":"COUNTIF(Sheet2!$B:$B,$D$1*100000+$D37+R$1)*2","v":0},{"$f":"COUNTIF(Sheet2!$B:$B,$D$1*100000+$D37+S$1)*2","v":0},{"$f":"COUNTIF(Sheet2!$B:$B,$D$1*100000+$D37+T$1)*2","v":0},{"$f":"COUNTIF(Sheet2!$B:$B,$D$1*100000+$D37+U$1)*2","v":0},{"$f":"COUNTIF(Sheet2!$B:$B,$D$1*100000+$D37+V$1)*2","v":0},{"$f":"COUNTIF(Sheet2!$B:$B,$D$1*100000+$D37+W$1)*2","v":0},{"$f":"COUNTIF(Sheet2!$B:$B,$D$1*100000+$D37+X$1)*2","v":0},{"$f":"COUNTIF(Sheet2!$B:$B,$D$1*100000+$D37+Y$1)*2","v":0},{"$f":"COUNTIF(Sheet2!$B:$B,$D$1*100000+$D37+Z$1)*2","v":0},{"$f":"COUNTIF(Sheet2!$B:$B,$D$1*100000+$D37+AA$1)*2","v":0},{"$f":"COUNTIF(Sheet2!$B:$B,$D$1*100000+$D37+AB$1)*2","v":0},{"$f":"COUNTIF(Sheet2!$B:$B,$D$1*100000+$D37+AC$1)*2","v":0},{"$f":"COUNTIF(Sheet2!$B:$B,$D$1*100000+$D37+AD$1)*2","v":0},{"$f":"COUNTIF(Sheet2!$B:$B,$D$1*100000+$D37+AE$1)*2","v":0},{"$f":"COUNTIF(Sheet2!$B:$B,$D$1*100000+$D37+AF$1)*2","v":0},null,0]
[null,null,null,"2025-05-03",{"$f":"COUNTIF(Sheet2!$B:$B,$D$1*100000+$D38+F$1)*2","v":0},{"$f":"COUNTIF(Sheet2!$B:$B,$D$1*100000+$D38+G$1)*2","v":0},{"$f":"COUNTIF(Sheet2!$B:$B,$D$1*100000+$D38+H$1)*2","v":0},{"$f":"COUNTIF(Sheet2!$B:$B,$D$1*100000+$D38+I$1)*2","v":0},{"$f":"COUNTIF(Sheet2!$B:$B,$D$1*100000+$D38+J$1)*2","v":0},{"$f":"COUNTIF(Sheet2!$B:$B,$D$1*100000+$D38+K$1)*2","v":0},{"$f":"COUNTIF(Sheet2!$B:$B,$D$1*100000+$D38+L$1)*2","v":0},{"$f":"COUNTIF(Sheet2!$B:$B,$D$1*100000+$D38+M$1)*2","v":0},{"$f":"COUNTIF(Sheet2!$B:$B,$D$1*100000+$D38+N$1)*2","v":0},{"$f":"COUNTIF(Sheet2!$B:$B,$D$1*100000+$D38+O$1)*2","v":0},{"$f":"COUNTIF(Sheet2!$B:$B,$D$1*100000+$D38+P$1)*2","v":0},{"$f":"COUNTIF(Sheet2!$B:$B,$D$1*100000+$D38+Q$1)*2","v":0},{"$f":"COUNTIF(Sheet2!$B:$B,$D$1*100000+$D38+R$1)*2","v":0},{"$f":"COUNTIF(Sheet2!$B:$B,$D$1*100000+$D38+S$1)*2","v":0},{"$f":"COUNTIF(Sheet2!$B:$B,$D$1*100000+$D38+T$1)*2","v":0},{"$f":"COUNTIF(Sheet2!$B:$B,$D$1*100000+$D38+U$1)*2","v":0},{"$f":"COUNTIF(Sheet2!$B:$B,$D$1*100000+$D38+V$1)*2","v":0},{"$f":"COUNTIF(Sheet2!$B:$B,$D$1*100000+$D38+W$1)*2","v":0},{"$f":"COUNTIF(Sheet2!$B:$B,$D$1*100000+$D38+X$1)*2","v":0},{"$f":"COUNTIF(Sheet2!$B:$B,$D$1*100000+$D38+Y$1)*2","v":0},{"$f":"COUNTIF(Sheet2!$B:$B,$D$1*100000+$D38+Z$1)*2","v":0},{"$f":"COUNTIF(Sheet2!$B:$B,$D$1*100000+$D38+AA$1)*2","v":0},{"$f":"COUNTIF(Sheet2!$B:$B,$D$1*100000+$D38+AB$1)*2","v":0},{"$f":"COUNTIF(Sheet2!$B:$B,$D$1*100000+$D38+AC$1)*2","v":0},{"$f":"COUNTIF(Sheet2!$B:$B,$D$1*100000+$D38+AD$1)*2","v":0},{"$f":"COUNTIF(Sheet2!$B:$B,$D$1*100000+$D38+AE$1)*2","v":0},{"$f":"COUNTIF(Sheet2!$B:$B,$D$1*100000+$D38+AF$1)*2","v":0},null,0]
[null,null,null,"2025-05-04",{"$f":"COUNTIF(Sheet2!$B:$B,$D$1*100000+$D39+F$1)*2","v":0},{"$f":"COUNTIF(Sheet2!$B:$B,$D$1*100000+$D39+G$1)*2","v":0},{"$f":"COUNTIF(Sheet2!$B:$B,$D$1*100000+$D39+H$1)*2","v":0},{"$f":"COUNTIF(Sheet2!$B:$B,$D$1*100000+$D39+I$1)*2","v":0},{"$f":"COUNTIF(Sheet2!$B:$B,$D$1*100000+$D39+J$1)*2","v":0},{"$f":"COUNTIF(Sheet2!$B:$B,$D$1*100000+$D39+K$1)*2","v":0},{"$f":"COUNTIF(Sheet2!$B:$B,$D$1*100000+$D39+L$1)*2","v":0},{"$f":"COUNTIF(Sheet2!$B:$B,$D$1*100000+$D39+M$1)*2","v":0},{"$f":"COUNTIF(Sheet2!$B:$B,$D$1*100000+$D39+N$1)*2","v":0},{"$f":"COUNTIF(Sheet2!$B:$B,$D$1*100000+$D39+O$1)*2","v":0},{"$f":"COUNTIF(Sheet2!$B:$B,$D$1*100000+$D39+P$1)*2","v":0},{"$f":"COUNTIF(Sheet2!$B:$B,$D$1*100000+$D39+Q$1)*2","v":0},{"$f":"COUNTIF(Sheet2!$B:$B,$D$1*100000+$D39+R$1)*2","v":0},{"$f":"COUNTIF(Sheet2!$B:$B,$D$1*100000+$D39+S$1)*2","v":0},{"$f":"COUNTIF(Sheet2!$B:$B,$D$1*100000+$D39+T$1)*2","v":0},{"$f":"COUNTIF(Sheet2!$B:$B,$D$1*100000+$D39+U$1)*2","v":0},{"$f":"COUNTIF(Sheet2!$B:$B,$D$1*100000+$D39+V$1)*2","v":0},{"$f":"COUNTIF(Sheet2!$B:$B,$D$1*100000+$D39+W$1)*2","v":0},{"$f":"COUNTIF(Sheet2!$B:$B,$D$1*100000+$D39+X$1)*2","v":0},{"$f":"COUNTIF(Sheet2!$B:$B,$D$1*100000+$D39+Y$1)*2","v":0},{"$f":"COUNTIF(Sheet2!$B:$B,$D$1*100000+$D39+Z$1)*2","v":0},{"$f":"COUNTIF(Sheet2!$B:$B,$D$1*100000+$D39+AA$1)*2","v":0},{"$f":"COUNTIF(Sheet2!$B:$B,$D$1*100000+$D39+AB$1)*2","v":0},{"$f":"COUNTIF(Sheet2!$B:$B,$D$1*100000+$D39+AC$1)*2","v":0},{"$f":"COUNTIF(Sheet2!$B:$B,$D$1*100000+$D39+AD$1)*2","v":0},{"$f":"COUNTIF(Sheet2!$B:$B,$D$1*100000+$D39+AE$1)*2","v":0},{"$f":"COUNTIF(Sheet2!$B:$B,$D$1*100000+$D39+AF$1)*2","v":0},null,0]
[null,null,null,"2025-05-05",{"$f":"COUNTIF(Sheet2!$B:$B,$D$1*100000+$D40+F$1)*2","v":0},{"$f":"COUNTIF(Sheet2!$B:$B,$D$1*100000+$D40+G$1)*2","v":0},{"$f":"COUNTIF(Sheet2!$B:$B,$D$1*100000+$D40+H$1)*2","v":0},{"$f":"COUNTIF(Sheet2!$B:$B,$D$1*100000+$D40+I$1)*2","v":0},{"$f":"COUNTIF(Sheet2!$B:$B,$D$1*100000+$D40+J$1)*2","v":0},{"$f":"COUNTIF(Sheet2!$B:$B,$D$1*100000+$D40+K$1)*2","v":0},{"$f":"COUNTIF(Sheet2!$B:$B,$D$1*100000+$D40+L$1)*2","v":0},{"$f":"COUNTIF(Sheet2!$B:$B,$D$1*100000+$D40+M$1)*2","v":0},{"$f":"COUNTIF(Sheet2!$B:$B,$D$1*100000+$D40+N$1)*2","v":0},{"$f":"COUNTIF(Sheet2!$B:$B,$D$1*100000+$D40+O$1)*2","v":0},{"$f":"COUNTIF(Sheet2!$B:$B,$D$1*100000+$D40+P$1)*2","v":0},{"$f":"COUNTIF(Sheet2!$B:$B,$D$1*100000+$D40+Q$1)*2","v":0},{"$f":"COUNTIF(Sheet2!$B:$B,$D$1*100000+$D40+R$1)*2","v":0},{"$f":"COUNTIF(Sheet2!$B:$B,$D$1*100000+$D40+S$1)*2","v":0},{"$f":"COUNTIF(Sheet2!$B:$B,$D$1*100000+$D40+T$1)*2","v":0},{"$f":"COUNTIF(Sheet2!$B:$B,$D$1*100000+$D40+U$1)*2","v":0},{"$f":"COUNTIF(Sheet2!$B:$B,$D$1*100000+$D40+V$1)*2","v":0},{"$f":"COUNTIF(Sheet2!$B:$B,$D$1*100000+$D40+W$1)*2","v":0},{"$f":"COUNTIF(Sheet2!$B:$B,$D$1*100000+$D40+X$1)*2","v":0},{"$f":"COUNTIF(Sheet2!$B:$B,$D$1*100000+$D40+Y$1)*2","v":0},{"$f":"COUNTIF(Sheet2!$B:$B,$D$1*100000+$D40+Z$1)*2","v":0},{"$f":"COUNTIF(Sheet2!$B:$B,$D$1*100000+$D40+AA$1)*2","v":0},{"$f":"COUNTIF(Sheet2!$B:$B,$D$1*100000+$D40+AB$1)*2","v":0},{"$f":"COUNTIF(Sheet2!$B:$B,$D$1*100000+$D40+AC$1)*2","v":0},{"$f":"COUNTIF(Sheet2!$B:$B,$D$1*100000+$D40+AD$1)*2","v":0},{"$f":"COUNTIF(Sheet2!$B:$B,$D$1*100000+$D40+AE$1)*2","v":0},{"$f":"COUNTIF(Sheet2!$B:$B,$D$1*100000+$D40+AF$1)*2","v":0},null,0]
[null,null,null,"2025-05-06",{"$f":"COUNTIF(Sheet2!$B:$B,$D$1*100000+$D41+F$1)*2","v":0},{"$f":"COUNTIF(Sheet2!$B:$B,$D$1*100000+$D41+G$1)*2","v":0},{"$f":"COUNTIF(Sheet2!$B:$B,$D$1*100000+$D41+H$1)*2","v":0},{"$f":"COUNTIF(Sheet2!$B:$B,$D$1*100000+$D41+I$1)*2","v":0},{"$f":"COUNTIF(Sheet2!$B:$B,$D$1*100000+$D41+J$1)*2","v":0},{"$f":"COUNTIF(Sheet2!$B:$B,$D$1*100000+$D41+K$1)*2","v":0},{"$f":"COUNTIF(Sheet2!$B:$B,$D$1*100000+$D41+L$1)*2","v":0},{"$f":"COUNTIF(Sheet2!$B:$B,$D$1*100000+$D41+M$1)*2","v":0},{"$f":"COUNTIF(Sheet2!$B:$B,$D$1*100000+$D41+N$1)*2","v":0},{"$f":"COUNTIF(Sheet2!$B:$B,$D$1*100000+$D41+O$1)*2","v":0},{"$f":"COUNTIF(Sheet2!$B:$B,$D$1*100000+$D41+P$1)*2","v":0},{"$f":"COUNTIF(Sheet2!$B:$B,$D$1*100000+$D41+Q$1)*2","v":0},{"$f":"COUNTIF(Sheet2!$B:$B,$D$1*100000+$D41+R$1)*2","v":0},{"$f":"COUNTIF(Sheet2!$B:$B,$D$1*100000+$D41+S$1)*2","v":0},{"$f":"COUNTIF(Sheet2!$B:$B,$D$1*100000+$D41+T$1)*2","v":0},{"$f":"COUNTIF(Sheet2!$B:$B,$D$1*100000+$D41+U$1)*2","v":0},{"$f":"COUNTIF(Sheet2!$B:$B,$D$1*100000+$D41+V$1)*2","v":0},{"$f":"COUNTIF(Sheet2!$B:$B,$D$1*100000+$D41+W$1)*2","v":0},{"$f":"COUNTIF(Sheet2!$B:$B,$D$1*100000+$D41+X$1)*2","v":0},{"$f":"COUNTIF(Sheet2!$B:$B,$D$1*100000+$D41+Y$1)*2","v":0},{"$f":"COUNTIF(Sheet2!$B:$B,$D$1*100000+$D41+Z$1)*2","v":0},{"$f":"COUNTIF(Sheet2!$B:$B,$D$1*100000+$D41+AA$1)*2","v":0},{"$f":"COUNTIF(Sheet2!$B:$B,$D$1*100000+$D41+AB$1)*2","v":0},{"$f":"COUNTIF(Sheet2!$B:$B,$D$1*100000+$D41+AC$1)*2","v":0},{"$f":"COUNTIF(Sheet2!$B:$B,$D$1*100000+$D41+AD$1)*2","v":0},{"$f":"COUNTIF(Sheet2!$B:$B,$D$1*100000+$D41+AE$1)*2","v":0},{"$f":"COUNTIF(Sheet2!$B:$B,$D$1*100000+$D41+AF$1)*2","v":0},null,0]
[null,null,null,"2025-05-07",{"$f":"COUNTIF(Sheet2!$B:$B,$D$1*100000+$D42+F$1)*2","v":0},{"$f":"COUNTIF(Sheet2!$B:$B,$D$1*100000+$D42+G$1)*2","v":0},{"$f":"COUNTIF(Sheet2!$B:$B,$D$1*100000+$D42+H$1)*2","v":0},{"$f":"COUNTIF(Sheet2!$B:$B,$D$1*100000+$D42+I$1)*2","v":0},{"$f":"COUNTIF(Sheet2!$B:$B,$D$1*100000+$D42+J$1)*2","v":0},{"$f":"COUNTIF(Sheet2!$B:$B,$D$1*100000+$D42+K$1)*2","v":0},{"$f":"COUNTIF(Sheet2!$B:$B,$D$1*100000+$D42+L$1)*2","v":0},{"$f":"COUNTIF(Sheet2!$B:$B,$D$1*100000+$D42+M$1)*2","v":0},{"$f":"COUNTIF(Sheet2!$B:$B,$D$1*100000+$D42+N$1)*2","v":0},{"$f":"COUNTIF(Sheet2!$B:$B,$D$1*100000+$D42+O$1)*2","v":0},{"$f":"COUNTIF(Sheet2!$B:$B,$D$1*100000+$D42+P$1)*2","v":0},{"$f":"COUNTIF(Sheet2!$B:$B,$D$1*100000+$D42+Q$1)*2","v":0},{"$f":"COUNTIF(Sheet2!$B:$B,$D$1*100000+$D42+R$1)*2","v":0},{"$f":"COUNTIF(Sheet2!$B:$B,$D$1*100000+$D42+S$1)*2","v":0},{"$f":"COUNTIF(Sheet2!$B:$B,$D$1*100000+$D42+T$1)*2","v":0},{"$f":"COUNTIF(Sheet2!$B:$B,$D$1*100000+$D42+U$1)*2","v":0},{"$f":"COUNTIF(Sheet2!$B:$B,$D$1*100000+$D42+V$1)*2","v":0},{"$f":"COUNTIF(Sheet2!$B:$B,$D$1*100000+$D42+W$1)*2","v":2},{"$f":"COUNTIF(Sheet2!$B:$B,$D$1*100000+$D42+X$1)*2","v":0},{"$f":"COUNTIF(Sheet2!$B:$B,$D$1*100000+$D42+Y$1)*2","v":0},{"$f":"COUNTIF(Sheet2!$B:$B,$D$1*100000+$D42+Z$1)*2","v":0},{"$f":"COUNTIF(Sheet2!$B:$B,$D$1*100000+$D42+AA$1)*2","v":0},{"$f":"COUNTIF(Sheet2!$B:$B,$D$1*100000+$D42+AB$1)*2","v":0},{"$f":"COUNTIF(Sheet2!$B:$B,$D$1*100000+$D42+AC$1)*2","v":0},{"$f":"COUNTIF(Sheet2!$B:$B,$D$1*100000+$D42+AD$1)*2","v":0},{"$f":"COUNTIF(Sheet2!$B:$B,$D$1*100000+$D42+AE$1)*2","v":0},{"$f":"COUNTIF(Sheet2!$B:$B,$D$1*100000+$D42+AF$1)*2","v":0},null,2]
[null,null,null,"2025-05-08",{"$f":"COUNTIF(Sheet2!$B:$B,$D$1*100000+$D43+F$1)*2","v":0},{"$f":"COUNTIF(Sheet2!$B:$B,$D$1*100000+$D43+G$1)*2","v":0},{"$f":"COUNTIF(Sheet2!$B:$B,$D$1*100000+$D43+H$1)*2","v":0},{"$f":"COUNTIF(Sheet2!$B:$B,$D$1*100000+$D43+I$1)*2","v":0},{"$f":"COUNTIF(Sheet2!$B:$B,$D$1*100000+$D43+J$1)*2","v":0},{"$f":"COUNTIF(Sheet2!$B:$B,$D$1*100000+$D43+K$1)*2","v":0},{"$f":"COUNTIF(Sheet2!$B:$B,$D$1*100000+$D43+L$1)*2","v":0},{"$f":"COUNTIF(Sheet2!$B:$B,$D$1*100000+$D43+M$1)*2","v":0},{"$f":"COUNTIF(Sheet2!$B:$B,$D$1*100000+$D43+N$1)*2","v":0},{"$f":"COUNTIF(Sheet2!$B:$B,$D$1*100000+$D43+O$1)*2","v":0},{"$f":"COUNTIF(Sheet2!$B:$B,$D$1*100000+$D43+P$1)*2","v":0},{"$f":"COUNTIF(Sheet2!$B:$B,$D$1*100000+$D43+Q$1)*2","v":0},{"$f":"COUNTIF(Sheet2!$B:$B,$D$1*100000+$D43+R$1)*2","v":0},{"$f":"COUNTIF(Sheet2!$B:$B,$D$1*100000+$D43+S$1)*2","v":0},{"$f":"COUNTIF(Sheet2!$B:$B,$D$1*100000+$D43+T$1)*2","v":0},{"$f":"COUNTIF(Sheet2!$B:$B,$D$1*100000+$D43+U$1)*2","v":0},{"$f":"COUNTIF(Sheet2!$B:$B,$D$1*100000+$D43+V$1)*2","v":0},{"$f":"COUNTIF(Sheet2!$B:$B,$D$1*100000+$D43+W$1)*2","v":0},{"$f":"COUNTIF(Sheet2!$B:$B,$D$1*100000+$D43+X$1)*2","v":0},{"$f":"COUNTIF(Sheet2!$B:$B,$D$1*100000+$D43+Y$1)*2","v":0},{"$f":"COUNTIF(Sheet2!$B:$B,$D$1*100000+$D43+Z$1)*2","v":0},{"$f":"COUNTIF(Sheet2!$B:$B,$D$1*100000+$D43+AA$1)*2","v":0},{"$f":"COUNTIF(Sheet2!$B:$B,$D$1*100000+$D43+AB$1)*2","v":0},{"$f":"COUNTIF(Sheet2!$B:$B,$D$1*100000+$D43+AC$1)*2","v":0},{"$f":"COUNTIF(Sheet2!$B:$B,$D$1*100000+$D43+AD$1)*2","v":0},{"$f":"COUNTIF(Sheet2!$B:$B,$D$1*100000+$D43+AE$1)*2","v":0},{"$f":"COUNTIF(Sheet2!$B:$B,$D$1*100000+$D43+AF$1)*2","v":0},null,0]
[null,null,null,"2025-05-09",{"$f":"COUNTIF(Sheet2!$B:$B,$D$1*100000+$D44+F$1)*2","v":0},{"$f":"COUNTIF(Sheet2!$B:$B,$D$1*100000+$D44+G$1)*2","v":0},{"$f":"COUNTIF(Sheet2!$B:$B,$D$1*100000+$D44+H$1)*2","v":0},{"$f":"COUNTIF(Sheet2!$B:$B,$D$1*100000+$D44+I$1)*2","v":0},{"$f":"COUNTIF(Sheet2!$B:$B,$D$1*100000+$D44+J$1)*2","v":0},{"$f":"COUNTIF(Sheet2!$B:$B,$D$1*100000+$D44+K$1)*2","v":0},{"$f":"COUNTIF(Sheet2!$B:$B,$D$1*100000+$D44+L$1)*2","v":0},{"$f":"COUNTIF(Sheet2!$B:$B,$D$1*100000+$D44+M$1)*2","v":0},{"$f":"COUNTIF(Sheet2!$B:$B,$D$1*100000+$D44+N$1)*2","v":0},{"$f":"COUNTIF(Sheet2!$B:$B,$D$1*100000+$D44+O$1)*2","v":0},{"$f":"COUNTIF(Sheet2!$B:$B,$D$1*100000+$D44+P$1)*2","v":0},{"$f":"COUNTIF(Sheet2!$B:$B,$D$1*100000+$D44+Q$1)*2","v":0},{"$f":"COUNTIF(Sheet2!$B:$B,$D$1*100000+$D44+R$1)*2","v":0},{"$f":"COUNTIF(Sheet2!$B:$B,$D$1*100000+$D44+S$1)*2","v":0},{"$f":"COUNTIF(Sheet2!$B:$B,$D$1*100000+$D44+T$1)*2","v":0},{"$f":"COUNTIF(Sheet2!$B:$B,$D$1*100000+$D44+U$1)*2","v":0},{"$f":"COUNTIF(Sheet2!$B:$B,$D$1*100000+$D44+V$1)*2","v":0},{"$f":"COUNTIF(Sheet2!$B:$B,$D$1*100000+$D44+W$1)*2","v":2},{"$f":"COUNTIF(Sheet2!$B:$B,$D$1*100000+$D44+X$1)*2","v":0},{"$f":"COUNTIF(Sheet2!$B:$B,$D$1*100000+$D44+Y$1)*2","v":0},{"$f":"COUNTIF(Sheet2!$B:$B,$D$1*100000+$D44+Z$1)*2","v":0},{"$f":"COUNTIF(Sheet2!$B:$B,$D$1*100000+$D44+AA$1)*2","v":0},{"$f":"COUNTIF(Sheet2!$B:$B,$D$1*100000+$D44+AB$1)*2","v":0},{"$f":"COUNTIF(Sheet2!$B:$B,$D$1*100000+$D44+AC$1)*2","v":0},{"$f":"COUNTIF(Sheet2!$B:$B,$D$1*100000+$D44+AD$1)*2","v":0},{"$f":"COUNTIF(Sheet2!$B:$B,$D$1*100000+$D44+AE$1)*2","v":0},{"$f":"COUNTIF(Sheet2!$B:$B,$D$1*100000+$D44+AF$1)*2","v":0},null,2]
[null,null,null,"2025-05-10",{"$f":"COUNTIF(Sheet2!$B:$B,$D$1*100000+$D45+F$1)*2","v":0},{"$f":"COUNTIF(Sheet2!$B:$B,$D$1*100000+$D45+G$1)*2","v":0},{"$f":"COUNTIF(Sheet2!$B:$B,$D$1*100000+$D45+H$1)*2","v":0},{"$f":"COUNTIF(Sheet2!$B:$B,$D$1*100000+$D45+I$1)*2","v":0},{"$f":"COUNTIF(Sheet2!$B:$B,$D$1*100000+$D45+J$1)*2","v":0},{"$f":"COUNTIF(Sheet2!$B:$B,$D$1*100000+$D45+K$1)*2","v":0},{"$f":"COUNTIF(Sheet2!$B:$B,$D$1*100000+$D45+L$1)*2","v":0},{"$f":"COUNTIF(Sheet2!$B:$B,$D$1*100000+$D45+M$1)*2","v":0},{"$f":"COUNTIF(Sheet2!$B:$B,$D$1*100000+$D45+N$1)*2","v":0},{"$f":"COUNTIF(Sheet2!$B:$B,$D$1*100000+$D45+O$1)*2","v":0},{"$f":"COUNTIF(Sheet2!$B:$B,$D$1*100000+$D45+P$1)*2","v":0},{"$f":"COUNTIF(Sheet2!$B:$B,$D$1*100000+$D45+Q$1)*2","v":0},{"$f":"COUNTIF(Sheet2!$B:$B,$D$1*100000+$D45+R$1)*2","v":0},{"$f":"COUNTIF(Sheet2!$B:$B,$D$1*100000+$D45+S$1)*2","v":0},{"$f":"COUNTIF(Sheet2!$B:$B,$D$1*100000+$D45+T$1)*2","v":0},{"$f":"COUNTIF(Sheet2!$B:$B,$D$1*100000+$D45+U$1)*2","v":0},{"$f":"COUNTIF(Sheet2!$B:$B,$D$1*100000+$D45+V$1)*2","v":0},{"$f":"COUNTIF(Sheet2!$B:$B,$D$1*100000+$D45+W$1)*2","v":0},{"$f":"COUNTIF(Sheet2!$B:$B,$D$1*100000+$D45+X$1)*2","v":0},{"$f":"COUNTIF(Sheet2!$B:$B,$D$1*100000+$D45+Y$1)*2","v":0},{"$f":"COUNTIF(Sheet2!$B:$B,$D$1*100000+$D45+Z$1)*2","v":0},{"$f":"COUNTIF(Sheet2!$B:$B,$D$1*100000+$D45+AA$1)*2","v":0},{"$f":"COUNTIF(Sheet2!$B:$B,$D$1*100000+$D45+AB$1)*2","v":0},{"$f":"COUNTIF(Sheet2!$B:$B,$D$1*100000+$D45+AC$1)*2","v":0},{"$f":"COUNTIF(Sheet2!$B:$B,$D$1*100000+$D45+AD$1)*2","v":0},{"$f":"COUNTIF(Sheet2!$B:$B,$D$1*100000+$D45+AE$1)*2","v":0},{"$f":"COUNTIF(Sheet2!$B:$B,$D$1*100000+$D45+AF$1)*2","v":0},null,0]
[null,null,null,"2025-05-11",{"$f":"COUNTIF(Sheet2!$B:$B,$D$1*100000+$D46+F$1)*2","v":0},{"$f":"COUNTIF(Sheet2!$B:$B,$D$1*100000+$D46+G$1)*2","v":0},{"$f":"COUNTIF(Sheet2!$B:$B,$D$1*100000+$D46+H$1)*2","v":0},{"$f":"COUNTIF(Sheet2!$B:$B,$D$1*100000+$D46+I$1)*2","v":0},{"$f":"COUNTIF(Sheet2!$B:$B,$D$1*100000+$D46+J$1)*2","v":0},{"$f":"COUNTIF(Sheet2!$B:$B,$D$1*100000+$D46+K$1)*2","v":0},{"$f":"COUNTIF(Sheet2!$B:$B,$D$1*100000+$D46+L$1)*2","v":0},{"$f":"COUNTIF(Sheet2!$B:$B,$D$1*100000+$D46+M$1)*2","v":0},{"$f":"COUNTIF(Sheet2!$B:$B,$D$1*100000+$D46+N$1)*2","v":0},{"$f":"COUNTIF(Sheet2!$B:$B,$D$1*100000+$D46+O$1)*2","v":0},{"$f":"COUNTIF(Sheet2!$B:$B,$D$1*100000+$D46+P$1)*2","v":0},{"$f":"COUNTIF(Sheet2!$B:$B,$D$1*100000+$D46+Q$1)*2","v":0},{"$f":"COUNTIF(Sheet2!$B:$B,$D$1*100000+$D46+R$1)*2","v":0},{"$f":"COUNTIF(Sheet2!$B:$B,$D$1*100000+$D46+S$1)*2","v":0},{"$f":"COUNTIF(Sheet2!$B:$B,$D$1*100000+$D46+T$1)*2","v":0},{"$f":"COUNTIF(Sheet2!$B:$B,$D$1*100000+$D46+U$1)*2","v":0},{"$f":"COUNTIF(Sheet2!$B:$B,$D$1*100000+$D46+V$1)*2","v":0},{"$f":"COUNTIF(Sheet2!$B:$B,$D$1*100000+$D46+W$1)*2","v":0},{"$f":"COUNTIF(Sheet2!$B:$B,$D$1*100000+$D46+X$1)*2","v":0},{"$f":"COUNTIF(Sheet2!$B:$B,$D$1*100000+$D46+Y$1)*2","v":0},{"$f":"COUNTIF(Sheet2!$B:$B,$D$1*100000+$D46+Z$1)*2","v":0},{"$f":"COUNTIF(Sheet2!$B:$B,$D$1*100000+$D46+AA$1)*2","v":0},{"$f":"COUNTIF(Sheet2!$B:$B,$D$1*100000+$D46+AB$1)*2","v":0},{"$f":"COUNTIF(Sheet2!$B:$B,$D$1*100000+$D46+AC$1)*2","v":0},{"$f":"COUNTIF(Sheet2!$B:$B,$D$1*100000+$D46+AD$1)*2","v":0},{"$f":"COUNTIF(Sheet2!$B:$B,$D$1*100000+$D46+AE$1)*2","v":0},{"$f":"COUNTIF(Sheet2!$B:$B,$D$1*100000+$D46+AF$1)*2","v":0},null,0]
[null,null,null,"2025-05-12",{"$f":"COUNTIF(Sheet2!$B:$B,$D$1*100000+$D47+F$1)*2","v":0},{"$f":"COUNTIF(Sheet2!$B:$B,$D$1*100000+$D47+G$1)*2","v":0},{"$f":"COUNTIF(Sheet2!$B:$B,$D$1*100000+$D47+H$1)*2","v":0},{"$f":"COUNTIF(Sheet2!$B:$B,$D$1*100000+$D47+I$1)*2","v":0},{"$f":"COUNTIF(Sheet2!$B:$B,$D$1*100000+$D47+J$1)*2","v":0},{"$f":"COUNTIF(Sheet2!$B:$B,$D$1*100000+$D47+K$1)*2","v":0},{"$f":"COUNTIF(Sheet2!$B:$B,$D$1*100000+$D47+L$1)*2","v":0},{"$f":"COUNTIF(Sheet2!$B:$B,$D$1*100000+$D47+M$1)*2","v":0},{"$f":"COUNTIF(Sheet2!$B:$B,$D$1*100000+$D47+N$1)*2","v":0},{"$f":"COUNTIF(Sheet2!$B:$B,$D$1*100000+$D47+O$1)*2","v":0},{"$f":"COUNTIF(Sheet2!$B:$B,$D$1*100000+$D47+P$1)*2","v":0},{"$f":"COUNTIF(Sheet2!$B:$B,$D$1*100000+$D47+Q$1)*2","v":0},{"$f":"COUNTIF(Sheet2!$B:$B,$D$1*100000+$D47+R$1)*2","v":0},{"$f":"COUNTIF(Sheet2!$B:$B,$D$1*100000+$D47+S$1)*2","v":0},{"$f":"COUNTIF(Sheet2!$B:$B,$D$1*100000+$D47+T$1)*2","v":0},{"$f":"COUNTIF(Sheet2!$B:$B,$D$1*100000+$D47+U$1)*2","v":2},{"$f":"COUNTIF(Sheet2!$B:$B,$D$1*100000+$D47+V$1)*2","v":0},{"$f":"COUNTIF(Sheet2!$B:$B,$D$1*100000+$D47+W$1)*2","v":0},{"$f":"COUNTIF(Sheet2!$B:$B,$D$1*100000+$D47+X$1)*2","v":0},{"$f":"COUNTIF(Sheet2!$B:$B,$D$1*100000+$D47+Y$1)*2","v":0},{"$f":"COUNTIF(Sheet2!$B:$B,$D$1*100000+$D47+Z$1)*2","v":0},{"$f":"COUNTIF(Sheet2!$B:$B,$D$1*100000+$D47+AA$1)*2","v":0},{"$f":"COUNTIF(Sheet2!$B:$B,$D$1*100000+$D47+AB$1)*2","v":0},{"$f":"COUNTIF(Sheet2!$B:$B,$D$1*100000+$D47+AC$1)*2","v":0},{"$f":"COUNTIF(Sheet2!$B:$B,$D$1*100000+$D47+AD$1)*2","v":0},{"$f":"COUNTIF(Sheet2!$B:$B,$D$1*100000+$D47+AE$1)*2","v":0},{"$f":"COUNTIF(Sheet2!$B:$B,$D$1*100000+$D47+AF$1)*2","v":0},null,2]
[null,null,null,"2025-05-13",{"$f":"COUNTIF(Sheet2!$B:$B,$D$1*100000+$D48+F$1)*2","v":0},{"$f":"COUNTIF(Sheet2!$B:$B,$D$1*100000+$D48+G$1)*2","v":0},{"$f":"COUNTIF(Sheet2!$B:$B,$D$1*100000+$D48+H$1)*2","v":0},{"$f":"COUNTIF(Sheet2!$B:$B,$D$1*100000+$D48+I$1)*2","v":0},{"$f":"COUNTIF(Sheet2!$B:$B,$D$1*100000+$D48+J$1)*2","v":0},{"$f":"COUNTIF(Sheet2!$B:$B,$D$1*100000+$D48+K$1)*2","v":0},{"$f":"COUNTIF(Sheet2!$B:$B,$D$1*100000+$D48+L$1)*2","v":0},{"$f":"COUNTIF(Sheet2!$B:$B,$D$1*100000+$D48+M$1)*2","v":0},{"$f":"COUNTIF(Sheet2!$B:$B,$D$1*100000+$D48+N$1)*2","v":0},{"$f":"COUNTIF(Sheet2!$B:$B,$D$1*100000+$D48+O$1)*2","v":0},{"$f":"COUNTIF(Sheet2!$B:$B,$D$1*100000+$D48+P$1)*2","v":0},{"$f":"COUNTIF(Sheet2!$B:$B,$D$1*100000+$D48+Q$1)*2","v":0},{"$f":"COUNTIF(Sheet2!$B:$B,$D$1*100000+$D48+R$1)*2","v":0},{"$f":"COUNTIF(Sheet2!$B:$B,$D$1*100000+$D48+S$1)*2","v":0},{"$f":"COUNTIF(Sheet2!$B:$B,$D$1*100000+$D48+T$1)*2","v":0},{"$f":"COUNTIF(Sheet2!$B:$B,$D$1*100000+$D48+U$1)*2","v":0},{"$f":"COUNTIF(Sheet2!$B:$B,$D$1*100000+$D48+V$1)*2","v":0},{"$f":"COUNTIF(Sheet2!$B:$B,$D$1*100000+$D48+W$1)*2","v":0},{"$f":"COUNTIF(Sheet2!$B:$B,$D$1*100000+$D48+X$1)*2","v":0},{"$f":"COUNTIF(Sheet2!$B:$B,$D$1*100000+$D48+Y$1)*2","v":0},{"$f":"COUNTIF(Sheet2!$B:$B,$D$1*100000+$D48+Z$1)*2","v":0},{"$f":"COUNTIF(Sheet2!$B:$B,$D$1*100000+$D48+AA$1)*2","v":0},{"$f":"COUNTIF(Sheet2!$B:$B,$D$1*100000+$D48+AB$1)*2","v":0},{"$f":"COUNTIF(Sheet2!$B:$B,$D$1*100000+$D48+AC$1)*2","v":0},{"$f":"COUNTIF(Sheet2!$B:$B,$D$1*100000+$D48+AD$1)*2","v":0},{"$f":"COUNTIF(Sheet2!$B:$B,$D$1*100000+$D48+AE$1)*2","v":0},{"$f":"COUNTIF(Sheet2!$B:$B,$D$1*100000+$D48+AF$1)*2","v":0},null,0]
[null,null,null,"2025-05-14",{"$f":"COUNTIF(Sheet2!$B:$B,$D$1*100000+$D49+F$1)*2","v":0},{"$f":"COUNTIF(Sheet2!$B:$B,$D$1*100000+$D49+G$1)*2","v":0},{"$f":"COUNTIF(Sheet2!$B:$B,$D$1*100000+$D49+H$1)*2","v":0},{"$f":"COUNTIF(Sheet2!$B:$B,$D$1*100000+$D49+I$1)*2","v":0},{"$f":"COUNTIF(Sheet2!$B:$B,$D$1*100000+$D49+J$1)*2","v":0},{"$f":"COUNTIF(Sheet2!$B:$B,$D$1*100000+$D49+K$1)*2","v":0},{"$f":"COUNTIF(Sheet2!$B:$B,$D$1*100000+$D49+L$1)*2","v":0},{"$f":"COUNTIF(Sheet2!$B:$B,$D$1*100000+$D49+M$1)*2","v":0},{"$f":"COUNTIF(Sheet2!$B:$B,$D$1*100000+$D49+N$1)*2","v":0},{"$f":"COUNTIF(Sheet2!$B:$B,$D$1*100000+$D49+O$1)*2","v":0},{"$f":"COUNTIF(Sheet2!$B:$B,$D$1*100000+$D49+P$1)*2","v":0},{"$f":"COUNTIF(Sheet2!$B:$B,$D$1*100000+$D49+Q$1)*2","v":0},{"$f":"COUNTIF(Sheet2!$B:$B,$D$1*100000+$D49+R$1)*2","v":0},{"$f":"COUNTIF(Sheet2!$B:$B,$D$1*100000+$D49+S$1)*2","v":0},{"$f":"COUNTIF(Sheet2!$B:$B,$D$1*100000+$D49+T$1)*2","v":0},{"$f":"COUNTIF(Sheet2!$B:$B,$D$1*100000+$D49+U$1)*2","v":0},{"$f":"COUNTIF(Sheet2!$B:$B,$D$1*100000+$D49+V$1)*2","v":0},{"$f":"COUNTIF(Sheet2!$B:$B,$D$1*100000+$D49+W$1)*2","v":0},{"$f":"COUNTIF(Sheet2!$B:$B,$D$1*100000+$D49+X$1)*2","v":0},{"$f":"COUNTIF(Sheet2!$B:$B,$D$1*100000+$D49+Y$1)*2","v":0},{"$f":"COUNTIF(Sheet2!$B:$B,$D$1*100000+$D49+Z$1)*2","v":0},{"$f":"COUNTIF(Sheet2!$B:$B,$D$1*100000+$D49+AA$1)*2","v":0},{"$f":"COUNTIF(Sheet2!$B:$B,$D$1*100000+$D49+AB$1)*2","v":0},{"$f":"COUNTIF(Sheet2!$B:$B,$D$1*100000+$D49+AC$1)*2","v":0},{"$f":"COUNTIF(Sheet2!$B:$B,$D$1*100000+$D49+AD$1)*2","v":0},{"$f":"COUNTIF(Sheet2!$B:$B,$D$1*100000+$D49+AE$1)*2","v":0},{"$f":"COUNTIF(Sheet2!$B:$B,$D$1*100000+$D49+AF$1)*2","v":0},null,0]
[null,null,null,"2025-05-15",{"$f":"COUNTIF(Sheet2!$B:$B,$D$1*100000+$D50+F$1)*2","v":0},{"$f":"COUNTIF(Sheet2!$B:$B,$D$1*100000+$D50+G$1)*2","v":0},{"$f":"COUNTIF(Sheet2!$B:$B,$D$1*100000+$D50+H$1)*2","v":0},{"$f":"COUNTIF(Sheet2!$B:$B,$D$1*100000+$D50+I$1)*2","v":0},{"$f":"COUNTIF(Sheet2!$B:$B,$D$1*100000+$D50+J$1)*2","v":0},{"$f":"COUNTIF(Sheet2!$B:$B,$D$1*100000+$D50+K$1)*2","v":0},{"$f":"COUNTIF(Sheet2!$B:$B,$D$1*100000+$D50+L$1)*2","v":0},{"$f":"COUNTIF(Sheet2!$B:$B,$D$1*100000+$D50+M$1)*2","v":0},{"$f":"COUNTIF(Sheet2!$B:$B,$D$1*100000+$D50+N$1)*2","v":0},{"$f":"COUNTIF(Sheet2!$B:$B,$D$1*100000+$D50+O$1)*2","v":0},{"$f":"COUNTIF(Sheet2!$B:$B,$D$1*100000+$D50+P$1)*2","v":0},{"$f":"COUNTIF(Sheet2!$B:$B,$D$1*100000+$D50+Q$1)*2","v":0},{"$f":"COUNTIF(Sheet2!$B:$B,$D$1*100000+$D50+R$1)*2","v":0},{"$f":"COUNTIF(Sheet2!$B:$B,$D$1*100000+$D50+S$1)*2","v":0},{"$f":"COUNTIF(Sheet2!$B:$B,$D$1*100000+$D50+T$1)*2","v":0},{"$f":"COUNTIF(Sheet2!$B:$B,$D$1*100000+$D50+U$1)*2","v":0},{"$f":"COUNTIF(Sheet2!$B:$B,$D$1*100000+$D50+V$1)*2","v":0},{"$f":"COUNTIF(Sheet2!$B:$B,$D$1*100000+$D50+W$1)*2","v":0},{"$f":"COUNTIF(Sheet2!$B:$B,$D$1*100000+$D50+X$1)*2","v":0},{"$f":"COUNTIF(Sheet2!$B:$B,$D$1*100000+$D50+Y$1)*2","v":0},{"$f":"COUNTIF(Sheet2!$B:$B,$D$1*100000+$D50+Z$1)*2","v":0},{"$f":"COUNTIF(Sheet2!$B:$B,$D$1*100000+$D50+AA$1)*2","v":0},{"$f":"COUNTIF(Sheet2!$B:$B,$D$1*100000+$D50+AB$1)*2","v":0},{"$f":"COUNTIF(Sheet2!$B:$B,$D$1*100000+$D50+AC$1)*2","v":0},{"$f":"COUNTIF(Sheet2!$B:$B,$D$1*100000+$D50+AD$1)*2","v":0},{"$f":"COUNTIF(Sheet2!$B:$B,$D$1*100000+$D50+AE$1)*2","v":0},{"$f":"COUNTIF(Sheet2!$B:$B,$D$1*100000+$D50+AF$1)*2","v":0},null,0]
[null,null,null,"2025-05-16",{"$f":"COUNTIF(Sheet2!$B:$B,$D$1*100000+$D51+F$1)*2","v":0},{"$f":"COUNTIF(Sheet2!$B:$B,$D$1*100000+$D51+G$1)*2","v":0},{"$f":"COUNTIF(Sheet2!$B:$B,$D$1*100000+$D51+H$1)*2","v":0},{"$f":"COUNTIF(Sheet2!$B:$B,$D$1*100000+$D51+I$1)*2","v":0},{"$f":"COUNTIF(Sheet2!$B:$B,$D$1*100000+$D51+J$1)*2","v":0},{"$f":"COUNTIF(Sheet2!$B:$B,$D$1*100000+$D51+K$1)*2","v":0},{"$f":"COUNTIF(Sheet2!$B:$B,$D$1*100000+$D51+L$1)*2","v":0},{"$f":"COUNTIF(Sheet2!$B:$B,$D$1*100000+$D51+M$1)*2","v":0},{"$f":"COUNTIF(Sheet2!$B:$B,$D$1*100000+$D51+N$1)*2","v":0},{"$f":"COUNTIF(Sheet2!$B:$B,$D$1*100000+$D51+O$1)*2","v":0},{"$f":"COUNTIF(Sheet2!$B:$B,$D$1*100000+$D51+P$1)*2","v":0},{"$f":"COUNTIF(Sheet2!$B:$B,$D$1*100000+$D51+Q$1)*2","v":0},{"$f":"COUNTIF(Sheet2!$B:$B,$D$1*100000+$D51+R$1)*2","v":0},{"$f":"COUNTIF(Sheet2!$B:$B,$D$1*100000+$D51+S$1)*2","v":0},{"$f":"COUNTIF(Sheet2!$B:$B,$D$1*100000+$D51+T$1)*2","v":0},{"$f":"COUNTIF(Sheet2!$B:$B,$D$1*100000+$D51+U$1)*2","v":0},{"$f":"COUNTIF(Sheet2!$B:$B,$D$1*100000+$D51+V$1)*2","v":0},{"$f":"COUNTIF(Sheet2!$B:$B,$D$1*100000+$D51+W$1)*2","v":0},{"$f":"COUNTIF(Sheet2!$B:$B,$D$1*100000+$D51+X$1)*2","v":0},{"$f":"COUNTIF(Sheet2!$B:$B,$D$1*100000+$D51+Y$1)*2","v":2},{"$f":"COUNTIF(Sheet2!$B:$B,$D$1*100000+$D51+Z$1)*2","v":0},{"$f":"COUNTIF(Sheet2!$B:$B,$D$1*100000+$D51+AA$1)*2","v":0},{"$f":"COUNTIF(Sheet2!$B:$B,$D$1*100000+$D51+AB$1)*2","v":0},{"$f":"COUNTIF(Sheet2!$B:$B,$D$1*100000+$D51+AC$1)*2","v":0},{"$f":"COUNTIF(Sheet2!$B:$B,$D$1*100000+$D51+AD$1)*2","v":0},{"$f":"COUNTIF(Sheet2!$B:$B,$D$1*100000+$D51+AE$1)*2","v":0},{"$f":"COUNTIF(Sheet2!$B:$B,$D$1*100000+$D51+AF$1)*2","v":0},null,2]
[null,null,null,"2025-05-17",{"$f":"COUNTIF(Sheet2!$B:$B,$D$1*100000+$D52+F$1)*2","v":0},{"$f":"COUNTIF(Sheet2!$B:$B,$D$1*100000+$D52+G$1)*2","v":0},{"$f":"COUNTIF(Sheet2!$B:$B,$D$1*100000+$D52+H$1)*2","v":0},{"$f":"COUNTIF(Sheet2!$B:$B,$D$1*100000+$D52+I$1)*2","v":0},{"$f":"COUNTIF(Sheet2!$B:$B,$D$1*100000+$D52+J$1)*2","v":0},{"$f":"COUNTIF(Sheet2!$B:$B,$D$1*100000+$D52+K$1)*2","v":0},{"$f":"COUNTIF(Sheet2!$B:$B,$D$1*100000+$D52+L$1)*2","v":0},{"$f":"COUNTIF(Sheet2!$B:$B,$D$1*100000+$D52+M$1)*2","v":0},{"$f":"COUNTIF(Sheet2!$B:$B,$D$1*100000+$D52+N$1)*2","v":0},{"$f":"COUNTIF(Sheet2!$B:$B,$D$1*100000+$D52+O$1)*2","v":0},{"$f":"COUNTIF(Sheet2!$B:$B,$D$1*100000+$D52+P$1)*2","v":0},{"$f":"COUNTIF(Sheet2!$B:$B,$D$1*100000+$D52+Q$1)*2","v":0},{"$f":"COUNTIF(Sheet2!$B:$B,$D$1*100000+$D52+R$1)*2","v":0},{"$f":"COUNTIF(Sheet2!$B:$B,$D$1*100000+$D52+S$1)*2","v":0},{"$f":"COUNTIF(Sheet2!$B:$B,$D$1*100000+$D52+T$1)*2","v":0},{"$f":"COUNTIF(Sheet2!$B:$B,$D$1*100000+$D52+U$1)*2","v":0},{"$f":"COUNTIF(Sheet2!$B:$B,$D$1*100000+$D52+V$1)*2","v":0},{"$f":"COUNTIF(Sheet2!$B:$B,$D$1*100000+$D52+W$1)*2","v":0},{"$f":"COUNTIF(Sheet2!$B:$B,$D$1*100000+$D52+X$1)*2","v":0},{"$f":"COUNTIF(Sheet2!$B:$B,$D$1*100000+$D52+Y$1)*2","v":0},{"$f":"COUNTIF(Sheet2!$B:$B,$D$1*100000+$D52+Z$1)*2","v":0},{"$f":"COUNTIF(Sheet2!$B:$B,$D$1*100000+$D52+AA$1)*2","v":0},{"$f":"COUNTIF(Sheet2!$B:$B,$D$1*100000+$D52+AB$1)*2","v":0},{"$f":"COUNTIF(Sheet2!$B:$B,$D$1*100000+$D52+AC$1)*2","v":0},{"$f":"COUNTIF(Sheet2!$B:$B,$D$1*100000+$D52+AD$1)*2","v":0},{"$f":"COUNTIF(Sheet2!$B:$B,$D$1*100000+$D52+AE$1)*2","v":0},{"$f":"COUNTIF(Sheet2!$B:$B,$D$1*100000+$D52+AF$1)*2","v":0},null,0]
[null,null,null,"2025-05-18",{"$f":"COUNTIF(Sheet2!$B:$B,$D$1*100000+$D53+F$1)*2","v":0},{"$f":"COUNTIF(Sheet2!$B:$B,$D$1*100000+$D53+G$1)*2","v":0},{"$f":"COUNTIF(Sheet2!$B:$B,$D$1*100000+$D53+H$1)*2","v":0},{"$f":"COUNTIF(Sheet2!$B:$B,$D$1*100000+$D53+I$1)*2","v":0},{"$f":"COUNTIF(Sheet2!$B:$B,$D$1*100000+$D53+J$1)*2","v":0},{"$f":"COUNTIF(Sheet2!$B:$B,$D$1*100000+$D53+K$1)*2","v":0},{"$f":"COUNTIF(Sheet2!$B:$B,$D$1*100000+$D53+L$1)*2","v":0},{"$f":"COUNTIF(Sheet2!$B:$B,$D$1*100000+$D53+M$1)*2","v":0},{"$f":"COUNTIF(Sheet2!$B:$B,$D$1*100000+$D53+N$1)*2","v":0},{"$f":"COUNTIF(Sheet2!$B:$B,$D$1*100000+$D53+O$1)*2","v":0},{"$f":"COUNTIF(Sheet2!$B:$B,$D$1*100000+$D53+P$1)*2","v":0},{"$f":"COUNTIF(Sheet2!$B:$B,$D$1*100000+$D53+Q$1)*2","v":0},{"$f":"COUNTIF(Sheet2!$B:$B,$D$1*100000+$D53+R$1)*2","v":0},{"$f":"COUNTIF(Sheet2!$B:$B,$D$1*100000+$D53+S$1)*2","v":0},{"$f":"COUNTIF(Sheet2!$B:$B,$D$1*100000+$D53+T$1)*2","v":0},{"$f":"COUNTIF(Sheet2!$B:$B,$D$1*100000+$D53+U$1)*2","v":0},{"$f":"COUNTIF(Sheet2!$B:$B,$D$1*100000+$D53+V$1)*2","v":0},{"$f":"COUNTIF(Sheet2!$B:$B,$D$1*100000+$D53+W$1)*2","v":0},{"$f":"COUNTIF(Sheet2!$B:$B,$D$1*100000+$D53+X$1)*2","v":0},{"$f":"COUNTIF(Sheet2!$B:$B,$D$1*100000+$D53+Y$1)*2","v":0},{"$f":"COUNTIF(Sheet2!$B:$B,$D$1*100000+$D53+Z$1)*2","v":0},{"$f":"COUNTIF(Sheet2!$B:$B,$D$1*100000+$D53+AA$1)*2","v":0},{"$f":"COUNTIF(Sheet2!$B:$B,$D$1*100000+$D53+AB$1)*2","v":0},{"$f":"COUNTIF(Sheet2!$B:$B,$D$1*100000+$D53+AC$1)*2","v":0},{"$f":"COUNTIF(Sheet2!$B:$B,$D$1*100000+$D53+AD$1)*2","v":0},{"$f":"COUNTIF(Sheet2!$B:$B,$D$1*100000+$D53+AE$1)*2","v":0},{"$f":"COUNTIF(Sheet2!$B:$B,$D$1*100000+$D53+AF$1)*2","v":0},null,0]
[null,null,null,"2025-05-19",{"$f":"COUNTIF(Sheet2!$B:$B,$D$1*100000+$D54+F$1)*2","v":0},{"$f":"COUNTIF(Sheet2!$B:$B,$D$1*100000+$D54+G$1)*2","v":0},{"$f":"COUNTIF(Sheet2!$B:$B,$D$1*100000+$D54+H$1)*2","v":0},{"$f":"COUNTIF(Sheet2!$B:$B,$D$1*100000+$D54+I$1)*2","v":0},{"$f":"COUNTIF(Sheet2!$B:$B,$D$1*100000+$D54+J$1)*2","v":0},{"$f":"COUNTIF(Sheet2!$B:$B,$D$1*100000+$D54+K$1)*2","v":0},{"$f":"COUNTIF(Sheet2!$B:$B,$D$1*100000+$D54+L$1)*2","v":0},{"$f":"COUNTIF(Sheet2!$B:$B,$D$1*100000+$D54+M$1)*2","v":0},{"$f":"COUNTIF(Sheet2!$B:$B,$D$1*100000+$D54+N$1)*2","v":0},{"$f":"COUNTIF(Sheet2!$B:$B,$D$1*100000+$D54+O$1)*2","v":0},{"$f":"COUNTIF(Sheet2!$B:$B,$D$1*100000+$D54+P$1)*2","v":0},{"$f":"COUNTIF(Sheet2!$B:$B,$D$1*100000+$D54+Q$1)*2","v":0},{"$f":"COUNTIF(Sheet2!$B:$B,$D$1*100000+$D54+R$1)*2","v":0},{"$f":"COUNTIF(Sheet2!$B:$B,$D$1*100000+$D54+S$1)*2","v":0},{"$f":"COUNTIF(Sheet2!$B:$B,$D$1*100000+$D54+T$1)*2","v":0},{"$f":"COUNTIF(Sheet2!$B:$B,$D$1*100000+$D54+U$1)*2","v":0},{"$f":"COUNTIF(Sheet2!$B:$B,$D$1*100000+$D54+V$1)*2","v":0},{"$f":"COUNTIF(Sheet2!$B:$B,$D$1*100000+$D54+W$1)*2","v":0},{"$f":"COUNTIF(Sheet2!$B:$B,$D$1*100000+$D54+X$1)*2","v":0},{"$f":"COUNTIF(Sheet2!$B:$B,$D$1*100000+$D54+Y$1)*2","v":2},{"$f":"COUNTIF(Sheet2!$B:$B,$D$1*100000+$D54+Z$1)*2","v":0},{"$f":"COUNTIF(Sheet2!$B:$B,$D$1*100000+$D54+AA$1)*2","v":0},{"$f":"COUNTIF(Sheet2!$B:$B,$D$1*100000+$D54+AB$1)*2","v":0},{"$f":"COUNTIF(Sheet2!$B:$B,$D$1*100000+$D54+AC$1)*2","v":0},{"$f":"COUNTIF(Sheet2!$B:$B,$D$1*100000+$D54+AD$1)*2","v":0},{"$f":"COUNTIF(Sheet2!$B:$B,$D$1*100000+$D54+AE$1)*2","v":0},{"$f":"COUNTIF(Sheet2!$B:$B,$D$1*100000+$D54+AF$1)*2","v":0},null,2]
[null,null,null,"2025-05-20",{"$f":"COUNTIF(Sheet2!$B:$B,$D$1*100000+$D55+F$1)*2","v":0},{"$f":"COUNTIF(Sheet2!$B:$B,$D$1*100000+$D55+G$1)*2","v":0},{"$f":"COUNTIF(Sheet2!$B:$B,$D$1*100000+$D55+H$1)*2","v":0},{"$f":"COUNTIF(Sheet2!$B:$B,$D$1*100000+$D55+I$1)*2","v":0},{"$f":"COUNTIF(Sheet2!$B:$B,$D$1*100000+$D55+J$1)*2","v":0},{"$f":"COUNTIF(Sheet2!$B:$B,$D$1*100000+$D55+K$1)*2","v":0},{"$f":"COUNTIF(Sheet2!$B:$B,$D$1*100000+$D55+L$1)*2","v":0},{"$f":"COUNTIF(Sheet2!$B:$B,$D$1*100000+$D55+M$1)*2","v":0},{"$f":"COUNTIF(Sheet2!$B:$B,$D$1*100000+$D55+N$1)*2","v":0},{"$f":"COUNTIF(Sheet2!$B:$B,$D$1*100000+$D55+O$1)*2","v":0},{"$f":"COUNTIF(Sheet2!$B:$B,$D$1*100000+$D55+P$1)*2","v":0},{"$f":"COUNTIF(Sheet2!$B:$B,$D$1*100000+$D55+Q$1)*2","v":0},{"$f":"COUNTIF(Sheet2!$B:$B,$D$1*100000+$D55+R$1)*2","v":0},{"$f":"COUNTIF(Sheet2!$B:$B,$D$1*100000+$D55+S$1)*2","v":0},{"$f":"COUNTIF(Sheet2!$B:$B,$D$1*100000+$D55+T$1)*2","v":0},{"$f":"COUNTIF(Sheet2!$B:$B,$D$1*100000+$D55+U$1)*2","v":0},{"$f":"COUNTIF(Sheet2!$B:$B,$D$1*100000+$D55+V$1)*2","v":0},{"$f":"COUNTIF(Sheet2!$B:$B,$D$1*100000+$D55+W$1)*2","v":0},{"$f":"COUNTIF(Sheet2!$B:$B,$D$1*100000+$D55+X$1)*2","v":0},{"$f":"COUNTIF(Sheet2!$B:$B,$D$1*100000+$D55+Y$1)*2","v":2},{"$f":"COUNTIF(Sheet2!$B:$B,$D$1*100000+$D55+Z$1)*2","v":0},{"$f":"COUNTIF(Sheet2!$B:$B,$D$1*100000+$D55+AA$1)*2","v":0},{"$f":"COUNTIF(Sheet2!$B:$B,$D$1*100000+$D55+AB$1)*2","v":0},{"$f":"COUNTIF(Sheet2!$B:$B,$D$1*100000+$D55+AC$1)*2","v":0},{"$f":"COUNTIF(Sheet2!$B:$B,$D$1*100000+$D55+AD$1)*2","v":0},{"$f":"COUNTIF(Sheet2!$B:$B,$D$1*100000+$D55+AE$1)*2","v":0},{"$f":"COUNTIF(Sheet2!$B:$B,$D$1*100000+$D55+AF$1)*2","v":0},null,2]
[null,null,null,"2025-05-21",{"$f":"COUNTIF(Sheet2!$B:$B,$D$1*100000+$D56+F$1)*2","v":0},{"$f":"COUNTIF(Sheet2!$B:$B,$D$1*100000+$D56+G$1)*2","v":0},{"$f":"COUNTIF(Sheet2!$B:$B,$D$1*100000+$D56+H$1)*2","v":0},{"$f":"COUNTIF(Sheet2!$B:$B,$D$1*100000+$D56+I$1)*2","v":0},{"$f":"COUNTIF(Sheet2!$B:$B,$D$1*100000+$D56+J$1)*2","v":0},{"$f":"COUNTIF(Sheet2!$B:$B,$D$1*100000+$D56+K$1)*2","v":0},{"$f":"COUNTIF(Sheet2!$B:$B,$D$1*100000+$D56+L$1)*2","v":0},{"$f":"COUNTIF(Sheet2!$B:$B,$D$1*100000+$D56+M$1)*2","v":0},{"$f":"COUNTIF(Sheet2!$B:$B,$D$1*100000+$D56+N$1)*2","v":0},{"$f":"COUNTIF(Sheet2!$B:$B,$D$1*100000+$D56+O$1)*2","v":0},{"$f":"COUNTIF(Sheet2!$B:$B,$D$1*100000+$D56+P$1)*2","v":0},{"$f":"COUNTIF(Sheet2!$B:$B,$D$1*100000+$D56+Q$1)*2","v":0},{"$f":"COUNTIF(Sheet2!$B:$B,$D$1*100000+$D56+R$1)*2","v":0},{"$f":"COUNTIF(Sheet2!$B:$B,$D$1*100000+$D56+S$1)*2","v":2},{"$f":"COUNTIF(Sheet2!$B:$B,$D$1*100000+$D56+T$1)*2","v":0},{"$f":"COUNTIF(Sheet2!$B:$B,$D$1*100000+$D56+U$1)*2","v":0},{"$f":"COUNTIF(Sheet2!$B:$B,$D$1*100000+$D56+V$1)*2","v":0},{"$f":"COUNTIF(Sheet2!$B:$B,$D$1*100000+$D56+W$1)*2","v":0},{"$f":"COUNTIF(Sheet2!$B:$B,$D$1*100000+$D56+X$1)*2","v":0},{"$f":"COUNTIF(Sheet2!$B:$B,$D$1*100000+$D56+Y$1)*2","v":0},{"$f":"COUNTIF(Sheet2!$B:$B,$D$1*100000+$D56+Z$1)*2","v":0},{"$f":"COUNTIF(Sheet2!$B:$B,$D$1*100000+$D56+AA$1)*2","v":0},{"$f":"COUNTIF(Sheet2!$B:$B,$D$1*100000+$D56+AB$1)*2","v":0},{"$f":"COUNTIF(Sheet2!$B:$B,$D$1*100000+$D56+AC$1)*2","v":0},{"$f":"COUNTIF(Sheet2!$B:$B,$D$1*100000+$D56+AD$1)*2","v":0},{"$f":"COUNTIF(Sheet2!$B:$B,$D$1*100000+$D56+AE$1)*2","v":0},{"$f":"COUNTIF(Sheet2!$B:$B,$D$1*100000+$D56+AF$1)*2","v":0},null,2]
[null,null,null,"2025-05-22",{"$f":"COUNTIF(Sheet2!$B:$B,$D$1*100000+$D57+F$1)*2","v":0},{"$f":"COUNTIF(Sheet2!$B:$B,$D$1*100000+$D57+G$1)*2","v":0},{"$f":"COUNTIF(Sheet2!$B:$B,$D$1*100000+$D57+H$1)*2","v":0},{"$f":"COUNTIF(Sheet2!$B:$B,$D$1*100000+$D57+I$1)*2","v":0},{"$f":"COUNTIF(Sheet2!$B:$B,$D$1*100000+$D57+J$1)*2","v":0},{"$f":"COUNTIF(Sheet2!$B:$B,$D$1*100000+$D57+K$1)*2","v":0},{"$f":"COUNTIF(Sheet2!$B:$B,$D$1*100000+$D57+L$1)*2","v":0},{"$f":"COUNTIF(Sheet2!$B:$B,$D$1*100000+$D57+M$1)*2","v":0},{"$f":"COUNTIF(Sheet2!$B:$B,$D$1*100000+$D57+N$1)*2","v":0},{"$f":"COUNTIF(Sheet2!$B:$B,$D$1*100000+$D57+O$1)*2","v":0},{"$f":"COUNTIF(Sheet2!$B:$B,$D$1*100000+$D57+P$1)*2","v":0},{"$f":"COUNTIF(Sheet2!$B:$B,$D$1*100000+$D57+Q$1)*2","v":0},{"$f":"COUNTIF(Sheet2!$B:$B,$D$1*100000+$D57+R$1)*2","v":0},{"$f":"COUNTIF(Sheet2!$B:$B,$D$1*100000+$D57+S$1)*2","v":0},{"$f":"COUNTIF(Sheet2!$B:$B,$D$1*100000+$D57+T$1)*2","v":0},{"$f":"COUNTIF(Sheet2!$B:$B,$D$1*100000+$D57+U$1)*2","v":0},{"$f":"COUNTIF(Sheet2!$B:$B,$D$1*100000+$D57+V$1)*2","v":0},{"$f":"COUNTIF(Sheet2!$B:$B,$D$1*100000+$D57+W$1)*2","v":0},{"$f":"COUNTIF(Sheet2!$B:$B,$D$1*100000+$D57+X$1)*2","v":0},{"$f":"COUNTIF(Sheet2!$B:$B,$D$1*100000+$D57+Y$1)*2","v":0},{"$f":"COUNTIF(Sheet2!$B:$B,$D$1*100000+$D57+Z$1)*2","v":0},{"$f":"COUNTIF(Sheet2!$B:$B,$D$1*100000+$D57+AA$1)*2","v":0},{"$f":"COUNTIF(Sheet2!$B:$B,$D$1*100000+$D57+AB$1)*2","v":0},{"$f":"COUNTIF(Sheet2!$B:$B,$D$1*100000+$D57+AC$1)*2","v":0},{"$f":"COUNTIF(Sheet2!$B:$B,$D$1*100000+$D57+AD$1)*2","v":0},{"$f":"COUNTIF(Sheet2!$B:$B,$D$1*100000+$D57+AE$1)*2","v":0},{"$f":"COUNTIF(Sheet2!$B:$B,$D$1*100000+$D57+AF$1)*2","v":0},null,0]
[null,null,null,"2025-05-23",{"$f":"COUNTIF(Sheet2!$B:$B,$D$1*100000+$D58+F$1)*2","v":0},{"$f":"COUNTIF(Sheet2!$B:$B,$D$1*100000+$D58+G$1)*2","v":0},{"$f":"COUNTIF(Sheet2!$B:$B,$D$1*100000+$D58+H$1)*2","v":0},{"$f":"COUNTIF(Sheet2!$B:$B,$D$1*100000+$D58+I$1)*2","v":0},{"$f":"COUNTIF(Sheet2!$B:$B,$D$1*100000+$D58+J$1)*2","v":0},{"$f":"COUNTIF(Sheet2!$B:$B,$D$1*100000+$D58+K$1)*2","v":0},{"$f":"COUNTIF(Sheet2!$B:$B,$D$1*100000+$D58+L$1)*2","v":0},{"$f":"COUNTIF(Sheet2!$B:$B,$D$1*100000+$D58+M$1)*2","v":0},{"$f":"COUNTIF(Sheet2!$B:$B,$D$1*100000+$D58+N$1)*2","v":0},{"$f":"COUNTIF(Sheet2!$B:$B,$D$1*100000+$D58+O$1)*2","v":0},{"$f":"COUNTIF(Sheet2!$B:$B,$D$1*100000+$D58+P$1)*2","v":0},{"$f":"COUNTIF(Sheet2!$B:$B,$D$1*100000+$D58+Q$1)*2","v":0},{"$f":"COUNTIF(Sheet2!$B:$B,$D$1*100000+$D58+R$1)*2","v":0},{"$f":"COUNTIF(Sheet2!$B:$B,$D$1*100000+$D58+S$1)*2","v":0},{"$f":"COUNTIF(Sheet2!$B:$B,$D$1*100000+$D58+T$1)*2","v":0},{"$f":"COUNTIF(Sheet2!$B:$B,$D$1*100000+$D58+U$1)*2","v":0},{"$f":"COUNTIF(Sheet2!$B:$B,$D$1*100000+$D58+V$1)*2","v":0},{"$f":"COUNTIF(Sheet2!$B:$B,$D$1*100000+$D58+W$1)*2","v":0},{"$f":"COUNTIF(Sheet2!$B:$B,$D$1*100000+$D58+X$1)*2","v":0},{"$f":"COUNTIF(Sheet2!$B:$B,$D$1*100000+$D58+Y$1)*2","v":2},{"$f":"COUNTIF(Sheet2!$B:$B,$D$1*100000+$D58+Z$1)*2","v":0},{"$f":"COUNTIF(Sheet2!$B:$B,$D$1*100000+$D58+AA$1)*2","v":0},{"$f":"COUNTIF(Sheet2!$B:$B,$D$1*100000+$D58+AB$1)*2","v":0},{"$f":"COUNTIF(Sheet2!$B:$B,$D$1*100000+$D58+AC$1)*2","v":0},{"$f":"COUNTIF(Sheet2!$B:$B,$D$1*100000+$D58+AD$1)*2","v":0},{"$f":"COUNTIF(Sheet2!$B:$B,$D$1*100000+$D58+AE$1)*2","v":0},{"$f":"COUNTIF(Sheet2!$B:$B,$D$1*100000+$D58+AF$1)*2","v":0},null,2]
[null,null,null,"2025-05-24",{"$f":"COUNTIF(Sheet2!$B:$B,$D$1*100000+$D59+F$1)*2","v":0},{"$f":"COUNTIF(Sheet2!$B:$B,$D$1*100000+$D59+G$1)*2","v":0},{"$f":"COUNTIF(Sheet2!$B:$B,$D$1*100000+$D59+H$1)*2","v":0},{"$f":"COUNTIF(Sheet2!$B:$B,$D$1*100000+$D59+I$1)*2","v":0},{"$f":"COUNTIF(Sheet2!$B:$B,$D$1*100000+$D59+J$1)*2","v":0},{"$f":"COUNTIF(Sheet2!$B:$B,$D$1*100000+$D59+K$1)*2","v":0},{"$f":"COUNTIF(Sheet2!$B:$B,$D$1*100000+$D59+L$1)*2","v":0},{"$f":"COUNTIF(Sheet2!$B:$B,$D$1*100000+$D59+M$1)*2","v":0},{"$f":"COUNTIF(Sheet2!$B:$B,$D$1*100000+$D59+N$1)*2","v":0},{"$f":"COUNTIF(Sheet2!$B:$B,$D$1*100000+$D59+O$1)*2","v":0},{"$f":"COUNTIF(Sheet2!$B:$B,$D$1*100000+$D59+P$1)*2","v":0},{"$f":"COUNTIF(Sheet2!$B:$B,$D$1*100000+$D59+Q$1)*2","v":0},{"$f":"COUNTIF(Sheet2!$B:$B,$D$1*100000+$D59+R$1)*2","v":0},{"$f":"COUNTIF(Sheet2!$B:$B,$D$1*100000+$D59+S$1)*2","v":0},{"$f":"COUNTIF(Sheet2!$B:$B,$D$1*100000+$D59+T$1)*2","v":0},{"$f":"COUNTIF(Sheet2!$B:$B,$D$1*100000+$D59+U$1)*2","v":0},{"$f":"COUNTIF(Sheet2!$B:$B,$D$1*100000+$D59+V$1)*2","v":0},{"$f":"COUNTIF(Sheet2!$B:$B,$D$1*100000+$D59+W$1)*2","v":0},{"$f":"COUNTIF(Sheet2!$B:$B,$D$1*100000+$D59+X$1)*2","v":0},{"$f":"COUNTIF(Sheet2!$B:$B,$D$1*100000+$D59+Y$1)*2","v":0},{"$f":"COUNTIF(Sheet2!$B:$B,$D$1*100000+$D59+Z$1)*2","v":0},{"$f":"COUNTIF(Sheet2!$B:$B,$D$1*100000+$D59+AA$1)*2","v":0},{"$f":"COUNTIF(Sheet2!$B:$B,$D$1*100000+$D59+AB$1)*2","v":0},{"$f":"COUNTIF(Sheet2!$B:$B,$D$1*100000+$D59+AC$1)*2","v":0},{"$f":"COUNTIF(Sheet2!$B:$B,$D$1*100000+$D59+AD$1)*2","v":0},{"$f":"COUNTIF(Sheet2!$B:$B,$D$1*100000+$D59+AE$1)*2","v":0},{"$f":"COUNTIF(Sheet2!$B:$B,$D$1*100000+$D59+AF$1)*2","v":0},null,0]
[null,null,null,"2025-05-25",{"$f":"COUNTIF(Sheet2!$B:$B,$D$1*100000+$D60+F$1)*2","v":0},{"$f":"COUNTIF(Sheet2!$B:$B,$D$1*100000+$D60+G$1)*2","v":0},{"$f":"COUNTIF(Sheet2!$B:$B,$D$1*100000+$D60+H$1)*2","v":0},{"$f":"COUNTIF(Sheet2!$B:$B,$D$1*100000+$D60+I$1)*2","v":0},{"$f":"COUNTIF(Sheet2!$B:$B,$D$1*100000+$D60+J$1)*2","v":0},{"$f":"COUNTIF(Sheet2!$B:$B,$D$1*100000+$D60+K$1)*2","v":0},{"$f":"COUNTIF(Sheet2!$B:$B,$D$1*100000+$D60+L$1)*2","v":0},{"$f":"COUNTIF(Sheet2!$B:$B,$D$1*100000+$D60+M$1)*2","v":0},{"$f":"COUNTIF(Sheet2!$B:$B,$D$1*100000+$D60+N$1)*2","v":0},{"$f":"COUNTIF(Sheet2!$B:$B,$D$1*100000+$D60+O$1)*2","v":0},{"$f":"COUNTIF(Sheet2!$B:$B,$D$1*100000+$D60+P$1)*2","v":0},{"$f":"COUNTIF(Sheet2!$B:$B,$D$1*100000+$D60+Q$1)*2","v":0},{"$f":"COUNTIF(Sheet2!$B:$B,$D$1*100000+$D60+R$1)*2","v":0},{"$f":"COUNTIF(Sheet2!$B:$B,$D$1*100000+$D60+S$1)*2","v":0},{"$f":"COUNTIF(Sheet2!$B:$B,$D$1*100000+$D60+T$1)*2","v":0},{"$f":"COUNTIF(Sheet2!$B:$B,$D$1*100000+$D60+U$1)*2","v":0},{"$f":"COUNTIF(Sheet2!$B:$B,$D$1*100000+$D60+V$1)*2","v":0},{"$f":"COUNTIF(Sheet2!$B:$B,$D$1*100000+$D60+W$1)*2","v":0},{"$f":"COUNTIF(Sheet2!$B:$B,$D$1*100000+$D60+X$1)*2","v":0},{"$f":"COUNTIF(Sheet2!$B:$B,$D$1*100000+$D60+Y$1)*2","v":0},{"$f":"COUNTIF(Sheet2!$B:$B,$D$1*100000+$D60+Z$1)*2","v":0},{"$f":"COUNTIF(Sheet2!$B:$B,$D$1*100000+$D60+AA$1)*2","v":0},{"$f":"COUNTIF(Sheet2!$B:$B,$D$1*100000+$D60+AB$1)*2","v":0},{"$f":"COUNTIF(Sheet2!$B:$B,$D$1*100000+$D60+AC$1)*2","v":0},{"$f":"COUNTIF(Sheet2!$B:$B,$D$1*100000+$D60+AD$1)*2","v":0},{"$f":"COUNTIF(Sheet2!$B:$B,$D$1*100000+$D60+AE$1)*2","v":0},{"$f":"COUNTIF(Sheet2!$B:$B,$D$1*100000+$D60+AF$1)*2","v":0},null,0]
[null,null,null,"2025-05-26",{"$f":"COUNTIF(Sheet2!$B:$B,$D$1*100000+$D61+F$1)*2","v":0},{"$f":"COUNTIF(Sheet2!$B:$B,$D$1*100000+$D61+G$1)*2","v":0},{"$f":"COUNTIF(Sheet2!$B:$B,$D$1*100000+$D61+H$1)*2","v":0},{"$f":"COUNTIF(Sheet2!$B:$B,$D$1*100000+$D61+I$1)*2","v":0},{"$f":"COUNTIF(Sheet2!$B:$B,$D$1*100000+$D61+J$1)*2","v":0},{"$f":"COUNTIF(Sheet2!$B:$B,$D$1*100000+$D61+K$1)*2","v":0},{"$f":"COUNTIF(Sheet2!$B:$B,$D$1*100000+$D61+L$1)*2","v":0},{"$f":"COUNTIF(Sheet2!$B:$B,$D$1*100000+$D61+M$1)*2","v":0},{"$f":"COUNTIF(Sheet2!$B:$B,$D$1*100000+$D61+N$1)*2","v":0},{"$f":"COUNTIF(Sheet2!$B:$B,$D$1*100000+$D61+O$1)*2","v":0},{"$f":"COUNTIF(Sheet2!$B:$B,$D$1*100000+$D61+P$1)*2","v":0},{"$f":"COUNTIF(Sheet2!$B:$B,$D$1*100000+$D61+Q$1)*2","v":0},{"$f":"COUNTIF(Sheet2!$B:$B,$D$1*100000+$D61+R$1)*2","v":0},{"$f":"COUNTIF(Sheet2!$B:$B,$D$1*100000+$D61+S$1)*2","v":0},{"$f":"COUNTIF(Sheet2!$B:$B,$D$1*100000+$D61+T$1)*2","v":0},{"$f":"COUNTIF(Sheet2!$B:$B,$D$1*100000+$D61+U$1)*2","v":0},{"$f":"COUNTIF(Sheet2!$B:$B,$D$1*100000+$D61+V$1)*2","v":0},{"$f":"COUNTIF(Sheet2!$B:$B,$D$1*100000+$D61+W$1)*2","v":0},{"$f":"COUNTIF(Sheet2!$B:$B,$D$1*100000+$D61+X$1)*2","v":0},{"$f":"COUNTIF(Sheet2!$B:$B,$D$1*100000+$D61+Y$1)*2","v":0},{"$f":"COUNTIF(Sheet2!$B:$B,$D$1*100000+$D61+Z$1)*2","v":0},{"$f":"COUNTIF(Sheet2!$B:$B,$D$1*100000+$D61+AA$1)*2","v":0},{"$f":"COUNTIF(Sheet2!$B:$B,$D$1*100000+$D61+AB$1)*2","v":0},{"$f":"COUNTIF(Sheet2!$B:$B,$D$1*100000+$D61+AC$1)*2","v":0},{"$f":"COUNTIF(Sheet2!$B:$B,$D$1*100000+$D61+AD$1)*2","v":0},{"$f":"COUNTIF(Sheet2!$B:$B,$D$1*100000+$D61+AE$1)*2","v":0},{"$f":"COUNTIF(Sheet2!$B:$B,$D$1*100000+$D61+AF$1)*2","v":0},null,0]
[null,null,null,"2025-05-27",{"$f":"COUNTIF(Sheet2!$B:$B,$D$1*100000+$D62+F$1)*2","v":0},{"$f":"COUNTIF(Sheet2!$B:$B,$D$1*100000+$D62+G$1)*2","v":0},{"$f":"COUNTIF(Sheet2!$B:$B,$D$1*100000+$D62+H$1)*2","v":0},{"$f":"COUNTIF(Sheet2!$B:$B,$D$1*100000+$D62+I$1)*2","v":0},{"$f":"COUNTIF(Sheet2!$B:$B,$D$1*100000+$D62+J$1)*2","v":0},{"$f":"COUNTIF(Sheet2!$B:$B,$D$1*100000+$D62+K$1)*2","v":0},{"$f":"COUNTIF(Sheet2!$B:$B,$D$1*100000+$D62+L$1)*2","v":0},{"$f":"COUNTIF(Sheet2!$B:$B,$D$1*100000+$D62+M$1)*2","v":0},{"$f":"COUNTIF(Sheet2!$B:$B,$D$1*100000+$D62+N$1)*2","v":0},{"$f":"COUNTIF(Sheet2!$B:$B,$D$1*100000+$D62+O$1)*2","v":0},{"$f":"COUNTIF(Sheet2!$B:$B,$D$1*100000+$D62+P$1)*2","v":0},{"$f":"COUNTIF(Sheet2!$B:$B,$D$1*100000+$D62+Q$1)*2","v":0},{"$f":"COUNTIF(Sheet2!$B:$B,$D$1*100000+$D62+R$1)*2","v":0},{"$f":"COUNTIF(Sheet2!$B:$B,$D$1*100000+$D62+S$1)*2","v":0},{"$f":"COUNTIF(Sheet2!$B:$B,$D$1*100000+$D62+T$1)*2","v":0},{"$f":"COUNTIF(Sheet2!$B:$B,$D$1*100000+$D62+U$1)*2","v":0},{"$f":"COUNTIF(Sheet2!$B:$B,$D$1*100000+$D62+V$1)*2","v":0},{"$f":"COUNTIF(Sheet2!$B:$B,$D$1*100000+$D62+W$1)*2","v":0},{"$f":"COUNTIF(Sheet2!$B:$B,$D$1*100000+$D62+X$1)*2","v":0},{"$f":"COUNTIF(Sheet2!$B:$B,$D$1*100000+$D62+Y$1)*2","v":0},{"$f":"COUNTIF(Sheet2!$B:$B,$D$1*100000+$D62+Z$1)*2","v":0},{"$f":"COUNTIF(Sheet2!$B:$B,$D$1*100000+$D62+AA$1)*2","v":0},{"$f":"COUNTIF(Sheet2!$B:$B,$D$1*100000+$D62+AB$1)*2","v":0},{"$f":"COUNTIF(Sheet2!$B:$B,$D$1*100000+$D62+AC$1)*2","v":0},{"$f":"COUNTIF(Sheet2!$B:$B,$D$1*100000+$D62+AD$1)*2","v":0},{"$f":"COUNTIF(Sheet2!$B:$B,$D$1*100000+$D62+AE$1)*2","v":0},{"$f":"COUNTIF(Sheet2!$B:$B,$D$1*100000+$D62+AF$1)*2","v":0},null,0]
[null,null,null,"2025-05-28",{"$f":"COUNTIF(Sheet2!$B:$B,$D$1*100000+$D63+F$1)*2","v":0},{"$f":"COUNTIF(Sheet2!$B:$B,$D$1*100000+$D63+G$1)*2","v":0},{"$f":"COUNTIF(Sheet2!$B:$B,$D$1*100000+$D63+H$1)*2","v":0},{"$f":"COUNTIF(Sheet2!$B:$B,$D$1*100000+$D63+I$1)*2","v":0},{"$f":"COUNTIF(Sheet2!$B:$B,$D$1*100000+$D63+J$1)*2","v":0},{"$f":"COUNTIF(Sheet2!$B:$B,$D$1*100000+$D63+K$1)*2","v":0},{"$f":"COUNTIF(Sheet2!$B:$B,$D$1*100000+$D63+L$1)*2","v":0},{"$f":"COUNTIF(Sheet2!$B:$B,$D$1*100000+$D63+M$1)*2","v":0},{"$f":"COUNTIF(Sheet2!$B:$B,$D$1*100000+$D63+N$1)*2","v":0},{"$f":"COUNTIF(Sheet2!$B:$B,$D$1*100000+$D63+O$1)*2","v":0},{"$f":"COUNTIF(Sheet2!$B:$B,$D$1*100000+$D63+P$1)*2","v":0},{"$f":"COUNTIF(Sheet2!$B:$B,$D$1*100000+$D63+Q$1)*2","v":0},{"$f":"COUNTIF(Sheet2!$B:$B,$D$1*100000+$D63+R$1)*2","v":0},{"$f":"COUNTIF(Sheet2!$B:$B,$D$1*100000+$D63+S$1)*2","v":0},{"$f":"COUNTIF(Sheet2!$B:$B,$D$1*100000+$D63+T$1)*2","v":0},{"$f":"COUNTIF(Sheet2!$B:$B,$D$1*100000+$D63+U$1)*2","v":0},{"$f":"COUNTIF(Sheet2!$B:$B,$D$1*100000+$D63+V$1)*2","v":0},{"$f":"COUNTIF(Sheet2!$B:$B,$D$1*100000+$D63+W$1)*2","v":0},{"$f":"COUNTIF(Sheet2!$B:$B,$D$1*100000+$D63+X$1)*2","v":0},{"$f":"COUNTIF(Sheet2!$B:$B,$D$1*100000+$D63+Y$1)*2","v":0},{"$f":"COUNTIF(Sheet2!$B:$B,$D$1*100000+$D63+Z$1)*2","v":0},{"$f":"COUNTIF(Sheet2!$B:$B,$D$1*100000+$D63+AA$1)*2","v":0},{"$f":"COUNTIF(Sheet2!$B:$B,$D$1*100000+$D63+AB$1)*2","v":0},{"$f":"COUNTIF(Sheet2!$B:$B,$D$1*100000+$D63+AC$1)*2","v":0},{"$f":"COUNTIF(Sheet2!$B:$B,$D$1*100000+$D63+AD$1)*2","v":0},{"$f":"COUNTIF(Sheet2!$B:$B,$D$1*100000+$D63+AE$1)*2","v":0},{"$f":"COUNTIF(Sheet2!$B:$B,$D$1*100000+$D63+AF$1)*2","v":0},null,0]

{"sheet":"Sheet3","index":3,"n_rows":16,"n_cols":6,"rows_kept":16,"cut":false,"hidden":true,"merged":[]}
[{"$f":"TODAY()","v":"2025-04-28"},{"$f":"MONTH(A1)","v":4},{"$f":"CONCATENATE(A2,\"年\",B1,\"月\")","v":"2025年4月"},"701会議室","更新日"]
[{"$f":"YEAR(A1)","v":2025},{"$f":"B1+1","v":5},{"$f":"IF(B2>12,CONCATENATE($A$3,\"年\",B2-12,\"月\"),CONCATENATE($A$2,\"年\",B2,\"月\"))","v":"2025年5月"},"702会議室","2025-04-28T15:53:33.370","現在のものです"]
[{"$f":"A2+1","v":2026},{"$f":"B2+1","v":6},{"$f":"IF(B3>12,CONCATENATE($A$3,\"年\",B3-12,\"月\"),CONCATENATE($A$2,\"年\",B3,\"月\"))","v":"2025年6月"}]
[1,7,"2025年7月","プロジェクター"]
[1,8,"2025年8月","ノートパソコン"]
[{"$f":"INDEX(B1:B12,A4)","v":4},9,"2025年9月","ＯＨＰ"]
[{"$f":"IF(A6>12,2,1)","v":1},10,"6ヶ月先","ビデオデッキ"]
[{"$f":"INDEX(A2:A3,A7)","v":2025},11,"2025年11月"]
[{"$f":"IF(A7>1,A6-12,A6)","v":4},12,"2025年12月"]
[{"$f":"170+A5","v":171},13,"2026年1月"]
[null,14,"2026年2月",null,{"$f":"MONTH(E12)","v":4}]
[{"$f":"NOW()","v":"2025-04-28T15:53:33.640"},15,"2026年3月",null,{"$f":"A1","v":"2025-04-28"}]
[null,null,null,null,{"$f":"DATE(A2,E11+A4-1,1)","v":"2025-04-01"}]
[null,null,null,null,{"$f":"IF(A4=1,E12,IF(A4>6,D15,E13))","v":"2025-04-28"}]
[null,null,null,{"$f":"DATE(A2,E11+6,D16-1)-30","v":"2025-09-27"}]
[null,null,null,{"$f":"DAY(A1)","v":28}]

{"sheet":"Sheet2","index":4,"n_rows":83,"n_cols":2,"rows_kept":83,"cut":false,"hidden":true,"merged":[]}
[145772.54166666666,145772.75]
[0,0]
[145784.625,145784.70833333334]
[0,0]
[245785.45833333334,245785.5]
[0,0]
[145786.58333333334,145786.70833333334]
[245786.70833333334,245786.75]
[145789.5,145789.66666666666]
[245789.625,245789.70833333334]
[0,0]
[245790.45833333334,245790.625]
[0,0]
[0,0]
[0,0]
[145793.375,145793.75]
[545793.375,545793.75]
[745793.375,745793.75]
[145796.375,145796.75]
[545796.375,545796.75]
[745796.375,745796.75]
[145797.375,145797.75]
[545797.375,545797.75]
[745797.375,745797.75]
[145798.45833333334,145798.625]
[0,0]
[0,0]
[245800.58333333334,245800.70833333334]
[145800.625,145800.75]
[545800.625,545800.75]
[745800.625,745800.75]
[0,0]
[0,0]
[245804.41666666666,245804.5]
[0,0]
[0,0]
[145806.58333333334,145806.75]
[0,0]
[245812.58333333334,245812.70833333334]
[145814.625,145814.70833333334]
[145817.5,145817.66666666666]
[145826.54166666666,145826.75]
[445826.54166666669,445826.75]
[545826.54166666663,545826.75]
[745826.54166666663,745826.75]
[245826.66666666666,245826.75]
[145828.5,145828.75]
[145846.58333333334,145846.77083333334]
[445846.58333333331,445846.77083333331]
[545846.58333333337,545846.77083333337]
[745846.58333333337,745846.77083333337]
[245846.58333333334,245846.77083333334]
[145852.5,145852.66666666666]
[145853.54166666666,145853.625]
[145853.625,145853.75]
[545853.625,545853.75]
[745853.625,745853.75]
[245853.625,245853.75]
[145854.58333333334,145854.70833333334]
[145855.60416666666,145855.75]
[445855.60416666669,445855.75]
[545855.60416666663,545855.75]
[745855.60416666663,745855.75]
[245855.64583333334,245855.75]
[145887.5,145887.66666666666]
[145908.5,145908.66666666666]
[245910.58333333334,245910.70833333334]
[145917.54166666666,145917.625]
[445917.54166666669,445917.625]
[545917.54166666663,545917.625]
[745917.54166666663,745917.625]
[145918.60416666666,145918.75]
[445918.60416666669,445918.75]
[545918.60416666663,545918.75]
[745918.60416666663,745918.75]
[245918.64583333334,245918.75]
[145925.45833333334,145925.625]
[245925.45833333334,245925.625]
[145944.5,145944.66666666666]
[145960.625,145960.75]
[445960.625,445960.75]
[545960.625,545960.75]
[745960.625,745960.75]

{"sheet":"Sheet3 (2)","index":5,"n_rows":37,"n_cols":12,"rows_kept":37,"cut":false,"hidden":true,"merged":[[43,7,43,8],[41,12,41,13],[43,12,43,13]]}
[{"$f":"TODAY()","v":"2025-04-28"},null,null,"祝祭日・休日","月","振替\n有:1\n無:0",{"$f":"YEAR(Sheet3!E14)","v":2025},null,null,{"$f":"COUNTIF(J2:J27,\">0\")","v":2}]
[{"$f":"YEAR(A1)","v":2025},null,null,"元日",1,0,1,{"$f":"DATE(G$1,$E2,G2)","v":"2025-01-01"},{"$f":"WEEKDAY(H2,1)","v":4},{"$f":"IF(I2*F2=1,H2+1,0)","v":"00:00:00"},{"$f":"IF(J2>0,1,0)","v":0},{"$f":"L1+K2","v":0}]
[{"$f":"MONTH(A1)","v":4},null,null,"年始休業",1,0,2,"2025-01-02",5,"00:00:00",0,0]
[{"$f":"DATE(A2,A3+4,1)","v":"2025-08-01"},null,null,"年始休業",1,0,3,"2025-01-03",6,"00:00:00",0,0]
[{"$f":"DATE(A2,A3-1,1)","v":"2025-03-01"},null,null,"成人の日",1,0,{"$f":"14-WEEKDAY(DATE($G$1,E5,0),3)","v":13},"2025-01-13",2,"00:00:00",0,0]
[{"$f":"DATE(A2,A3-1,1)","v":"2025-03-01"},null,null,"建国記念日",2,1,11,"2025-02-11",3,"00:00:00",0,0]
[{"$f":"MONTH(A6)","v":3},null,null,"春分の日",3,1,{"$f":"INT(20.8431+0.242194*(G1-1980)-INT((G1-1980)/4))","v":20},"2025-03-20",5,"00:00:00",0,0]
[null,null,null,"昭和の日",4,1,29,"2025-04-29",3,"00:00:00",0,0]
[null,null,null,"憲法記念日",5,1,3,"2025-05-03",7,{"$f":"IF(I9*F9=1,H9+3,0)","v":"00:00:00"},0,0]
[null,null,null,"緑の日",5,1,4,"2025-05-04",1,{"$f":"IF(I10*F10=1,H10+2,0)","v":"2025-05-06"},1,1]
[null,null,null,"子供の日",5,1,5,"2025-05-05",2,{"$f":"IF(I11*F11=1,H11+1,0)","v":"00:00:00"},0,1]
[null,null,null,"海の記念日",7,0,{"$f":"21-WEEKDAY(DATE($G$1,E12,0),3)","v":21},"2025-07-21",2,"00:00:00",0,1]
[null,null,null,"敬老の日",9,1,{"$f":"21-WEEKDAY(DATE($G$1,E13,0),3)","v":15},"2025-09-15",2,"00:00:00",0,1]
[null,null,null,"国民の休日",9,0,{"$f":"IF(G13+2=G15,G13+1,-1000)","v":-1000},"2022-12-05",2,"00:00:00",0,1]
[null,null,null,"秋分の日",9,1,{"$f":"INT(23.2488+0.242194*(G1-1980)-INT((G1-1980)/4))","v":23},"2025-09-23",3,"00:00:00",0,{"$f":"L13+K15","v":1}]
[null,null,null,"体育の日",10,0,{"$f":"14-WEEKDAY(DATE($G$1,E16,0),3)","v":13},"2025-10-13",2,"00:00:00",0,{"$f":"L15+K16","v":1}]
[null,null,null,"文化の日",11,1,3,"2025-11-03",2,"00:00:00",0,1]
[null,null,null,"勤労感謝の日",11,1,23,"2025-11-23",1,"2025-11-24",1,2]
[null,null,null,"天皇誕生日",12,1,23,"2025-12-23",3,"00:00:00",0,2]
[null,null,null,"年末休業",12,0,29,"2025-12-29",2,"00:00:00",0,2]
[null,null,null,"年末休業",12,0,30,"2025-12-30",3,"00:00:00",0,2]
[null,null,null,"年末休業",12,0,31,"2025-12-31",4,"00:00:00",0,2]
[]
[]
[]
[]
[null,null,null,null,null,null,null,null,null,null,null,100]
[null,null,null,"振替休日",1,{"$f":"IF(E28<$G$1+1,E28,100)","v":1},{"$f":"MATCH(F28,$L$2:$L$27,0)+1","v":10},{"$f":"INDEX($J$1:$J$27,G28)","v":"2025-05-06"}]
[null,null,null,"振替休日",2,2,18,"2025-11-24"]
[null,null,null,"振替休日",3,3,{"$error":"#N/A"},{"$error":"#N/A"}]
[null,null,null,"振替休日",4,4,{"$error":"#N/A"},{"$error":"#N/A"}]
[null,null,null,"振替休日",5,5,{"$error":"#N/A"},{"$error":"#N/A"}]
[null,null,null,"振替休日",6,6,{"$error":"#N/A"},{"$error":"#N/A"}]
[null,null,null,"振替休日",7,7,{"$error":"#N/A"},{"$error":"#N/A"}]
[null,null,null,"振替休日",8,8,{"$error":"#N/A"},{"$error":"#N/A"}]
[null,null,null,"振替休日",9,9,{"$error":"#N/A"},{"$error":"#N/A"}]
[null,null,null,"振替休日",10,10,{"$error":"#N/A"},{"$error":"#N/A"}]